BEGIN:VCALENDAR
VERSION:2.0
PRODID:-//Unity of Houston - ECPv6.13.2.1//NONSGML v1.0//EN
CALSCALE:GREGORIAN
METHOD:PUBLISH
X-ORIGINAL-URL:https://unityhouston.org
X-WR-CALDESC:Events for Unity of Houston
REFRESH-INTERVAL;VALUE=DURATION:PT1H
X-Robots-Tag:noindex
X-PUBLISHED-TTL:PT1H
BEGIN:VTIMEZONE
TZID:America/Chicago
BEGIN:DAYLIGHT
TZOFFSETFROM:-0600
TZOFFSETTO:-0500
TZNAME:CDT
DTSTART:20260308T080000
END:DAYLIGHT
BEGIN:STANDARD
TZOFFSETFROM:-0500
TZOFFSETTO:-0600
TZNAME:CST
DTSTART:20261101T070000
END:STANDARD
END:VTIMEZONE
BEGIN:VEVENT
DTSTART;TZID=America/Chicago:20260419T122000
DTEND;TZID=America/Chicago:20260419T140000
DTSTAMP:20260419T082623
CREATED:20260109T162200Z
LAST-MODIFIED:20260109T162201Z
UID:10007525-1776601200-1776607200@unityhouston.org
SUMMARY:Family Fun Day-April
DESCRIPTION:“April Showers Bring May Flowers”! Join us on April 19\, 2026\, in Wallet Hall right after the Service for our Family Fun Day Event. Our craft will have a rain shower theme\, with the meal being overseen by the Lynch family. All families (however you define a family) are invited to join us for this event. \n\n\n\nSuggested Love Offering of $20 per family or $10 per individual
URL:https://unityhouston.org/event/family-fun-day-april/
LOCATION:Unity of Houston – Wallet Hall\, 2929 Unity Drive\, Houston\, 77057\, United States
CATEGORIES:Master Calendar,Upcoming Events - On Home Page,Youth Ministry
ATTACH;FMTTYPE=image/png:https://unityhouston.org/wp-content/uploads/2026/01/FFD-April-square.png
GEO:29.7342875;-95.4990143
X-APPLE-STRUCTURED-LOCATION;VALUE=URI;X-ADDRESS=Unity of Houston – Wallet Hall 2929 Unity Drive Houston 77057 United States;X-APPLE-RADIUS=500;X-TITLE=2929 Unity Drive:geo:-95.4990143,29.7342875
END:VEVENT
END:VCALENDAR