BEGIN:VCALENDAR
VERSION:2.0
PRODID:-//Unity of Houston - ECPv6.13.2.1//NONSGML v1.0//EN
CALSCALE:GREGORIAN
METHOD:PUBLISH
X-WR-CALNAME:Unity of Houston
X-ORIGINAL-URL:https://unityhouston.org
X-WR-CALDESC:Events for Unity of Houston
REFRESH-INTERVAL;VALUE=DURATION:PT1H
X-Robots-Tag:noindex
X-PUBLISHED-TTL:PT1H
BEGIN:VTIMEZONE
TZID:America/Chicago
BEGIN:DAYLIGHT
TZOFFSETFROM:-0600
TZOFFSETTO:-0500
TZNAME:CDT
DTSTART:20260308T080000
END:DAYLIGHT
BEGIN:STANDARD
TZOFFSETFROM:-0500
TZOFFSETTO:-0600
TZNAME:CST
DTSTART:20261101T070000
END:STANDARD
END:VTIMEZONE
BEGIN:VEVENT
DTSTART;TZID=America/Chicago:20260515T170000
DTEND;TZID=America/Chicago:20260515T210000
DTSTAMP:20260421T043110
CREATED:20251112T200939Z
LAST-MODIFIED:20260212T163554Z
UID:10007395-1778864400-1778878800@unityhouston.org
SUMMARY:Parents' Night Out
DESCRIPTION:Parents\, enjoy a night out without your kids. Unity background-approved staff will supervise your kids with games\, activities\, and a movie while you enjoy your free time away from your kids\, knowing that they are in good hands. We will either have a meal of pizza or hot dogs along with a beverage and dessert. Popcorn will be available during the movie. \n\n\n\nRegister here.  \n\n\n\nCost $15 individual child or $30 for two or more children in a family.
URL:https://unityhouston.org/event/parents-night-out-7/
LOCATION:Unity of Houston – Wallet Hall\, 2929 Unity Drive\, Houston\, 77057\, United States
CATEGORIES:Master Calendar,Upcoming Events - On Home Page,Youth Ministry
ATTACH;FMTTYPE=image/jpeg:https://unityhouston.org/wp-content/uploads/2025/04/kwirx_UOH_Parents-Night-Out-1000x1000_V6-2.jpg
GEO:29.7342875;-95.4990143
X-APPLE-STRUCTURED-LOCATION;VALUE=URI;X-ADDRESS=Unity of Houston – Wallet Hall 2929 Unity Drive Houston 77057 United States;X-APPLE-RADIUS=500;X-TITLE=2929 Unity Drive:geo:-95.4990143,29.7342875
END:VEVENT
BEGIN:VEVENT
DTSTART;TZID=America/Chicago:20260517T122000
DTEND;TZID=America/Chicago:20260517T140000
DTSTAMP:20260421T043110
CREATED:20260114T180829Z
LAST-MODIFIED:20260114T180830Z
UID:10007539-1779020400-1779026400@unityhouston.org
SUMMARY:Family Fun Day-May
DESCRIPTION:“Let Your Light Shine!” Join us on May 17\, 2026\, in Wallet Hall right after the Service for our Family Fun Day Event. Our craft will be focused on ‘Shining the Light’ within each and every one of us. We also will create group crafts of blankets that will be given to our seniors. The meal will be overseen by one of our YFM families. All families (however you define a family) are invited to join us and celebrate the light within. \n\n\n\nSuggested Love Offering of $20 per family or $10 per individual
URL:https://unityhouston.org/event/family-fun-day-may/
LOCATION:Unity of Houston – Wallet Hall\, 2929 Unity Drive\, Houston\, 77057\, United States
CATEGORIES:Master Calendar,Upcoming Events - On Home Page,Youth Ministry
ATTACH;FMTTYPE=image/jpeg:https://unityhouston.org/wp-content/uploads/2022/02/Family-Fun-Day_app_600X600px-2.jpg
GEO:29.7342875;-95.4990143
X-APPLE-STRUCTURED-LOCATION;VALUE=URI;X-ADDRESS=Unity of Houston – Wallet Hall 2929 Unity Drive Houston 77057 United States;X-APPLE-RADIUS=500;X-TITLE=2929 Unity Drive:geo:-95.4990143,29.7342875
END:VEVENT
END:VCALENDAR