BEGIN:VCALENDAR
VERSION:2.0
PRODID:-//Unity of Houston - ECPv6.13.2.1//NONSGML v1.0//EN
CALSCALE:GREGORIAN
METHOD:PUBLISH
X-ORIGINAL-URL:https://unityhouston.org
X-WR-CALDESC:Events for Unity of Houston
REFRESH-INTERVAL;VALUE=DURATION:PT1H
X-Robots-Tag:noindex
X-PUBLISHED-TTL:PT1H
BEGIN:VTIMEZONE
TZID:America/Chicago
BEGIN:DAYLIGHT
TZOFFSETFROM:-0600
TZOFFSETTO:-0500
TZNAME:CDT
DTSTART:20260308T080000
END:DAYLIGHT
BEGIN:STANDARD
TZOFFSETFROM:-0500
TZOFFSETTO:-0600
TZNAME:CST
DTSTART:20261101T070000
END:STANDARD
END:VTIMEZONE
BEGIN:VEVENT
DTSTART;TZID=America/Chicago:20260308T123000
DTEND;TZID=America/Chicago:20260308T123000
DTSTAMP:20260421T042901
CREATED:20251113T181251Z
LAST-MODIFIED:20260304T194342Z
UID:10007397-1772973000-1772973000@unityhouston.org
SUMMARY:Chili Cook-Off
DESCRIPTION:The Chili-Cookoff has been postponed due to forecasted inclement weather.
URL:https://unityhouston.org/event/chili-cook-off/
CATEGORIES:Master Calendar,Speakers & Special Events,Upcoming Events - On Home Page,Youth Ministry
ATTACH;FMTTYPE=image/png:https://unityhouston.org/wp-content/uploads/2022/11/Chili-cook-off-App.png
END:VEVENT
BEGIN:VEVENT
DTSTART;TZID=America/Chicago:20260313T170000
DTEND;TZID=America/Chicago:20260313T210000
DTSTAMP:20260421T042901
CREATED:20251112T192217Z
LAST-MODIFIED:20251112T192218Z
UID:10007393-1773421200-1773435600@unityhouston.org
SUMMARY:Parents' Night Out
DESCRIPTION:Parents\, enjoy a night out without your kids. Unity background-approved staff will supervise your kids with games\, activities\, and a movie while you enjoy your free time away from your kids\, knowing that they are in good hands. We will either have a meal of pizza or hot dogs along with a beverage and dessert. Popcorn will be available during the movie. \n\n\n\nRegister here.  \n\n\n\nCost $15 individual child or $30 for two or more children in a family.
URL:https://unityhouston.org/event/parents-night-out-5/
LOCATION:Unity of Houston – Wallet Hall\, 2929 Unity Drive\, Houston\, 77057\, United States
CATEGORIES:Master Calendar,Upcoming Events - On Home Page,Youth Ministry
ATTACH;FMTTYPE=image/jpeg:https://unityhouston.org/wp-content/uploads/2025/04/kwirx_UOH_Parents-Night-Out-1000x1000_V6-2.jpg
GEO:29.7342875;-95.4990143
X-APPLE-STRUCTURED-LOCATION;VALUE=URI;X-ADDRESS=Unity of Houston – Wallet Hall 2929 Unity Drive Houston 77057 United States;X-APPLE-RADIUS=500;X-TITLE=2929 Unity Drive:geo:-95.4990143,29.7342875
END:VEVENT
BEGIN:VEVENT
DTSTART;TZID=America/Chicago:20260321T100000
DTEND;TZID=America/Chicago:20260321T130000
DTSTAMP:20260421T042901
CREATED:20251202T190537Z
LAST-MODIFIED:20251202T190628Z
UID:10007472-1774087200-1774098000@unityhouston.org
SUMMARY:Easter Egg Stuffing Party
DESCRIPTION:Our hippity-hop Easter Bunny is seeking volunteers to help stuff 4000 Easter Eggs with candy on March 21 and/or March 28. This joy filled party will take place in the Pyramid from 10 am – 1 pm with a brunch for those helping along with lots of candy (some can go in the mouth vs the egg). These candy-stuffed eggs are for our April 5th Annual Easter Eggstravaganza (350+ kids participated last year).
URL:https://unityhouston.org/event/easter-egg-stuffing-party/2026-03-21/
LOCATION:Unity of Houston – Pyramid\, 2929 Unity Drive\, Houston\, 77057\, United States
CATEGORIES:Master Calendar,Upcoming Events - On Home Page,Youth Ministry
ATTACH;FMTTYPE=image/jpeg:https://unityhouston.org/wp-content/uploads/2022/03/Easter-Eggs.jpg
GEO:29.7342875;-95.4990143
X-APPLE-STRUCTURED-LOCATION;VALUE=URI;X-ADDRESS=Unity of Houston – Pyramid 2929 Unity Drive Houston 77057 United States;X-APPLE-RADIUS=500;X-TITLE=2929 Unity Drive:geo:-95.4990143,29.7342875
END:VEVENT
BEGIN:VEVENT
DTSTART;TZID=America/Chicago:20260328T100000
DTEND;TZID=America/Chicago:20260328T130000
DTSTAMP:20260421T042901
CREATED:20251202T190537Z
LAST-MODIFIED:20251202T190628Z
UID:10007473-1774692000-1774702800@unityhouston.org
SUMMARY:Easter Egg Stuffing Party
DESCRIPTION:Our hippity-hop Easter Bunny is seeking volunteers to help stuff 4000 Easter Eggs with candy on March 21 and/or March 28. This joy filled party will take place in the Pyramid from 10 am – 1 pm with a brunch for those helping along with lots of candy (some can go in the mouth vs the egg). These candy-stuffed eggs are for our April 5th Annual Easter Eggstravaganza (350+ kids participated last year).
URL:https://unityhouston.org/event/easter-egg-stuffing-party/2026-03-28/
LOCATION:Unity of Houston – Pyramid\, 2929 Unity Drive\, Houston\, 77057\, United States
CATEGORIES:Master Calendar,Upcoming Events - On Home Page,Youth Ministry
ATTACH;FMTTYPE=image/jpeg:https://unityhouston.org/wp-content/uploads/2022/03/Easter-Eggs.jpg
GEO:29.7342875;-95.4990143
X-APPLE-STRUCTURED-LOCATION;VALUE=URI;X-ADDRESS=Unity of Houston – Pyramid 2929 Unity Drive Houston 77057 United States;X-APPLE-RADIUS=500;X-TITLE=2929 Unity Drive:geo:-95.4990143,29.7342875
END:VEVENT
END:VCALENDAR