BEGIN:VCALENDAR
VERSION:2.0
PRODID:-//Unity of Houston - ECPv6.13.2.1//NONSGML v1.0//EN
CALSCALE:GREGORIAN
METHOD:PUBLISH
X-ORIGINAL-URL:https://unityhouston.org
X-WR-CALDESC:Events for Unity of Houston
REFRESH-INTERVAL;VALUE=DURATION:PT1H
X-Robots-Tag:noindex
X-PUBLISHED-TTL:PT1H
BEGIN:VTIMEZONE
TZID:America/Chicago
BEGIN:DAYLIGHT
TZOFFSETFROM:-0600
TZOFFSETTO:-0500
TZNAME:CDT
DTSTART:20260308T080000
END:DAYLIGHT
BEGIN:STANDARD
TZOFFSETFROM:-0500
TZOFFSETTO:-0600
TZNAME:CST
DTSTART:20261101T070000
END:STANDARD
END:VTIMEZONE
BEGIN:VEVENT
DTSTART;TZID=America/Chicago:20260215T122000
DTEND;TZID=America/Chicago:20260215T140000
DTSTAMP:20260419T192135
CREATED:20251208T185337Z
LAST-MODIFIED:20260121T171112Z
UID:10007493-1771158000-1771164000@unityhouston.org
SUMMARY:Family Fun Day-February
DESCRIPTION:“Love is In the Air!” Join us on February 15\, 2026\, in Wallet Hall right after the Service for our February Family Fun Day. Our craft will have a “love” theme and will be overseen by the Sanchez family. Our meal will be overseen by the Cusack family. All families (however you define a family) are invited to join us for this lovely occasion. \n\n\n\nSuggested Love Offering of $20 per family or $10 per individual
URL:https://unityhouston.org/event/family-fun-day-february-15/
LOCATION:Unity of Houston – Wallet Hall\, 2929 Unity Drive\, Houston\, 77057\, United States
CATEGORIES:Master Calendar,Upcoming Events - On Home Page,Youth Ministry
ATTACH;FMTTYPE=image/png:https://unityhouston.org/wp-content/uploads/2025/12/FFD-Feb-2026.png
GEO:29.7342875;-95.4990143
X-APPLE-STRUCTURED-LOCATION;VALUE=URI;X-ADDRESS=Unity of Houston – Wallet Hall 2929 Unity Drive Houston 77057 United States;X-APPLE-RADIUS=500;X-TITLE=2929 Unity Drive:geo:-95.4990143,29.7342875
END:VEVENT
END:VCALENDAR