BEGIN:VCALENDAR
VERSION:2.0
PRODID:-//Unity of Houston - ECPv6.13.2.1//NONSGML v1.0//EN
CALSCALE:GREGORIAN
METHOD:PUBLISH
X-ORIGINAL-URL:https://unityhouston.org
X-WR-CALDESC:Events for Unity of Houston
REFRESH-INTERVAL;VALUE=DURATION:PT1H
X-Robots-Tag:noindex
X-PUBLISHED-TTL:PT1H
BEGIN:VTIMEZONE
TZID:America/Chicago
BEGIN:DAYLIGHT
TZOFFSETFROM:-0600
TZOFFSETTO:-0500
TZNAME:CDT
DTSTART:20250309T080000
END:DAYLIGHT
BEGIN:STANDARD
TZOFFSETFROM:-0500
TZOFFSETTO:-0600
TZNAME:CST
DTSTART:20251102T070000
END:STANDARD
END:VTIMEZONE
BEGIN:VEVENT
DTSTART;TZID=America/Chicago:20251108T120000
DTEND;TZID=America/Chicago:20251108T160000
DTSTAMP:20260419T144501
CREATED:20251016T193600Z
LAST-MODIFIED:20251016T193804Z
UID:10007323-1762603200-1762617600@unityhouston.org
SUMMARY:Teen & Preteen Fun Gathering - Lucky Stike Bowling
DESCRIPTION:Extra! Extra! Extra! A new challenge faces our Teens and Preteens. November’s Fun Gathering will be the tried\, but true\, set them up and we will knock them down\, BOWLING!!! Join us at Noon in Wallet Hall for pizza and beverages. We will then transport to Lucky Strike Bowling at 925 Bunker Hill\, Houston. Parental pickup will be at 4:00 pm in Wallet Hall. \n\n\n\n$15 per teen click here to register\n\n\n\nContact Steven at skrugler@unityhouston.org
URL:https://unityhouston.org/event/teen-preteen-fun-gathering-lucky-stike-bowling/
LOCATION:Unity of Houston- Wallet Hall\, Unity Drive\, Houston\, Texas\, 77057\, United States
CATEGORIES:Master Calendar,Upcoming Events - On Home Page,Youth Ministry
ATTACH;FMTTYPE=image/jpeg:https://unityhouston.org/wp-content/uploads/2025/10/bowling-pins-and-bowling-balls.jpg
GEO:29.7348777;-95.4989026
X-APPLE-STRUCTURED-LOCATION;VALUE=URI;X-ADDRESS=Unity of Houston- Wallet Hall Unity Drive Houston Texas 77057 United States;X-APPLE-RADIUS=500;X-TITLE=Unity Drive:geo:-95.4989026,29.7348777
END:VEVENT
BEGIN:VEVENT
DTSTART;TZID=America/Chicago:20251114T170000
DTEND;TZID=America/Chicago:20251114T210000
DTSTAMP:20260419T144501
CREATED:20250820T164510Z
LAST-MODIFIED:20250820T164511Z
UID:10007248-1763139600-1763154000@unityhouston.org
SUMMARY:Parents' Night Out - November
DESCRIPTION:Parents\, enjoy a night out without your kids. Unity background-approved staff will supervise your kids with games\, activities\, and a movie while you enjoy your free time away from your kids\, knowing that they are in good hands. We will either have a meal of pizza or hot dogs along with a beverage and dessert. Popcorn will be available during the movie. \n\n\n\nRegister here.  \n\n\n\nCost $15 individual child or $30 for two or more children in a family.
URL:https://unityhouston.org/event/parents-night-out-november/
LOCATION:Unity of Houston – Wallet Hall\, 2929 Unity Drive\, Houston\, 77057\, United States
CATEGORIES:Master Calendar,Upcoming Events - On Home Page,Youth Ministry
ATTACH;FMTTYPE=image/jpeg:https://unityhouston.org/wp-content/uploads/2025/04/kwirx_UOH_Parents-Night-Out-1000x1000_V6-2.jpg
GEO:29.7342875;-95.4990143
X-APPLE-STRUCTURED-LOCATION;VALUE=URI;X-ADDRESS=Unity of Houston – Wallet Hall 2929 Unity Drive Houston 77057 United States;X-APPLE-RADIUS=500;X-TITLE=2929 Unity Drive:geo:-95.4990143,29.7342875
END:VEVENT
BEGIN:VEVENT
DTSTART;TZID=America/Chicago:20251116T122000
DTEND;TZID=America/Chicago:20251116T140000
DTSTAMP:20260419T144501
CREATED:20250616T161116Z
LAST-MODIFIED:20250616T161159Z
UID:10006923-1763295600-1763301600@unityhouston.org
SUMMARY:Family Fun Day-November
DESCRIPTION:Join us on November 16\, 2025\, for our November Family Fun Day\, where we’ll decorate Gingerbread Houses and edible gingerbread men. This activity will be overseen by Angela Hyle and family. All families (however you define a family and whether from Unity or not) are invited to join us in Wallet Hall right after the Service for this fun activity and a delicious meal. The individual houses will be used to create a Gingerbread Village\, which will be displayed in the Lobby of the Sanctuary. Each person will also have an opportunity to decorate a gingerbread man to eat or take home. \n\n\n\nSuggesting Love Offering of $20 per family or $10 per individual
URL:https://unityhouston.org/event/family-fun-day-november/
LOCATION:Unity of Houston – Wallet Hall\, 2929 Unity Drive\, Houston\, 77057\, United States
CATEGORIES:Master Calendar,Upcoming Events - On Home Page,Youth Ministry
ATTACH;FMTTYPE=image/jpeg:https://unityhouston.org/wp-content/uploads/2024/08/kwirx_uoh_gingerbread_house.jpg
GEO:29.7342875;-95.4990143
X-APPLE-STRUCTURED-LOCATION;VALUE=URI;X-ADDRESS=Unity of Houston – Wallet Hall 2929 Unity Drive Houston 77057 United States;X-APPLE-RADIUS=500;X-TITLE=2929 Unity Drive:geo:-95.4990143,29.7342875
END:VEVENT
BEGIN:VEVENT
DTSTART;TZID=America/Chicago:20251122T090000
DTEND;TZID=America/Chicago:20251122T130000
DTSTAMP:20260419T144501
CREATED:20250820T160415Z
LAST-MODIFIED:20250820T160416Z
UID:10007245-1763802000-1763816400@unityhouston.org
SUMMARY:Youth & Family Ministry - Christmas Decorating
DESCRIPTION:Everyone is invited to join us for this festive occasion of decorating Wallet Hall and the Education Building for Christmas. We have (10) Christmas trees we will be decorating along with the halls of the building and the immediate outside area. Hot chocolate and food will be provided to keep the energy levels up.
URL:https://unityhouston.org/event/youth-family-ministry-christmas-decorating/
LOCATION:Unity of Houston – Wallet Hall\, 2929 Unity Drive\, Houston\, 77057\, United States
CATEGORIES:Master Calendar,Upcoming Events - On Home Page,Youth Ministry
ATTACH;FMTTYPE=image/jpeg:https://unityhouston.org/wp-content/uploads/2022/11/Cone-Christmas-Trees.jpg
GEO:29.7342875;-95.4990143
X-APPLE-STRUCTURED-LOCATION;VALUE=URI;X-ADDRESS=Unity of Houston – Wallet Hall 2929 Unity Drive Houston 77057 United States;X-APPLE-RADIUS=500;X-TITLE=2929 Unity Drive:geo:-95.4990143,29.7342875
END:VEVENT
END:VCALENDAR