BEGIN:VCALENDAR
VERSION:2.0
PRODID:-//Unity of Houston - ECPv6.13.2.1//NONSGML v1.0//EN
CALSCALE:GREGORIAN
METHOD:PUBLISH
X-ORIGINAL-URL:https://unityhouston.org
X-WR-CALDESC:Events for Unity of Houston
REFRESH-INTERVAL;VALUE=DURATION:PT1H
X-Robots-Tag:noindex
X-PUBLISHED-TTL:PT1H
BEGIN:VTIMEZONE
TZID:America/Chicago
BEGIN:DAYLIGHT
TZOFFSETFROM:-0600
TZOFFSETTO:-0500
TZNAME:CDT
DTSTART:20250309T080000
END:DAYLIGHT
BEGIN:STANDARD
TZOFFSETFROM:-0500
TZOFFSETTO:-0600
TZNAME:CST
DTSTART:20251102T070000
END:STANDARD
END:VTIMEZONE
BEGIN:VEVENT
DTSTART;TZID=America/Chicago:20251010T170000
DTEND;TZID=America/Chicago:20251010T210000
DTSTAMP:20260419T144016
CREATED:20250820T164232Z
LAST-MODIFIED:20250820T164311Z
UID:10007247-1760115600-1760130000@unityhouston.org
SUMMARY:Parents' Night Out - October
DESCRIPTION:Parents\, enjoy a night out without your kids. Unity background-approved staff will supervise your kids with games\, activities\, and a movie while you enjoy your free time away from your kids\, knowing that they are in good hands. We will either have a meal of pizza or hot dogs along with a beverage and dessert. Popcorn will be available during the movie. \n\n\n\nRegister here.  \n\n\n\nCost $15 individual child or $30 for two or more children in a family.
URL:https://unityhouston.org/event/parents-night-out-october/
LOCATION:Unity of Houston – Wallet Hall\, 2929 Unity Drive\, Houston\, 77057\, United States
CATEGORIES:Master Calendar,Upcoming Events - On Home Page,Youth Ministry
ATTACH;FMTTYPE=image/jpeg:https://unityhouston.org/wp-content/uploads/2025/04/kwirx_UOH_Parents-Night-Out-1000x1000_V6-2.jpg
GEO:29.7342875;-95.4990143
X-APPLE-STRUCTURED-LOCATION;VALUE=URI;X-ADDRESS=Unity of Houston – Wallet Hall 2929 Unity Drive Houston 77057 United States;X-APPLE-RADIUS=500;X-TITLE=2929 Unity Drive:geo:-95.4990143,29.7342875
END:VEVENT
BEGIN:VEVENT
DTSTART;TZID=America/Chicago:20251011T123000
DTEND;TZID=America/Chicago:20251011T160000
DTSTAMP:20260419T144016
CREATED:20250521T212308Z
LAST-MODIFIED:20250909T214444Z
UID:10006893-1760185800-1760198400@unityhouston.org
SUMMARY:Teen & Preteen Fun Gathering - Cidarcade Arcade
DESCRIPTION:Join us on October 11\, 2025\, for a fun time at Cidarcade Arcade at 2320 Canal Street in Houston. We will initially meet on Unity’s Campus in Wallet Hall at 12:30 pm for pizza\, cookies and beverages and then take a van to the Cidarcade Arcade. We will return to Unity’s campus by 3:30 pm. The cost for this event is $15 per teen which includes the Arcade fee\, pizza and transportation. \n\n\n\n$15 per child. Please register here.
URL:https://unityhouston.org/event/teen-preteen-fun-gathering-october/
LOCATION:Unity of Houston- Wallet Hall\, Unity Drive\, Houston\, Texas\, 77057\, United States
CATEGORIES:Master Calendar,Upcoming Events - On Home Page,Youth Ministry
ATTACH;FMTTYPE=image/jpeg:https://unityhouston.org/wp-content/uploads/2025/03/kwirx_UOH_Teen-Gathering_1000x1000.jpg
GEO:29.7348777;-95.4989026
X-APPLE-STRUCTURED-LOCATION;VALUE=URI;X-ADDRESS=Unity of Houston- Wallet Hall Unity Drive Houston Texas 77057 United States;X-APPLE-RADIUS=500;X-TITLE=Unity Drive:geo:-95.4989026,29.7348777
END:VEVENT
BEGIN:VEVENT
DTSTART;TZID=America/Chicago:20251019T122000
DTEND;TZID=America/Chicago:20251019T140000
DTSTAMP:20260419T144016
CREATED:20250616T160624Z
LAST-MODIFIED:20251006T203816Z
UID:10006922-1760876400-1760882400@unityhouston.org
SUMMARY:Family Fun Day-October
DESCRIPTION:Join us on October 19\, 2025\, for our October Family Fun Day. All families (however you define a family and whether from Unity or not) are invited to join us in Wallet Hall right after the Service for a “spooky” good time. Our craft activity will be overseen by the Sanchez family\, which will be decorating pumpkins as an individual activity\, along with a group activity. A delicious meal will also be provided. \n\n\n\nSuggesting Love Offering of $20 per family or $10 per individual
URL:https://unityhouston.org/event/family-fun-day-october-2/
LOCATION:Unity of Houston – Wallet Hall\, 2929 Unity Drive\, Houston\, 77057\, United States
CATEGORIES:Master Calendar,Upcoming Events - On Home Page,Youth Ministry
ATTACH;FMTTYPE=image/jpeg:https://unityhouston.org/wp-content/uploads/2023/10/Pumpkin_painted.jpg
GEO:29.7342875;-95.4990143
X-APPLE-STRUCTURED-LOCATION;VALUE=URI;X-ADDRESS=Unity of Houston – Wallet Hall 2929 Unity Drive Houston 77057 United States;X-APPLE-RADIUS=500;X-TITLE=2929 Unity Drive:geo:-95.4990143,29.7342875
END:VEVENT
BEGIN:VEVENT
DTSTART;TZID=America/Chicago:20251031T173000
DTEND;TZID=America/Chicago:20251031T193000
DTSTAMP:20260419T144016
CREATED:20241203T203236Z
LAST-MODIFIED:20251027T123634Z
UID:10005917-1761931800-1761939000@unityhouston.org
SUMMARY:YFM Trunk & Treat 2025
DESCRIPTION:Join us on October 31\, 2025\, as we host our YFM Trunk & Treat Party from 5:30 to 7:30 p.m. This party is for our Unity kids and any kids in the neighborhood. Last year\, we had close to 450 kids attend\, plus almost 300 adults sign in with their kids. We are seeking 40 cars to pass out candy/treats from the cars and volunteers to help both before\, during\, and after this event. \n\n\nSign up here for more information\, to enter your decorated car and pass out candy\, or to volunteer at the event!
URL:https://unityhouston.org/event/yfm-trunk-treat-2025/
LOCATION:Sanctuary Parking Lot\, 2929 Unity Drive\, Houston\, TX\, 77057\, United States
CATEGORIES:Master Calendar,Upcoming Events - On Home Page,Youth Ministry
ATTACH;FMTTYPE=image/png:https://unityhouston.org/wp-content/uploads/2022/10/Trunk-Treat-App-V2-1.png
GEO:29.7347952;-95.4988794
X-APPLE-STRUCTURED-LOCATION;VALUE=URI;X-ADDRESS=Sanctuary Parking Lot 2929 Unity Drive Houston TX 77057 United States;X-APPLE-RADIUS=500;X-TITLE=2929 Unity Drive:geo:-95.4988794,29.7347952
END:VEVENT
END:VCALENDAR