BEGIN:VCALENDAR
VERSION:2.0
PRODID:-//Unity of Houston - ECPv6.13.2.1//NONSGML v1.0//EN
CALSCALE:GREGORIAN
METHOD:PUBLISH
X-ORIGINAL-URL:https://unityhouston.org
X-WR-CALDESC:Events for Unity of Houston
REFRESH-INTERVAL;VALUE=DURATION:PT1H
X-Robots-Tag:noindex
X-PUBLISHED-TTL:PT1H
BEGIN:VTIMEZONE
TZID:America/Chicago
BEGIN:DAYLIGHT
TZOFFSETFROM:-0600
TZOFFSETTO:-0500
TZNAME:CDT
DTSTART:20250309T080000
END:DAYLIGHT
BEGIN:STANDARD
TZOFFSETFROM:-0500
TZOFFSETTO:-0600
TZNAME:CST
DTSTART:20251102T070000
END:STANDARD
END:VTIMEZONE
BEGIN:VEVENT
DTSTART;TZID=America/Chicago:20250801T170000
DTEND;TZID=America/Chicago:20250801T210000
DTSTAMP:20260419T113832
CREATED:20250421T165802Z
LAST-MODIFIED:20250721T161843Z
UID:10006329-1754067600-1754082000@unityhouston.org
SUMMARY:Parents' Night Out
DESCRIPTION:Parents\, enjoy a night out without your kids. Unity background-approved staff will supervise your kids with games\, activities\, and a movie while you enjoy your free time away from your kids\, knowing that they are being well taken care of. A meal of pizza or hot dogs will be provided along with a beverage and dessert. Popcorn will be available during the movie. Register before July 21 to get the Early Bird discount! \n\n\n\nRegister here.  \n\n\n\nEarly Bird Registration is $10 per child if register before July 20. After July 20\, it will be $15 per child
URL:https://unityhouston.org/event/parents-night-out/
LOCATION:Unity of Houston – Wallet Hall\, 2929 Unity Drive\, Houston\, 77057\, United States
CATEGORIES:Master Calendar,Upcoming Events - On Home Page,Youth Ministry
ATTACH;FMTTYPE=image/jpeg:https://unityhouston.org/wp-content/uploads/2025/04/kwirx_UOH_Parents-Night-Out-1000x1000_V6-2.jpg
GEO:29.7342875;-95.4990143
X-APPLE-STRUCTURED-LOCATION;VALUE=URI;X-ADDRESS=Unity of Houston – Wallet Hall 2929 Unity Drive Houston 77057 United States;X-APPLE-RADIUS=500;X-TITLE=2929 Unity Drive:geo:-95.4990143,29.7342875
END:VEVENT
BEGIN:VEVENT
DTSTART;TZID=America/Chicago:20250810T123000
DTEND;TZID=America/Chicago:20250810T143000
DTSTAMP:20260419T113832
CREATED:20250616T155716Z
LAST-MODIFIED:20250616T160000Z
UID:10006917-1754829000-1754836200@unityhouston.org
SUMMARY:Positive Relationships
DESCRIPTION:Facilitated by Sonya Donalson \n\n\n\nJoin us as we learn more effective communication skills\, how to set clear expectations and boundaries\, along with taking control of how we respond to others’ actions and words. These communication skills may be applied for all ages\, even as young as infancy.  \n\n\n\nUnity of Houston’s Positive Relationships Class is here to guide you through the steps to own your patterns of ineffective communication and to develop skills that clearly state both your expectations of someone else’s conduct as well as your personal boundaries if those expectations are not met. Positive Relationships only exist when everyone’s needs are met. They also thrive if each participant chooses to control their actions and accept responsibility for their part in any discord. You will be presented with ways you may engage in conversations that are no longer ineffective\, no longer co-dependent\, or enabling the exact opposite behavior of what you really want. This class will not provide you with techniques to change others. It will give you tools to use in your own development\, to practice positive communication with others\, and enrich your life by not giving in to requests that do not meet your expectations and boundaries. \n\n\n\nLove Offering \n\n\n\nChildcare will be available. To ensure a spot for your child\, please complete this CHILDCARE REQUEST FORM one week in advance. 
URL:https://unityhouston.org/event/positive-relationships/2025-08-10/
LOCATION:Unity of Houston – Education Building\, 2929 Unity Drive\, Houston\, 77057\, United States
CATEGORIES:Master Calendar,Upcoming Events - On Home Page,Youth Ministry
ATTACH;FMTTYPE=image/jpeg:https://unityhouston.org/wp-content/uploads/2025/06/kwirx_UOH_Positive-Relationship-1000x1000-1.jpg
GEO:29.7342875;-95.4990143
X-APPLE-STRUCTURED-LOCATION;VALUE=URI;X-ADDRESS=Unity of Houston – Education Building 2929 Unity Drive Houston 77057 United States;X-APPLE-RADIUS=500;X-TITLE=2929 Unity Drive:geo:-95.4990143,29.7342875
END:VEVENT
BEGIN:VEVENT
DTSTART;TZID=America/Chicago:20250816T123000
DTEND;TZID=America/Chicago:20250816T160000
DTSTAMP:20260419T113832
CREATED:20250521T211145Z
LAST-MODIFIED:20250521T212735Z
UID:10006892-1755347400-1755360000@unityhouston.org
SUMMARY:Teen & Preteen Fun Gathering - Escape Room Adventure
DESCRIPTION:All 6th – 12th graders are invited to join us on August 16\, 2025\, at 12:30 pm as we begin our Escape Room Event. We will initially meet in Wallet Hall for pizza\, cookies\, and beverages and then head to Loctopia Escape Room at 5326 Westlayan in Houston. We will then do the “Spellcaster Escape Room” as a group. There is a $20 per person fee\, which will also include van transportation to and from this location. \n\n\n\n$20 per child. Please register here.
URL:https://unityhouston.org/event/teen-preteen-fun-gathering-escape-room-adventure/
LOCATION:Unity of Houston- Wallet Hall\, Unity Drive\, Houston\, Texas\, 77057\, United States
CATEGORIES:Master Calendar,Upcoming Events - On Home Page,Youth Ministry
ATTACH;FMTTYPE=image/jpeg:https://unityhouston.org/wp-content/uploads/2025/03/kwirx_UOH_Teen-Gathering_1000x1000.jpg
GEO:29.7348777;-95.4989026
X-APPLE-STRUCTURED-LOCATION;VALUE=URI;X-ADDRESS=Unity of Houston- Wallet Hall Unity Drive Houston Texas 77057 United States;X-APPLE-RADIUS=500;X-TITLE=Unity Drive:geo:-95.4989026,29.7348777
END:VEVENT
BEGIN:VEVENT
DTSTART;TZID=America/Chicago:20250817T122000
DTEND;TZID=America/Chicago:20250817T140000
DTSTAMP:20260419T113832
CREATED:20250507T192548Z
LAST-MODIFIED:20250507T192549Z
UID:10006353-1755433200-1755439200@unityhouston.org
SUMMARY:Youth & Family Ministry - Open House
DESCRIPTION:Congregants are invited to join us in the Education building on August 17\, 2025\, right after the Service. As you enter the building\, you will be given a passport\, which is to be stamped at each Sunday School Classroom. This will give you the opportunity to learn more about each classroom and what is presented in each room. After all the spaces on the passport are stamped\, the participant will go to Wallet Hall and turn in the stamped passport for a free meal by Lorna Joyce.
URL:https://unityhouston.org/event/youth-family-ministry-open-house/
LOCATION:Unity of Houston – Education Building\, 2929 Unity Drive\, Houston\, 77057\, United States
CATEGORIES:Master Calendar,Upcoming Events - On Home Page,Youth Ministry
ATTACH;FMTTYPE=image/jpeg:https://unityhouston.org/wp-content/uploads/2024/08/UOH-YFM-Open-House-600x600-1.jpg
GEO:29.7342875;-95.4990143
X-APPLE-STRUCTURED-LOCATION;VALUE=URI;X-ADDRESS=Unity of Houston – Education Building 2929 Unity Drive Houston 77057 United States;X-APPLE-RADIUS=500;X-TITLE=2929 Unity Drive:geo:-95.4990143,29.7342875
END:VEVENT
END:VCALENDAR