BEGIN:VCALENDAR
VERSION:2.0
PRODID:-//Unity of Houston - ECPv6.13.2.1//NONSGML v1.0//EN
CALSCALE:GREGORIAN
METHOD:PUBLISH
X-WR-CALNAME:Unity of Houston
X-ORIGINAL-URL:https://unityhouston.org
X-WR-CALDESC:Events for Unity of Houston
REFRESH-INTERVAL;VALUE=DURATION:PT1H
X-Robots-Tag:noindex
X-PUBLISHED-TTL:PT1H
BEGIN:VTIMEZONE
TZID:America/Chicago
BEGIN:DAYLIGHT
TZOFFSETFROM:-0600
TZOFFSETTO:-0500
TZNAME:CDT
DTSTART:20250309T080000
END:DAYLIGHT
BEGIN:STANDARD
TZOFFSETFROM:-0500
TZOFFSETTO:-0600
TZNAME:CST
DTSTART:20251102T070000
END:STANDARD
END:VTIMEZONE
BEGIN:VEVENT
DTSTART;TZID=America/Chicago:20250509T180000
DTEND;TZID=America/Chicago:20250509T200000
DTSTAMP:20260419T113531
CREATED:20250409T202736Z
LAST-MODIFIED:20250414T140923Z
UID:10006319-1746813600-1746820800@unityhouston.org
SUMMARY:Loteria
DESCRIPTION:This is a free event for our Unity families and especially those families in our neighborhood. The Loteria is a Spanish version of Bingo. Prizes will be given. Food and beverages will be provided. The intent is to provide a safe environment for families to come together and have fun.
URL:https://unityhouston.org/event/loteria/
LOCATION:Unity of Houston – Pyramid\, 2929 Unity Drive\, Houston\, 77057\, United States
CATEGORIES:En Espanol,Master Calendar,Upcoming Events - On Home Page,Youth Ministry
ATTACH;FMTTYPE=image/jpeg:https://unityhouston.org/wp-content/uploads/2025/04/kwirx_UOH_LOteria-1000x1000_V1.jpg
GEO:29.7342875;-95.4990143
X-APPLE-STRUCTURED-LOCATION;VALUE=URI;X-ADDRESS=Unity of Houston – Pyramid 2929 Unity Drive Houston 77057 United States;X-APPLE-RADIUS=500;X-TITLE=2929 Unity Drive:geo:-95.4990143,29.7342875
END:VEVENT
BEGIN:VEVENT
DTSTART;TZID=America/Chicago:20250511T123000
DTEND;TZID=America/Chicago:20250511T143000
DTSTAMP:20260419T113531
CREATED:20241118T172652Z
LAST-MODIFIED:20241118T172807Z
UID:10005906-1746966600-1746973800@unityhouston.org
SUMMARY:Positive Discipline
DESCRIPTION:New Class Series sponsored by Youth & Family MinistrySecond Sunday of the month\, January through June01/12/2025\, 02/09/2025\, 03/09\,2025\, 04/13/2025\, 05/11/2025\, 06/08/2025 \nFacilitated by Sonya Donalson and Kelsie Valle\, LPC-Associates and Co-Owners\, Therapists at New Path\, New Thought LLC. \nThrough playful\, experiential activities\, we will guide parents in how to teach and support their children through their parenting. Parents will learn how to guide their children to become healthy adults with using mistakes as opportunities to teach and learn. \nLove Offering \n\nChildcare will be available. Please complete this CHILDCARE REQUEST FORM at least 1 week in advance. \n\nAbout the Presenters: \nSonya Donalson and Kelsie Valle\, LPC-Associates and Co-Owners\, Therapists at New Path\, New Thought LLC. \nBoth Sonya and Kelsie work with adults and children with specialized training in trauma (domestic violence\, sexual abuse\, childhood) and dissociation and eating disorders. \nSonya and Kelsie specialize in Play Therapy\, EMDR and Sandtray and they provide full batteries as well as individual testing and assessments for a variety of needs\, including\, but not limited to diagnostic\, accommodations\, recommendations\, and suggested interventions. Their Parenting and Positive Discipline classes include parenting\, single/co-parenting\, parenting 0-3\, parenting school age children\, parenting teens\, parenting in recovery\, and classroom discipline.
URL:https://unityhouston.org/event/positive-discipline-3/2025-05-11/
LOCATION:Education Building Room 4
CATEGORIES:__More Classes,Master Calendar,Upcoming Events - On Home Page,Youth Ministry
ATTACH;FMTTYPE=image/jpeg:https://unityhouston.org/wp-content/uploads/2024/05/UOH-Positive-Discipline-app-square.jpg
END:VEVENT
BEGIN:VEVENT
DTSTART;TZID=America/Chicago:20250517T130000
DTEND;TZID=America/Chicago:20250517T160000
DTSTAMP:20260419T113531
CREATED:20250327T185012Z
LAST-MODIFIED:20250421T161136Z
UID:10006300-1747486800-1747497600@unityhouston.org
SUMMARY:Teen & Preteen Fun Gathering - Video Game Bus
DESCRIPTION:All High School and Middle School kids are invited to join us on May 17th from 1 – 4 pm for our Teen/Preteen Fun Gathering at Unity of Houston. We initially will sign-in in WH and then move to the Video Gaming Bus for video games. We will also have a nerf gun challenge along with several other games. A light luncheon will be provided. Please contact Steven Krugler at skrugler@unityhouston.org if you have any questions. \n\n\n\n$10 per child. Please register here.
URL:https://unityhouston.org/event/teen-preteen-fun-gathering/
LOCATION:Unity of Houston – Education Building\, 2929 Unity Drive\, Houston\, 77057\, United States
CATEGORIES:Master Calendar,Upcoming Events - On Home Page,Youth Ministry
ATTACH;FMTTYPE=image/jpeg:https://unityhouston.org/wp-content/uploads/2025/03/kwirx_UOH_Teen-Gathering_1000x1000.jpg
GEO:29.7342875;-95.4990143
X-APPLE-STRUCTURED-LOCATION;VALUE=URI;X-ADDRESS=Unity of Houston – Education Building 2929 Unity Drive Houston 77057 United States;X-APPLE-RADIUS=500;X-TITLE=2929 Unity Drive:geo:-95.4990143,29.7342875
END:VEVENT
BEGIN:VEVENT
DTSTART;TZID=America/Chicago:20250518T122000
DTEND;TZID=America/Chicago:20250518T140000
DTSTAMP:20260419T113531
CREATED:20250325T191756Z
LAST-MODIFIED:20250325T191850Z
UID:10006299-1747570800-1747576800@unityhouston.org
SUMMARY:Family Fun Day-May
DESCRIPTION:All families\, however you define a family and whether a Unity family or not\, are invited to join us on May 18\, 2025\, in Wallet Hall right after the Service. Our theme will be “Cinco de Mayo” with crafts related to that theme. Our host families are the Alexander family for the crafts and the Lynch family for the meal. To help cover the costs for this event\, we are suggesting a Love Offering of $20 per family or $10 per individual. \n\n\n\nSuggesting Love Offering of $20 per family or $10 per individual
URL:https://unityhouston.org/event/yfm-family-fun-day-may/
LOCATION:Unity of Houston – Wallet Hall\, 2929 Unity Drive\, Houston\, 77057\, United States
CATEGORIES:Master Calendar,Upcoming Events - On Home Page,Youth Ministry
ATTACH;FMTTYPE=image/png:https://unityhouston.org/wp-content/uploads/2018/08/what-is-cinco-de-mayo-make.png
GEO:29.7342875;-95.4990143
X-APPLE-STRUCTURED-LOCATION;VALUE=URI;X-ADDRESS=Unity of Houston – Wallet Hall 2929 Unity Drive Houston 77057 United States;X-APPLE-RADIUS=500;X-TITLE=2929 Unity Drive:geo:-95.4990143,29.7342875
END:VEVENT
END:VCALENDAR