BEGIN:VCALENDAR
VERSION:2.0
PRODID:-//Unity of Houston - ECPv6.15.20//NONSGML v1.0//EN
CALSCALE:GREGORIAN
METHOD:PUBLISH
X-WR-CALNAME:Unity of Houston
X-ORIGINAL-URL:https://unityhouston.org
X-WR-CALDESC:Events for Unity of Houston
REFRESH-INTERVAL;VALUE=DURATION:PT1H
X-Robots-Tag:noindex
X-PUBLISHED-TTL:PT1H
BEGIN:VTIMEZONE
TZID:America/Chicago
BEGIN:DAYLIGHT
TZOFFSETFROM:-0600
TZOFFSETTO:-0500
TZNAME:CDT
DTSTART:20240310T080000
END:DAYLIGHT
BEGIN:STANDARD
TZOFFSETFROM:-0500
TZOFFSETTO:-0600
TZNAME:CST
DTSTART:20241103T070000
END:STANDARD
BEGIN:DAYLIGHT
TZOFFSETFROM:-0600
TZOFFSETTO:-0500
TZNAME:CDT
DTSTART:20250309T080000
END:DAYLIGHT
BEGIN:STANDARD
TZOFFSETFROM:-0500
TZOFFSETTO:-0600
TZNAME:CST
DTSTART:20251102T070000
END:STANDARD
BEGIN:DAYLIGHT
TZOFFSETFROM:-0600
TZOFFSETTO:-0500
TZNAME:CDT
DTSTART:20260308T080000
END:DAYLIGHT
BEGIN:STANDARD
TZOFFSETFROM:-0500
TZOFFSETTO:-0600
TZNAME:CST
DTSTART:20261101T070000
END:STANDARD
END:VTIMEZONE
BEGIN:VEVENT
DTSTART;TZID=America/Chicago:20250518T110000
DTEND;TZID=America/Chicago:20250518T120000
DTSTAMP:20260422T172057
CREATED:20250421T175439Z
LAST-MODIFIED:20250506T173447Z
UID:10006331-1747566000-1747569600@unityhouston.org
SUMMARY:11 am | Sunday Morning Service | Rev. Stacy Collins
DESCRIPTION:“The Gift of Sadness”\n\n\n\nRev. Stacy Collins \n\n\n\nSadness often arrives unasked for\, an unexpected invitation to loosen our grip—on people\, expectations\, identities.  If we have the view that  sadness is a flaw in the order of things\, we can find ourselves in resistance or denial.  We may find ourselves believing that we need to keep our sadness hidden from others.  There is another way. With spiritual awareness\, we can meet our sadness differently.   When it’s no longer treated as a burden to carry\,  sadness reveals itself as a sacred guide through life’s ever-present endings.  And\, in a most exquisite turn of events\, it becomes apparent that when we are willing to make space for sadness in community\, it lifts and comforts us all.  \n\n\n\nParents: Please sign your kids in at their classrooms\, and then take them to Wallet Hall for Pre-session activities from 10:30 – 11:00. \n\n\n\n\n\n\n\nJoin us in person or watch our livestream on the Unity of Houston app or… \n\n\n\n\nUnity of Houston home page\n\n\n\nFacebook\n\n\n\nYouTube\n\n\n\n\nYou can also visit the Media Center section of our website for previous lessons and meditations. \n\n\n\n\n\n\n\nOur Sunday morning services are open for in-person attendance and they are livestreamed. They are our most well-attended services during the week. These services incorporate an uplifting music program\, guided meditation and a positive\, thought-provoking message delivered. Our Youth & Family Ministry is open\, currently for children 18 months and older. For more information\, visit https://unityhouston.org/family-children/youth/
URL:https://unityhouston.org/event/11-am-sunday-morning-service-rev-stacy-collins-9/
LOCATION:Unity of Houston – Sanctuary and Livestream\, 2929 Unity Drive\, Houston\, Texas\, 77057\, United States
CATEGORIES:Master Calendar,Services,Sunday Service,Upcoming Events - On Home Page
ATTACH;FMTTYPE=image/jpeg:https://unityhouston.org/wp-content/uploads/2025/04/2025_0518-UH-IG.jpeg
GEO:29.7348777;-95.4989026
X-APPLE-STRUCTURED-LOCATION;VALUE=URI;X-ADDRESS=Unity of Houston – Sanctuary and Livestream 2929 Unity Drive Houston Texas 77057 United States;X-APPLE-RADIUS=500;X-TITLE=2929 Unity Drive:geo:-95.4989026,29.7348777
END:VEVENT
BEGIN:VEVENT
DTSTART;TZID=America/Chicago:20250511T110000
DTEND;TZID=America/Chicago:20250511T120000
DTSTAMP:20260422T172057
CREATED:20250421T175028Z
LAST-MODIFIED:20250421T183439Z
UID:10006330-1746961200-1746964800@unityhouston.org
SUMMARY:11 am | Sunday Morning Service | Rev. Michael Gott
DESCRIPTION:“Anger is Not a Sin“\n\n\n\nRev. Michael Gott \n\n\n\nMost of us have had negative experiences with angry people. Perhaps we ourselves have struggled with managing our anger. It can be destructive. But it can also be hugely helpful. Anger\, when not suppressed or incorrectly expressed towards others\, can be powerful energy to create good and positive change. It can help us establish and maintain healthy boundaries in our relationships. It’s okay to feel angry. It’s what we do with the feelings that determines whether it’s a force for good or for ill. \n\n\n\nParents: Please sign your kids in at their classrooms\, and then take them to Wallet Hall for Pre-session activities from 10:30 – 11:00. \n\n\n\n\n\n\n\nJoin us in person or watch our livestream on the Unity of Houston app or… \n\n\n\n\nUnity of Houston home page\n\n\n\nFacebook\n\n\n\nYouTube\n\n\n\n\nYou can also visit the Media Center section of our website for previous lessons and meditations. \n\n\n\n\n\n\n\nOur Sunday morning services are open for in-person attendance and they are livestreamed. They are our most well-attended services during the week. These services incorporate an uplifting music program\, guided meditation and a positive\, thought-provoking message delivered. Our Youth & Family Ministry is open\, currently for children 18 months and older. For more information\, visit https://unityhouston.org/family-children/youth/
URL:https://unityhouston.org/event/11-am-sunday-morning-service-rev-michael-gott-8/
LOCATION:Unity of Houston – Sanctuary and Livestream\, 2929 Unity Drive\, Houston\, Texas\, 77057\, United States
CATEGORIES:Master Calendar,Services,Sunday Service,Upcoming Events - On Home Page
ATTACH;FMTTYPE=image/jpeg:https://unityhouston.org/wp-content/uploads/2025/04/2025_0511-UH-IG.jpeg
GEO:29.7348777;-95.4989026
X-APPLE-STRUCTURED-LOCATION;VALUE=URI;X-ADDRESS=Unity of Houston – Sanctuary and Livestream 2929 Unity Drive Houston Texas 77057 United States;X-APPLE-RADIUS=500;X-TITLE=2929 Unity Drive:geo:-95.4989026,29.7348777
END:VEVENT
BEGIN:VEVENT
DTSTART;TZID=America/Chicago:20250504T110000
DTEND;TZID=America/Chicago:20250504T120000
DTSTAMP:20260422T172057
CREATED:20250421T153802Z
LAST-MODIFIED:20250421T183350Z
UID:10006328-1746356400-1746360000@unityhouston.org
SUMMARY:11 am | Sunday Morning Service | Rev. Michael Gott
DESCRIPTION:“Emotional Fluency” \n\n\n\nRev. Michael Gott \n\n\n\n“Emotions—especially the unwanted and dishonored ones—hold a tremendous amount of energy. We’ve all seen what happens when we repress or carelessly express them. Your ability to work intelligently with your emotions is a key factor in determining your overall well-being.”  \n\n\n\n                – Karla McLaren\, author of The Language of Emotions  \n\n\n\nHow can we work more consciously and productively with our emotions? How can we tap into the energy they offer without becoming overwhelmed by them? When we engage our curiosity\, we lower our resistance. Then we can become more aware of the movement of the energy\, and less likely to be come trapped or immobilized. We can become fluent in this natural language that we all possess and begin to receive its messages of wisdom and healing.  \n\n\n\nParents: Please sign your kids in at their classrooms\, and then take them to Wallet Hall for Pre-session activities from 10:30 – 11:00. \n\n\n\n\n\n\n\nJoin us in person or watch our livestream on the Unity of Houston app or… \n\n\n\n\nUnity of Houston home page\n\n\n\nFacebook\n\n\n\nYouTube\n\n\n\n\nYou can also visit the Media Center section of our website for previous lessons and meditations. \n\n\n\n\n\n\n\nOur Sunday morning services are open for in-person attendance and they are livestreamed. They are our most well-attended services during the week. These services incorporate an uplifting music program\, guided meditation and a positive\, thought-provoking message delivered. Our Youth & Family Ministry is open\, currently for children 18 months and older. For more information\, visit https://unityhouston.org/family-children/youth/
URL:https://unityhouston.org/event/11-am-sunday-morning-service-rev-michael-gott-2/
LOCATION:Unity of Houston – Sanctuary and Livestream\, 2929 Unity Drive\, Houston\, Texas\, 77057\, United States
CATEGORIES:Master Calendar,Services,Sunday Service,Upcoming Events - On Home Page
ATTACH;FMTTYPE=image/jpeg:https://unityhouston.org/wp-content/uploads/2025/04/2025_0504-UH-IG.jpeg
GEO:29.7348777;-95.4989026
X-APPLE-STRUCTURED-LOCATION;VALUE=URI;X-ADDRESS=Unity of Houston – Sanctuary and Livestream 2929 Unity Drive Houston Texas 77057 United States;X-APPLE-RADIUS=500;X-TITLE=2929 Unity Drive:geo:-95.4989026,29.7348777
END:VEVENT
BEGIN:VEVENT
DTSTART;TZID=America/Chicago:20250427T110000
DTEND;TZID=America/Chicago:20250427T120000
DTSTAMP:20260422T172057
CREATED:20250319T170240Z
LAST-MODIFIED:20250319T170325Z
UID:10006274-1745751600-1745755200@unityhouston.org
SUMMARY:11 am | Sunday Morning Service | Rev. Stacy Collins
DESCRIPTION:“Living in the Infinite” \n\n\n\nRev. Stacy Collins \n\n\n\nAre you related to something infinite or not?  Carl Jung asserted that this question- and how we respond to it- is “the telling question” of our lives.  This Sunday\, our exploration of The Three Faces of God brings us to the aspect of the Divine that is beyond.  Beyond all form\, beyond all boundaries\, and yes\, beyond human comprehension. There’s an inexplicable\, awe-inspiring\, world-shattering revelation for us here. This is the God in which we live\, move\, and have our being. Ungraspable and unseen\, it is Beingness itself. We yearn to know that we are included in it\, and it that yearning\, we touch the eternal.  \n\n\n\nParents: Please sign your kids in at their classrooms\, and then take them to Wallet Hall for Pre-session activities from 10:30 – 11:00. \n\n\n\n\n\n\n\nJoin us in person or watch our livestream on the Unity of Houston app or… \n\n\n\n\nUnity of Houston home page\n\n\n\nFacebook\n\n\n\nYouTube\n\n\n\n\nYou can also visit the Media Center section of our website for previous lessons and meditations. \n\n\n\n\n\n\n\nOur Sunday morning services are open for in-person attendance and they are livestreamed. They are our most well-attended services during the week. These services incorporate an uplifting music program\, guided meditation and a positive\, thought-provoking message delivered. Our Youth & Family Ministry is open\, currently for children 18 months and older. For more information\, visit https://unityhouston.org/family-children/youth/
URL:https://unityhouston.org/event/11-am-sunday-morning-service-rev-stacy-collins-3/
LOCATION:Unity of Houston – Sanctuary and Livestream\, 2929 Unity Drive\, Houston\, Texas\, 77057\, United States
CATEGORIES:Master Calendar,Services,Sunday Service,Upcoming Events - On Home Page
ATTACH;FMTTYPE=image/jpeg:https://unityhouston.org/wp-content/uploads/2025/03/2025_0427-Square-1.jpg
GEO:29.7348777;-95.4989026
X-APPLE-STRUCTURED-LOCATION;VALUE=URI;X-ADDRESS=Unity of Houston – Sanctuary and Livestream 2929 Unity Drive Houston Texas 77057 United States;X-APPLE-RADIUS=500;X-TITLE=2929 Unity Drive:geo:-95.4989026,29.7348777
END:VEVENT
END:VCALENDAR