BEGIN:VCALENDAR
VERSION:2.0
PRODID:-//Unity of Houston - ECPv6.13.2.1//NONSGML v1.0//EN
CALSCALE:GREGORIAN
METHOD:PUBLISH
X-WR-CALNAME:Unity of Houston
X-ORIGINAL-URL:https://unityhouston.org
X-WR-CALDESC:Events for Unity of Houston
REFRESH-INTERVAL;VALUE=DURATION:PT1H
X-Robots-Tag:noindex
X-PUBLISHED-TTL:PT1H
BEGIN:VTIMEZONE
TZID:America/Chicago
BEGIN:DAYLIGHT
TZOFFSETFROM:-0600
TZOFFSETTO:-0500
TZNAME:CDT
DTSTART:20260308T080000
END:DAYLIGHT
BEGIN:STANDARD
TZOFFSETFROM:-0500
TZOFFSETTO:-0600
TZNAME:CST
DTSTART:20261101T070000
END:STANDARD
END:VTIMEZONE
BEGIN:VEVENT
DTSTART;TZID=America/Chicago:20260426T110000
DTEND;TZID=America/Chicago:20260426T120000
DTSTAMP:20260422T090724
CREATED:20260319T185614Z
LAST-MODIFIED:20260319T185615Z
UID:10007609-1777201200-1777204800@unityhouston.org
SUMMARY:11 am | Sunday Morning Service | Rev. Michael Gott
DESCRIPTION:“The Hidden Curriculum”\n\n\n\nRev. Michael Gott \n\n\n\nMotivational speaker Tony Robbins often says\, “Life isn’t happening to you. It’s happening for you!” This mindset moves us from victimhood to empowerment. What if the difficulties of your life are not just problems to get over\, but instead contain essential lessons you need to learn to become your very best self? The stumbling block can become your stepping stone. Your mess can indeed become your message.  \n\n\n\nParents: Please sign your kids in at their classrooms\, and then take them to Wallet Hall for Pre-session activities from 10:30 – 11:00. \n\n\n\n\n\n\n\nJoin us in person or watch our livestream on the Unity of Houston app or… \n\n\n\n\nUnity of Houston home page\n\n\n\nFacebook\n\n\n\nYouTube\n\n\n\n\nYou can also visit the Media Center section of our website for previous lessons and meditations. \n\n\n\n\n\n\n\nOur Sunday morning services are open for in-person attendance and they are livestreamed. They are our most well-attended services during the week. These services incorporate an uplifting music program\, guided meditation\, and a positive\, thought-provoking message delivered. Our Youth & Family Ministry is open\, currently for children 18 months and older. For more information\, visit https://unityhouston.org/family-children/youth/
URL:https://unityhouston.org/event/11-am-sunday-morning-service-rev-michael-gott-4/
LOCATION:Unity of Houston – Sanctuary and Livestream\, 2929 Unity Drive\, Houston\, Texas\, 77057\, United States
CATEGORIES:Master Calendar,Services,Sunday Service,Upcoming Events - On Home Page
ATTACH;FMTTYPE=image/png:https://unityhouston.org/wp-content/uploads/2026/03/2026_0426-UH-IG.png
GEO:29.7348777;-95.4989026
X-APPLE-STRUCTURED-LOCATION;VALUE=URI;X-ADDRESS=Unity of Houston – Sanctuary and Livestream 2929 Unity Drive Houston Texas 77057 United States;X-APPLE-RADIUS=500;X-TITLE=2929 Unity Drive:geo:-95.4989026,29.7348777
END:VEVENT
BEGIN:VEVENT
DTSTART;TZID=America/Chicago:20260503T110000
DTEND;TZID=America/Chicago:20260503T120000
DTSTAMP:20260422T090724
CREATED:20260319T185935Z
LAST-MODIFIED:20260319T185936Z
UID:10007610-1777806000-1777809600@unityhouston.org
SUMMARY:11 am | Sunday Morning Service | Rev. Stacy Collins
DESCRIPTION:“No Other Life”\n\n\n\nRev. Stacy Collins \n\n\n\n“Our spiritual work is to break down the illusion that we have a life here and the life of God is somewhere else.”  Michael Beckwith  \n\n\n\nIn this series\, we’ve explored how the consciousness with which we meet our lives matters. When we become willing to show up authentically\, with presence and awareness\, something extraordinary happens. The illusion of separation begins to dissolve\, and the Truth that was here all along reveals itself: there has only ever been one Life\, the Life of God\, expressing in\, through\, and as you.  \n\n\n\nParents: Please sign your kids in at their classrooms\, and then take them to Wallet Hall for Pre-session activities from 10:30 – 11:00. \n\n\n\n\n\n\n\nJoin us in person or watch our livestream on the Unity of Houston app or… \n\n\n\n\nUnity of Houston home page\n\n\n\nFacebook\n\n\n\nYouTube\n\n\n\n\nYou can also visit the Media Center section of our website for previous lessons and meditations. \n\n\n\n\n\n\n\nOur Sunday morning services are open for in-person attendance and they are livestreamed. They are our most well-attended services during the week. These services incorporate an uplifting music program\, guided meditation\, and a positive\, thought-provoking message delivered. Our Youth & Family Ministry is open\, currently for children 18 months and older. For more information\, visit https://unityhouston.org/family-children/youth/
URL:https://unityhouston.org/event/11-am-sunday-morning-service-rev-stacy-collins-10/
LOCATION:Unity of Houston – Sanctuary and Livestream\, 2929 Unity Drive\, Houston\, Texas\, 77057\, United States
CATEGORIES:Master Calendar,Services,Sunday Service,Upcoming Events - On Home Page
ATTACH;FMTTYPE=image/png:https://unityhouston.org/wp-content/uploads/2026/03/2026_0503-UH-IG.png
GEO:29.7348777;-95.4989026
X-APPLE-STRUCTURED-LOCATION;VALUE=URI;X-ADDRESS=Unity of Houston – Sanctuary and Livestream 2929 Unity Drive Houston Texas 77057 United States;X-APPLE-RADIUS=500;X-TITLE=2929 Unity Drive:geo:-95.4989026,29.7348777
END:VEVENT
BEGIN:VEVENT
DTSTART;TZID=America/Chicago:20260510T110000
DTEND;TZID=America/Chicago:20260510T120000
DTSTAMP:20260422T090724
CREATED:20260420T144313Z
LAST-MODIFIED:20260420T144629Z
UID:10007664-1778410800-1778414400@unityhouston.org
SUMMARY:11 am | Sunday Morning Service | Rev. Michael Gott with Rev. Stacy Collins and Maggie Cole
DESCRIPTION:“Living Your Great Work”\n\n\n\nRev. Michael Gott with Rev. Stacy Collins and Maggie Cole \n\n\n\nIn the closing message of our Spring series\, Maggie Cole\, RScP\, and Rev. Stacy Collins sit down with Rev. Michael Gott as he shares what he’s learned about following his own calling\, and what it means to live in a way that is both deeply fulfilling and genuinely in service to others.  \n\n\n\nIf there is one life expressing through all of us\, then our “great work”  leads us to something beyond the traditional understanding of achievement and success.  Our great work invites us to become conscious participants in the life of God that is always giving\, expressing\, and revealing.    \n\n\n\nTogether\, we’ll explore what it looks like to live with that awareness\, where fulfillment and contribution are not separate\, but part of the same unfolding.  \n\n\n\nParents: Please sign your kids in at their classrooms\, and then take them to Wallet Hall for Pre-session activities from 10:30 – 11:00. \n\n\n\n\n\n\n\nJoin us in person or watch our livestream on the Unity of Houston app or… \n\n\n\n\nUnity of Houston home page\n\n\n\nFacebook\n\n\n\nYouTube\n\n\n\n\nYou can also visit the Media Center section of our website for previous lessons and meditations. \n\n\n\n\n\n\n\nOur Sunday morning services are open for in-person attendance and they are livestreamed. They are our most well-attended services during the week. These services incorporate an uplifting music program\, guided meditation\, and a positive\, thought-provoking message delivered. Our Youth & Family Ministry is open\, currently for children 18 months and older. For more information\, visit https://unityhouston.org/family-children/youth/
URL:https://unityhouston.org/event/11-am-sunday-morning-service-rev-michael-gott-with-rev-stacy-collins-and-maggie-cole/
LOCATION:Unity of Houston – Sanctuary and Livestream\, 2929 Unity Drive\, Houston\, Texas\, 77057\, United States
CATEGORIES:Master Calendar,Services,Sunday Service,Upcoming Events - On Home Page
ATTACH;FMTTYPE=image/png:https://unityhouston.org/wp-content/uploads/2026/04/2026_0510-UH-1.png
GEO:29.7348777;-95.4989026
X-APPLE-STRUCTURED-LOCATION;VALUE=URI;X-ADDRESS=Unity of Houston – Sanctuary and Livestream 2929 Unity Drive Houston Texas 77057 United States;X-APPLE-RADIUS=500;X-TITLE=2929 Unity Drive:geo:-95.4989026,29.7348777
END:VEVENT
BEGIN:VEVENT
DTSTART;TZID=America/Chicago:20260517T110000
DTEND;TZID=America/Chicago:20260517T120000
DTSTAMP:20260422T090724
CREATED:20260420T144553Z
LAST-MODIFIED:20260420T144554Z
UID:10007665-1779015600-1779019200@unityhouston.org
SUMMARY:11 am | Sunday Morning Service | Rev. Michael Gott
DESCRIPTION:“Freedom is Mine ”\n\n\n\nRev. Michael Gott  \n\n\n\n“Freedom is the birthright of every living soul.” Ernest Holmes  \n\n\n\nOur spiritual growth demonstrates in our lives as freedom. As we do the deep work of releasing our limiting beliefs and error thoughts\, we become free to express the authentic being that we are–that we are created to be. The more willing we are to change\, the more peace\, joy\, fulfillment\, and freedom we can know. Are you ready to be set free from the burdens you carry? They were never meant for you. Jesus said\, “Come to me all you who are weary and burdened and I will give you rest.” When we come home to the Christ within\, we are set free.  \n\n\n\nParents: Please sign your kids in at their classrooms\, and then take them to Wallet Hall for Pre-session activities from 10:30 – 11:00. \n\n\n\n\n\n\n\nJoin us in person or watch our livestream on the Unity of Houston app or… \n\n\n\n\nUnity of Houston home page\n\n\n\nFacebook\n\n\n\nYouTube\n\n\n\n\nYou can also visit the Media Center section of our website for previous lessons and meditations. \n\n\n\n\n\n\n\nOur Sunday morning services are open for in-person attendance and they are livestreamed. They are our most well-attended services during the week. These services incorporate an uplifting music program\, guided meditation\, and a positive\, thought-provoking message delivered. Our Youth & Family Ministry is open\, currently for children 18 months and older. For more information\, visit https://unityhouston.org/family-children/youth/
URL:https://unityhouston.org/event/11-am-sunday-morning-service-rev-michael-gott-5/
LOCATION:Unity of Houston – Sanctuary and Livestream\, 2929 Unity Drive\, Houston\, Texas\, 77057\, United States
CATEGORIES:Master Calendar,Services,Sunday Service,Upcoming Events - On Home Page
ATTACH;FMTTYPE=image/jpeg:https://unityhouston.org/wp-content/uploads/2024/09/kwirx_UOH_Sunday-Services-Rev.-Michael-Gott_1000x1000-1.jpg
GEO:29.7348777;-95.4989026
X-APPLE-STRUCTURED-LOCATION;VALUE=URI;X-ADDRESS=Unity of Houston – Sanctuary and Livestream 2929 Unity Drive Houston Texas 77057 United States;X-APPLE-RADIUS=500;X-TITLE=2929 Unity Drive:geo:-95.4989026,29.7348777
END:VEVENT
END:VCALENDAR