BEGIN:VCALENDAR
VERSION:2.0
PRODID:-//Unity of Houston - ECPv6.13.2.1//NONSGML v1.0//EN
CALSCALE:GREGORIAN
METHOD:PUBLISH
X-ORIGINAL-URL:https://unityhouston.org
X-WR-CALDESC:Events for Unity of Houston
REFRESH-INTERVAL;VALUE=DURATION:PT1H
X-Robots-Tag:noindex
X-PUBLISHED-TTL:PT1H
BEGIN:VTIMEZONE
TZID:America/Chicago
BEGIN:DAYLIGHT
TZOFFSETFROM:-0600
TZOFFSETTO:-0500
TZNAME:CDT
DTSTART:20260308T080000
END:DAYLIGHT
BEGIN:STANDARD
TZOFFSETFROM:-0500
TZOFFSETTO:-0600
TZNAME:CST
DTSTART:20261101T070000
END:STANDARD
END:VTIMEZONE
BEGIN:VEVENT
DTSTART;TZID=America/Chicago:20260301T110000
DTEND;TZID=America/Chicago:20260301T120000
DTSTAMP:20260422T090828
CREATED:20260212T213331Z
LAST-MODIFIED:20260213T173356Z
UID:10007567-1772362800-1772366400@unityhouston.org
SUMMARY:11 am | Sunday Morning Service | Rev. Michael Gott
DESCRIPTION:“How Good Can You Stand it?”\n\n\n\nRev. Michael Gott  \n\n\n\nI have come that they might have life\, and have it more abundantly. John 10:10  \n\n\n\nHow receptive are you to receive the blessings of God in your life? Are there pockets of old beliefs in unworthiness blocking the path to the life of freedom and fulfillment?  Emma Curtis Hopkins is considered the “Teacher of Teachers” in the New Thought movement. She is famous for her ability to manifest support of all kinds when required. She said\, “There is Good for me in the Universe\, and I ought to have it.” Can we feel the joy of Emma’s trust in Spirit and begin to increase our own capacity to receive and live in abundance and blessing?  \n\n\n\nParents: Please sign your kids in at their classrooms\, and then take them to Wallet Hall for Pre-session activities from 10:30 – 11:00. \n\n\n\n\n\n\n\nJoin us in person or watch our livestream on the Unity of Houston app or… \n\n\n\n\nUnity of Houston home page\n\n\n\nFacebook\n\n\n\nYouTube\n\n\n\n\nYou can also visit the Media Center section of our website for previous lessons and meditations. \n\n\n\n\n\n\n\nOur Sunday morning services are open for in-person attendance and they are livestreamed. They are our most well-attended services during the week. These services incorporate an uplifting music program\, guided meditation\, and a positive\, thought-provoking message delivered. Our Youth & Family Ministry is open\, currently for children 18 months and older. For more information\, visit https://unityhouston.org/family-children/youth/
URL:https://unityhouston.org/event/11-am-sunday-morning-service-rev-michael-gott/
LOCATION:Unity of Houston – Sanctuary and Livestream\, 2929 Unity Drive\, Houston\, Texas\, 77057\, United States
CATEGORIES:Master Calendar,Services,Sunday Service,Upcoming Events - On Home Page
ATTACH;FMTTYPE=image/jpeg:https://unityhouston.org/wp-content/uploads/2024/09/kwirx_UOH_Sunday-Services-Rev.-Michael-Gott_1000x1000-1.jpg
GEO:29.7348777;-95.4989026
X-APPLE-STRUCTURED-LOCATION;VALUE=URI;X-ADDRESS=Unity of Houston – Sanctuary and Livestream 2929 Unity Drive Houston Texas 77057 United States;X-APPLE-RADIUS=500;X-TITLE=2929 Unity Drive:geo:-95.4989026,29.7348777
END:VEVENT
BEGIN:VEVENT
DTSTART;TZID=America/Chicago:20260308T110000
DTEND;TZID=America/Chicago:20260308T120000
DTSTAMP:20260422T090828
CREATED:20260212T213719Z
LAST-MODIFIED:20260214T174430Z
UID:10007568-1772967600-1772971200@unityhouston.org
SUMMARY:11 am | Sunday Morning Service | Rev. Michael Gott
DESCRIPTION:“God is My Source”\n\n\n\nRev. Michael Gott  \n\n\n\nThe realization of the presence of God is the greatest healing agency known to the mind of man.” Ernest Holmes  \n\n\n\nUnity is a non-dual Christian tradition. What this means is that we believe that God is never absent. Richard Rohr says\, “The only thing that can separate us from God is our thought of separation.” This doesn’t mean that we don’t go through difficult times and events. It means that even in the most challenging moments in our lives\, God is with us and within us\, ready to reveal new and greater possibilities. By attuning our consciousness to the presence of God\, we draw into our experience transformation and healing.    \n\n\n\nParents: Please sign your kids in at their classrooms\, and then take them to Wallet Hall for Pre-session activities from 10:30 – 11:00. \n\n\n\n\n\n\n\nJoin us in person or watch our livestream on the Unity of Houston app or… \n\n\n\n\nUnity of Houston home page\n\n\n\nFacebook\n\n\n\nYouTube\n\n\n\n\nYou can also visit the Media Center section of our website for previous lessons and meditations. \n\n\n\n\n\n\n\nOur Sunday morning services are open for in-person attendance and they are livestreamed. They are our most well-attended services during the week. These services incorporate an uplifting music program\, guided meditation\, and a positive\, thought-provoking message delivered. Our Youth & Family Ministry is open\, currently for children 18 months and older. For more information\, visit https://unityhouston.org/family-children/youth/
URL:https://unityhouston.org/event/11-am-sunday-morning-service-rev-michael-gott-26/
LOCATION:Unity of Houston – Sanctuary and Livestream\, 2929 Unity Drive\, Houston\, Texas\, 77057\, United States
CATEGORIES:Master Calendar,Services,Sunday Service,Upcoming Events - On Home Page
ATTACH;FMTTYPE=image/jpeg:https://unityhouston.org/wp-content/uploads/2024/09/kwirx_UOH_Sunday-Services-Rev.-Michael-Gott_1000x1000-1.jpg
GEO:29.7348777;-95.4989026
X-APPLE-STRUCTURED-LOCATION;VALUE=URI;X-ADDRESS=Unity of Houston – Sanctuary and Livestream 2929 Unity Drive Houston Texas 77057 United States;X-APPLE-RADIUS=500;X-TITLE=2929 Unity Drive:geo:-95.4989026,29.7348777
END:VEVENT
BEGIN:VEVENT
DTSTART;TZID=America/Chicago:20260315T110000
DTEND;TZID=America/Chicago:20260315T120000
DTSTAMP:20260422T090828
CREATED:20260212T213855Z
LAST-MODIFIED:20260213T173519Z
UID:10007569-1773572400-1773576000@unityhouston.org
SUMMARY:11 am | Sunday Morning Service | Rev. Michael Gott
DESCRIPTION:“Walking By Faith”\n\n\n\nRev. Michael Gott  \n\n\n\nThe opposite of faith is not doubt\, but certainty.” Anne LaMott  \n\n\n\nTo live a life of faith does not mean that we know what is going to happen. It means that we know no matter what happens\, God is here. Faith has the power to light our path in darkness\, but we can never see the whole journey. And all we need is enough light to take the next step. If we just keep moving forward in faith\, good things will happen. And the more experience we have of walking by faith\, the more our faith grows\, the easier it becomes to trust that we are held and cared for by an infinitely loving Presence and Power.  \n\n\n\nParents: Please sign your kids in at their classrooms\, and then take them to Wallet Hall for Pre-session activities from 10:30 – 11:00. \n\n\n\n\n\n\n\nJoin us in person or watch our livestream on the Unity of Houston app or… \n\n\n\n\nUnity of Houston home page\n\n\n\nFacebook\n\n\n\nYouTube\n\n\n\n\nYou can also visit the Media Center section of our website for previous lessons and meditations. \n\n\n\n\n\n\n\nOur Sunday morning services are open for in-person attendance and they are livestreamed. They are our most well-attended services during the week. These services incorporate an uplifting music program\, guided meditation\, and a positive\, thought-provoking message delivered. Our Youth & Family Ministry is open\, currently for children 18 months and older. For more information\, visit https://unityhouston.org/family-children/youth/
URL:https://unityhouston.org/event/11-am-sunday-morning-service-rev-michael-gott-27/
LOCATION:Unity of Houston – Sanctuary and Livestream\, 2929 Unity Drive\, Houston\, Texas\, 77057\, United States
CATEGORIES:Master Calendar,Services,Sunday Service,Upcoming Events - On Home Page
ATTACH;FMTTYPE=image/jpeg:https://unityhouston.org/wp-content/uploads/2024/09/kwirx_UOH_Sunday-Services-Rev.-Michael-Gott_1000x1000-1.jpg
GEO:29.7348777;-95.4989026
X-APPLE-STRUCTURED-LOCATION;VALUE=URI;X-ADDRESS=Unity of Houston – Sanctuary and Livestream 2929 Unity Drive Houston Texas 77057 United States;X-APPLE-RADIUS=500;X-TITLE=2929 Unity Drive:geo:-95.4989026,29.7348777
END:VEVENT
BEGIN:VEVENT
DTSTART;TZID=America/Chicago:20260322T110000
DTEND;TZID=America/Chicago:20260322T120000
DTSTAMP:20260422T090828
CREATED:20260305T165643Z
LAST-MODIFIED:20260305T165711Z
UID:10007597-1774177200-1774180800@unityhouston.org
SUMMARY:11 am | Sunday Morning Service | Rev. Shirley Knight
DESCRIPTION:“Voices of Unity”\n\n\n\nRev. Shirley Knight \n\n\n\nIn Unity we focus on aligning with the Divine\, choosing effective thoughts\, and embodying affirmative prayer. These practical tools help us transform ourselves and the world.  One of Unity’s foundational texts is The Revealing Word. In it\, we find metaphysical\, New-Thought distinctions for concepts such as faith\, heaven\, sin\, resurrection\, and prayer.  The book was compiled and edited by Cora Fillmore\, a minister and writer whose contributions were critical to preserving and expanding Unity teachings. As we celebrate Women’s History Month\, we remember voices of Unity who continue to inspire us today.    \n\n\n\nParents: Please sign your kids in at their classrooms\, and then take them to Wallet Hall for Pre-session activities from 10:30 – 11:00. \n\n\n\n\n\n\n\nJoin us in person or watch our livestream on the Unity of Houston app or… \n\n\n\n\nUnity of Houston home page\n\n\n\nFacebook\n\n\n\nYouTube\n\n\n\n\nYou can also visit the Media Center section of our website for previous lessons and meditations. \n\n\n\n\n\n\n\nOur Sunday morning services are open for in-person attendance and they are livestreamed. They are our most well-attended services during the week. These services incorporate an uplifting music program\, guided meditation\, and a positive\, thought-provoking message delivered. Our Youth & Family Ministry is open\, currently for children 18 months and older. For more information\, visit https://unityhouston.org/family-children/youth/
URL:https://unityhouston.org/event/11-am-sunday-morning-service-rev-shirley-knight-2/
LOCATION:Unity of Houston – Sanctuary and Livestream\, 2929 Unity Drive\, Houston\, Texas\, 77057\, United States
CATEGORIES:Master Calendar,Services,Sunday Service,Upcoming Events - On Home Page
ATTACH;FMTTYPE=image/jpeg:https://unityhouston.org/wp-content/uploads/2024/04/UOH-Sunday-Services-Rev-Shirley-Knight-App.jpg
GEO:29.7348777;-95.4989026
X-APPLE-STRUCTURED-LOCATION;VALUE=URI;X-ADDRESS=Unity of Houston – Sanctuary and Livestream 2929 Unity Drive Houston Texas 77057 United States;X-APPLE-RADIUS=500;X-TITLE=2929 Unity Drive:geo:-95.4989026,29.7348777
END:VEVENT
BEGIN:VEVENT
DTSTART;TZID=America/Chicago:20260329T110000
DTEND;TZID=America/Chicago:20260329T120000
DTSTAMP:20260422T090828
CREATED:20260213T180128Z
LAST-MODIFIED:20260213T180129Z
UID:10007570-1774782000-1774785600@unityhouston.org
SUMMARY:11 am | Sunday Morning Service | Rev. Michael Gott
DESCRIPTION:“Everything is Holy Now”\n\n\n\nRev. Michael Gott  \n\n\n\nAnd we know that all things work together for the good of them that love God and are called according to His purpose.Romans 8:28  \n\n\n\nSomeone once said\, “God is frugal.” What this means is that Spirit uses everything! No part of our journey is excluded in our story of healing and wholeness. It often takes time to see it\, but if we are committed to living by this principle\, we will come to know that there is a seed of the sacred in every experience. If we are willing to become open and curious\, we can turn our doubt and uncertainty into what Thomas Troward called\, “a mental and spiritual space of cheerful expectancy.”  \n\n\n\nParents: Please sign your kids in at their classrooms\, and then take them to Wallet Hall for Pre-session activities from 10:30 – 11:00. \n\n\n\n\n\n\n\nJoin us in person or watch our livestream on the Unity of Houston app or… \n\n\n\n\nUnity of Houston home page\n\n\n\nFacebook\n\n\n\nYouTube\n\n\n\n\nYou can also visit the Media Center section of our website for previous lessons and meditations. \n\n\n\n\n\n\n\nOur Sunday morning services are open for in-person attendance and they are livestreamed. They are our most well-attended services during the week. These services incorporate an uplifting music program\, guided meditation\, and a positive\, thought-provoking message delivered. Our Youth & Family Ministry is open\, currently for children 18 months and older. For more information\, visit https://unityhouston.org/family-children/youth/
URL:https://unityhouston.org/event/11-am-sunday-morning-service-rev-michael-gott-28/
LOCATION:Unity of Houston – Sanctuary and Livestream\, 2929 Unity Drive\, Houston\, Texas\, 77057\, United States
CATEGORIES:Master Calendar,Services,Sunday Service,Upcoming Events - On Home Page
ATTACH;FMTTYPE=image/jpeg:https://unityhouston.org/wp-content/uploads/2024/09/kwirx_UOH_Sunday-Services-Rev.-Michael-Gott_1000x1000-1.jpg
GEO:29.7348777;-95.4989026
X-APPLE-STRUCTURED-LOCATION;VALUE=URI;X-ADDRESS=Unity of Houston – Sanctuary and Livestream 2929 Unity Drive Houston Texas 77057 United States;X-APPLE-RADIUS=500;X-TITLE=2929 Unity Drive:geo:-95.4989026,29.7348777
END:VEVENT
END:VCALENDAR