BEGIN:VCALENDAR
VERSION:2.0
PRODID:-//Unity of Houston - ECPv6.13.2.1//NONSGML v1.0//EN
CALSCALE:GREGORIAN
METHOD:PUBLISH
X-WR-CALNAME:Unity of Houston
X-ORIGINAL-URL:https://unityhouston.org
X-WR-CALDESC:Events for Unity of Houston
REFRESH-INTERVAL;VALUE=DURATION:PT1H
X-Robots-Tag:noindex
X-PUBLISHED-TTL:PT1H
BEGIN:VTIMEZONE
TZID:America/Chicago
BEGIN:DAYLIGHT
TZOFFSETFROM:-0600
TZOFFSETTO:-0500
TZNAME:CDT
DTSTART:20260308T080000
END:DAYLIGHT
BEGIN:STANDARD
TZOFFSETFROM:-0500
TZOFFSETTO:-0600
TZNAME:CST
DTSTART:20261101T070000
END:STANDARD
END:VTIMEZONE
BEGIN:VEVENT
DTSTART;TZID=America/Chicago:20260201T110000
DTEND;TZID=America/Chicago:20260201T120000
DTSTAMP:20260422T103953
CREATED:20260120T183829Z
LAST-MODIFIED:20260120T190657Z
UID:10007545-1769943600-1769947200@unityhouston.org
SUMMARY:11 am | Sunday Morning Service | Rev. Michael Gott
DESCRIPTION:“Honoring Our Journey”\n\n\n\nRev. Michael Gott  \n\n\n\nThe spiritual path is an eternally evolving one. If God is infinite\, then there is no end to our discovery\, our possibility\, and our becoming. As we honor Black History this month\, we look at both the triumphant and the terrible chapters.  Being willing to acknowledge and honor all parts of our collective and individual past frees us to keep growing\, keep healing\, keep revealing our divine destiny.  \n\n\n\nParents: Please sign your kids in at their classrooms\, and then take them to Wallet Hall for Pre-session activities from 10:30 – 11:00. \n\n\n\n\n\n\n\nJoin us in person or watch our livestream on the Unity of Houston app or… \n\n\n\n\nUnity of Houston home page\n\n\n\nFacebook\n\n\n\nYouTube\n\n\n\n\nYou can also visit the Media Center section of our website for previous lessons and meditations. \n\n\n\n\n\n\n\nOur Sunday morning services are open for in-person attendance and they are livestreamed. They are our most well-attended services during the week. These services incorporate an uplifting music program\, guided meditation\, and a positive\, thought-provoking message delivered. Our Youth & Family Ministry is open\, currently for children 18 months and older. For more information\, visit https://unityhouston.org/family-children/youth/
URL:https://unityhouston.org/event/11-am-sunday-morning-service-rev-michael-gott-17/
LOCATION:Unity of Houston – Sanctuary and Livestream\, 2929 Unity Drive\, Houston\, Texas\, 77057\, United States
CATEGORIES:Master Calendar,Services,Sunday Service,Upcoming Events - On Home Page
ATTACH;FMTTYPE=image/jpeg:https://unityhouston.org/wp-content/uploads/2024/09/kwirx_UOH_Sunday-Services-Rev.-Michael-Gott_1000x1000-1.jpg
GEO:29.7348777;-95.4989026
X-APPLE-STRUCTURED-LOCATION;VALUE=URI;X-ADDRESS=Unity of Houston – Sanctuary and Livestream 2929 Unity Drive Houston Texas 77057 United States;X-APPLE-RADIUS=500;X-TITLE=2929 Unity Drive:geo:-95.4989026,29.7348777
END:VEVENT
BEGIN:VEVENT
DTSTART;TZID=America/Chicago:20260208T110000
DTEND;TZID=America/Chicago:20260208T120000
DTSTAMP:20260422T103953
CREATED:20260121T182406Z
LAST-MODIFIED:20260205T193052Z
UID:10007549-1770548400-1770552000@unityhouston.org
SUMMARY:11 am | Sunday Morning Service | Rev. Ann Lister
DESCRIPTION:“The Strength to Love”\n\n\n\nRev. Ann Lister \n\n\n\n“The Strength to Love\,” which is based on the book written by Martin Luther King\, Jr. in 1963. The theme\, of course\, is about love\, which Dr. King maintains is what will transform our country and our world. Dr. King asserts that “selfless and unconditional love is the strongest force available to humanity.” This love seeks the good of others\, even those who don’t appear or seem to be “loving.” Love has the power to literally turn the world around\, but humanity must first develop moral character\, develop spiritual discipline\, and transformation.  \n\n\n\nParents: Please sign your kids in at their classrooms\, and then take them to Wallet Hall for Pre-session activities from 10:30 – 11:00. \n\n\n\n\n\n\n\nJoin us in person or watch our livestream on the Unity of Houston app or… \n\n\n\n\nUnity of Houston home page\n\n\n\nFacebook\n\n\n\nYouTube\n\n\n\n\nYou can also visit the Media Center section of our website for previous lessons and meditations. \n\n\n\n\n\n\n\nOur Sunday morning services are open for in-person attendance and they are livestreamed. They are our most well-attended services during the week. These services incorporate an uplifting music program\, guided meditation\, and a positive\, thought-provoking message delivered. Our Youth & Family Ministry is open\, currently for children 18 months and older. For more information\, visit https://unityhouston.org/family-children/youth/
URL:https://unityhouston.org/event/11-am-sunday-morning-service-rev-ann-lister/
LOCATION:Unity of Houston – Sanctuary and Livestream\, 2929 Unity Drive\, Houston\, Texas\, 77057\, United States
CATEGORIES:Master Calendar,Services,Sunday Service,Upcoming Events - On Home Page
ATTACH;FMTTYPE=image/jpeg:https://unityhouston.org/wp-content/uploads/2026/01/kwirx_UOH_Sunday-Services-Rev-Ann-Lister_1000x1000-1.jpg
GEO:29.7348777;-95.4989026
X-APPLE-STRUCTURED-LOCATION;VALUE=URI;X-ADDRESS=Unity of Houston – Sanctuary and Livestream 2929 Unity Drive Houston Texas 77057 United States;X-APPLE-RADIUS=500;X-TITLE=2929 Unity Drive:geo:-95.4989026,29.7348777
END:VEVENT
BEGIN:VEVENT
DTSTART;TZID=America/Chicago:20260215T110000
DTEND;TZID=America/Chicago:20260215T120000
DTSTAMP:20260422T103953
CREATED:20260120T190616Z
LAST-MODIFIED:20260120T190618Z
UID:10007546-1771153200-1771156800@unityhouston.org
SUMMARY:11 am | Sunday Morning Service | Rev. Michael Gott
DESCRIPTION:“The Gifts of Diversity”\n\n\n\nRev. Michael Gott  \n\n\n\nWe create a spiritual home for all people Knowing that we are one body And that we belong to each other  Unity of Houston’s Belonging Statement  Ralph Waldo Emerson says\, “Imitation is suicide” meaning we are all uniquely created and equipped to bring some unique gift to life that can come through no other channel. When we are unwilling to bring that uniqueness into expression\, it’s a kind of death to the greater possibility of God’s wholeness expressing as humanity. There is a deep mystery here in that we both all the same—each of us expressing the same Spirit; and we are all different—we have unique and necessary gifts to offer\, both as individuals and groups. At Unity we honor this diversity and see it as one of our greatest treasures.  \n\n\n\nParents: Please sign your kids in at their classrooms\, and then take them to Wallet Hall for Pre-session activities from 10:30 – 11:00. \n\n\n\n\n\n\n\nJoin us in person or watch our livestream on the Unity of Houston app or… \n\n\n\n\nUnity of Houston home page\n\n\n\nFacebook\n\n\n\nYouTube\n\n\n\n\nYou can also visit the Media Center section of our website for previous lessons and meditations. \n\n\n\n\n\n\n\nOur Sunday morning services are open for in-person attendance and they are livestreamed. They are our most well-attended services during the week. These services incorporate an uplifting music program\, guided meditation\, and a positive\, thought-provoking message delivered. Our Youth & Family Ministry is open\, currently for children 18 months and older. For more information\, visit https://unityhouston.org/family-children/youth/
URL:https://unityhouston.org/event/11-am-sunday-morning-service-rev-michael-gott-25/
LOCATION:Unity of Houston – Sanctuary and Livestream\, 2929 Unity Drive\, Houston\, Texas\, 77057\, United States
CATEGORIES:Master Calendar,Services,Sunday Service,Upcoming Events - On Home Page
ATTACH;FMTTYPE=image/jpeg:https://unityhouston.org/wp-content/uploads/2024/09/kwirx_UOH_Sunday-Services-Rev.-Michael-Gott_1000x1000-1.jpg
GEO:29.7348777;-95.4989026
X-APPLE-STRUCTURED-LOCATION;VALUE=URI;X-ADDRESS=Unity of Houston – Sanctuary and Livestream 2929 Unity Drive Houston Texas 77057 United States;X-APPLE-RADIUS=500;X-TITLE=2929 Unity Drive:geo:-95.4989026,29.7348777
END:VEVENT
BEGIN:VEVENT
DTSTART;TZID=America/Chicago:20260222T110000
DTEND;TZID=America/Chicago:20260222T120000
DTSTAMP:20260422T103953
CREATED:20260120T194054Z
LAST-MODIFIED:20260121T214436Z
UID:10007547-1771758000-1771761600@unityhouston.org
SUMMARY:11 am | Sunday Morning Service | Ester Nicholson
DESCRIPTION:“The Roadmap Home to Your Authentic Self”\n\n\n\nEster Nicholson \n\n\n\nThe Roadmap Home to Your Authentic Self speaks to the quiet longing beneath all healing work—the desire to belong without performing and to be whole without explanation. In this Black History Month offering\, Ester Nicholson honors both collective history and personal story while pointing to a deeper spiritual truth: the self God created was never broken\, only obscured. This talk offers a gentle\, grounded pathway back to that inner knowing\, where identity is no longer shaped by trauma\, otherness\, or survival. Healing separation—within ourselves and between one another—begins with remembrance. This is not self-improvement; it is spiritual restoration and a return home.  \n\n\n\n\nJoin us for an inspiring Sunday Service\, featuring the Unity Choir under the direction of Tony Glover\, presenting “Lifting Our Voices In Song”.  Join us as we welcome back The Phillip Hall Singers and our friend and guest conductor\, Stephanie Bland\, for a collaborative musical celebration of the 100th anniversary of national Black history commemorations.  \n\n\n\nA reception in the lobby after the service. \n\n\n\n\n \n\n\n\nParents: Please sign your kids in at their classrooms\, and then take them to Wallet Hall for Pre-session activities from 10:30 – 11:00. \n\n\n\n\n\n\n\nJoin us in person or watch our livestream on the Unity of Houston app or… \n\n\n\n\nUnity of Houston home page\n\n\n\nFacebook\n\n\n\nYouTube\n\n\n\n\nYou can also visit the Media Center section of our website for previous lessons and meditations. \n\n\n\n\n\n\n\nOur Sunday morning services are open for in-person attendance and they are livestreamed. They are our most well-attended services during the week. These services incorporate an uplifting music program\, guided meditation\, and a positive\, thought-provoking message delivered. Our Youth & Family Ministry is open\, currently for children 18 months and older. For more information\, visit https://unityhouston.org/family-children/youth/
URL:https://unityhouston.org/event/11-am-sunday-morning-service-ester-nicholson/
LOCATION:Unity of Houston – Sanctuary and Livestream\, 2929 Unity Drive\, Houston\, Texas\, 77057\, United States
CATEGORIES:Master Calendar,Services,Sunday Service,Upcoming Events - On Home Page
ATTACH;FMTTYPE=image/jpeg:https://unityhouston.org/wp-content/uploads/2026/01/UOH-Sunday-Services-Ester-Nicholson-app.jpg
GEO:29.7348777;-95.4989026
X-APPLE-STRUCTURED-LOCATION;VALUE=URI;X-ADDRESS=Unity of Houston – Sanctuary and Livestream 2929 Unity Drive Houston Texas 77057 United States;X-APPLE-RADIUS=500;X-TITLE=2929 Unity Drive:geo:-95.4989026,29.7348777
END:VEVENT
END:VCALENDAR