BEGIN:VCALENDAR
VERSION:2.0
PRODID:-//Unity of Houston - ECPv6.15.20//NONSGML v1.0//EN
CALSCALE:GREGORIAN
METHOD:PUBLISH
X-WR-CALNAME:Unity of Houston
X-ORIGINAL-URL:https://unityhouston.org
X-WR-CALDESC:Events for Unity of Houston
REFRESH-INTERVAL;VALUE=DURATION:PT1H
X-Robots-Tag:noindex
X-PUBLISHED-TTL:PT1H
BEGIN:VTIMEZONE
TZID:America/Chicago
BEGIN:DAYLIGHT
TZOFFSETFROM:-0600
TZOFFSETTO:-0500
TZNAME:CDT
DTSTART:20250309T080000
END:DAYLIGHT
BEGIN:STANDARD
TZOFFSETFROM:-0500
TZOFFSETTO:-0600
TZNAME:CST
DTSTART:20251102T070000
END:STANDARD
BEGIN:DAYLIGHT
TZOFFSETFROM:-0600
TZOFFSETTO:-0500
TZNAME:CDT
DTSTART:20260308T080000
END:DAYLIGHT
BEGIN:STANDARD
TZOFFSETFROM:-0500
TZOFFSETTO:-0600
TZNAME:CST
DTSTART:20261101T070000
END:STANDARD
BEGIN:DAYLIGHT
TZOFFSETFROM:-0600
TZOFFSETTO:-0500
TZNAME:CDT
DTSTART:20270314T080000
END:DAYLIGHT
BEGIN:STANDARD
TZOFFSETFROM:-0500
TZOFFSETTO:-0600
TZNAME:CST
DTSTART:20271107T070000
END:STANDARD
END:VTIMEZONE
BEGIN:VEVENT
DTSTART;TZID=America/Chicago:20260104T110000
DTEND;TZID=America/Chicago:20260104T120000
DTSTAMP:20260422T131243
CREATED:20251217T211641Z
LAST-MODIFIED:20251223T015357Z
UID:10007511-1767524400-1767528000@unityhouston.org
SUMMARY:11 am | Sunday Morning Service | Rev. Micheal Gott
DESCRIPTION:“There is Only One”\n\n\n\nRev. Michael Gott \n\n\n\nPrinciple One God is the source and creator: “There is only one presence and power (God)\, active everywhere\, and God is good.”  \n\n\n\n Principle Two We are inherently divine: “Human beings are spiritual beings\, created in God’s image\, with the spirit of God within\, making us inherently good. ”  \n\n\n\nThese first two principles point to our most important theological and philosophical understanding: Oneness. Our non-dual worldview means that Unity occupies a unique place in the household of Christianity. This way of understanding reality is usually associated with the Eastern traditions of Buddhism and Hinduism.  So much of the teaching of Jesus aligns with this perspective: “It is not me that does the work\, but the Father within” and “The kingdom of God is within you.”  \n\n\n\n When we live these principles\, we know that we are infinitely loved and supported by Spirit. And we see others differently. In truth\, they are no longer “other.” They reflect back to us the face of God.  \n\n\n\nParents: Please sign your kids in at their classrooms\, and then take them to Wallet Hall for Pre-session activities from 10:30 – 11:00. \n\n\n\n\n\n\n\nJoin us in person or watch our livestream on the Unity of Houston app or… \n\n\n\n\nUnity of Houston home page\n\n\n\nFacebook\n\n\n\nYouTube\n\n\n\n\nYou can also visit the Media Center section of our website for previous lessons and meditations. \n\n\n\n\n\n\n\nOur Sunday morning services are open for in-person attendance and they are livestreamed. They are our most well-attended services during the week. These services incorporate an uplifting music program\, guided meditation\, and a positive\, thought-provoking message delivered. Our Youth & Family Ministry is open\, currently for children 18 months and older. For more information\, visit https://unityhouston.org/family-children/youth/
URL:https://unityhouston.org/event/11-am-sunday-morning-service-rev-micheal-gott/
LOCATION:Unity of Houston – Sanctuary and Livestream\, 2929 Unity Drive\, Houston\, Texas\, 77057\, United States
CATEGORIES:Master Calendar,Services,Sunday Service,Upcoming Events - On Home Page
ATTACH;FMTTYPE=image/png:https://unityhouston.org/wp-content/uploads/2025/12/2026_0104-UH.png
GEO:29.7348777;-95.4989026
X-APPLE-STRUCTURED-LOCATION;VALUE=URI;X-ADDRESS=Unity of Houston – Sanctuary and Livestream 2929 Unity Drive Houston Texas 77057 United States;X-APPLE-RADIUS=500;X-TITLE=2929 Unity Drive:geo:-95.4989026,29.7348777
END:VEVENT
BEGIN:VEVENT
DTSTART;TZID=America/Chicago:20260111T110000
DTEND;TZID=America/Chicago:20260111T120000
DTSTAMP:20260422T131243
CREATED:20251217T212249Z
LAST-MODIFIED:20251223T015542Z
UID:10007512-1768129200-1768132800@unityhouston.org
SUMMARY:11 am | Sunday Morning Service | Rev. Micheal Gott
DESCRIPTION:“Change Your Thinking\, Change Your Life”\n\n\n\nRev. Michael Gott \n\n\n\nPrinciple Three Thoughts create reality: We create our life experiences and attract our realities through our thoughts\, beliefs\, and feelings.  \n\n\n\nTo understand and work with this principle\, we must be willing to look at ourselves and our lives honestly. We must be willing to let go of our victim stories and our excuses. We must stop blaming our parents or the world and take responsibility for our own experience. And if and when we are able to do this\, we hold in our hand the key to creating the life of freedom and fulfillment of our deepest hopes and highest dreams. This is the great work of our lives.   \n\n\n\nParents: Please sign your kids in at their classrooms\, and then take them to Wallet Hall for Pre-session activities from 10:30 – 11:00. \n\n\n\n\n\n\n\nJoin us in person or watch our livestream on the Unity of Houston app or… \n\n\n\n\nUnity of Houston home page\n\n\n\nFacebook\n\n\n\nYouTube\n\n\n\n\nYou can also visit the Media Center section of our website for previous lessons and meditations. \n\n\n\n\n\n\n\nOur Sunday morning services are open for in-person attendance and they are livestreamed. They are our most well-attended services during the week. These services incorporate an uplifting music program\, guided meditation\, and a positive\, thought-provoking message delivered. Our Youth & Family Ministry is open\, currently for children 18 months and older. For more information\, visit https://unityhouston.org/family-children/youth/
URL:https://unityhouston.org/event/11-am-sunday-morning-service-rev-micheal-gott-2/
LOCATION:Unity of Houston – Sanctuary and Livestream\, 2929 Unity Drive\, Houston\, Texas\, 77057\, United States
CATEGORIES:Master Calendar,Services,Sunday Service,Upcoming Events - On Home Page
ATTACH;FMTTYPE=image/png:https://unityhouston.org/wp-content/uploads/2025/12/2026_0111-UH.png
GEO:29.7348777;-95.4989026
X-APPLE-STRUCTURED-LOCATION;VALUE=URI;X-ADDRESS=Unity of Houston – Sanctuary and Livestream 2929 Unity Drive Houston Texas 77057 United States;X-APPLE-RADIUS=500;X-TITLE=2929 Unity Drive:geo:-95.4989026,29.7348777
END:VEVENT
BEGIN:VEVENT
DTSTART;TZID=America/Chicago:20260118T110000
DTEND;TZID=America/Chicago:20260118T120000
DTSTAMP:20260422T131243
CREATED:20251217T214341Z
LAST-MODIFIED:20251223T015731Z
UID:10007514-1768734000-1768737600@unityhouston.org
SUMMARY:11 am | Sunday Morning Service | Rev. Stacy Collins
DESCRIPTION:“Dissolving the Wall”\n\n\n\nRev. Stacy Collins \n\n\n\nPrinciple Four Prayer connects us to God: “Affirmative prayer and meditation align our minds with God\, bringing forth wisdom\, healing\, and good.”  \n\n\n\nSometimes our challenges\, problems- even our goals and aspirations- take up so much space that we lose sight of the larger reality we’re held in. When it feels like everything is pressing in\, we can feel anxious and unmoored.  Prayer and meditation offer us a way to shift our awareness—not to escape what’s happening\, but to reconnect with the deeper Presence that holds it all.  \n\n\n\nThis Sunday\, we’ll explore these practices as pathways back to our center and into the awareness of the Divine within and around us. In that sacred space\, the invisible wall we imagine between self and God dissolves\, and oneness is realized.  \n\n\n\nParents: Please sign your kids in at their classrooms\, and then take them to Wallet Hall for Pre-session activities from 10:30 – 11:00. \n\n\n\n\n\n\n\nJoin us in person or watch our livestream on the Unity of Houston app or… \n\n\n\n\nUnity of Houston home page\n\n\n\nFacebook\n\n\n\nYouTube\n\n\n\n\nYou can also visit the Media Center section of our website for previous lessons and meditations. \n\n\n\n\n\n\n\nOur Sunday morning services are open for in-person attendance and they are livestreamed. They are our most well-attended services during the week. These services incorporate an uplifting music program\, guided meditation\, and a positive\, thought-provoking message delivered. Our Youth & Family Ministry is open\, currently for children 18 months and older. For more information\, visit https://unityhouston.org/family-children/youth/
URL:https://unityhouston.org/event/11-am-sunday-morning-service-rev-stacy-collins-5/
LOCATION:Unity of Houston – Sanctuary and Livestream\, 2929 Unity Drive\, Houston\, Texas\, 77057\, United States
CATEGORIES:Master Calendar,Services,Sunday Service,Upcoming Events - On Home Page
ATTACH;FMTTYPE=image/png:https://unityhouston.org/wp-content/uploads/2025/12/2026_0118-UH-1.png
GEO:29.7348777;-95.4989026
X-APPLE-STRUCTURED-LOCATION;VALUE=URI;X-ADDRESS=Unity of Houston – Sanctuary and Livestream 2929 Unity Drive Houston Texas 77057 United States;X-APPLE-RADIUS=500;X-TITLE=2929 Unity Drive:geo:-95.4989026,29.7348777
END:VEVENT
BEGIN:VEVENT
DTSTART;TZID=America/Chicago:20260125T110000
DTEND;TZID=America/Chicago:20260125T120000
DTSTAMP:20260422T131243
CREATED:20251217T212850Z
LAST-MODIFIED:20251223T015843Z
UID:10007513-1769338800-1769342400@unityhouston.org
SUMMARY:11 am | Sunday Morning Service | Revs. Michael Gott and Stacy Collins
DESCRIPTION:“You Shall Know the Truth”\n\n\n\nRevs. Michael Gott and Stacy Collins \n\n\n\nPrinciple Five You Shall Know the Truth   \n\n\n\nLive the Truth: Understanding isn’t enough; we must apply these spiritual principles in our daily lives through our thoughts\, words\, and actions.  \n\n\n\nThe Fifth Principle reminds us that spiritual truth isn’t something we know simply because we agree with it.  We may resonate with an idea\,  but unless and until we allow it to shape our choices\, our relationships\, and the way we meet our lives\, we don’t truly know it at the level that transforms us. Insight becomes wisdom only when it is practiced.  \n\n\n\nThis principle brings the others into expression. Oneness\, our divine nature\, the creative power of thought\, and the practice of prayer take on real meaning when they’re lived—when they shape how we show up and move through our days.  \n\n\n\nParents: Please sign your kids in at their classrooms\, and then take them to Wallet Hall for Pre-session activities from 10:30 – 11:00. \n\n\n\n\n\n\n\nJoin us in person or watch our livestream on the Unity of Houston app or… \n\n\n\n\nUnity of Houston home page\n\n\n\nFacebook\n\n\n\nYouTube\n\n\n\n\nYou can also visit the Media Center section of our website for previous lessons and meditations. \n\n\n\n\n\n\n\nOur Sunday morning services are open for in-person attendance and they are livestreamed. They are our most well-attended services during the week. These services incorporate an uplifting music program\, guided meditation\, and a positive\, thought-provoking message delivered. Our Youth & Family Ministry is open\, currently for children 18 months and older. For more information\, visit https://unityhouston.org/family-children/youth/
URL:https://unityhouston.org/event/11-am-sunday-morning-service-rev-micheal-gott-3/
LOCATION:Unity of Houston – Sanctuary and Livestream\, 2929 Unity Drive\, Houston\, Texas\, 77057\, United States
CATEGORIES:Master Calendar,Services,Sunday Service,Upcoming Events - On Home Page
ATTACH;FMTTYPE=image/png:https://unityhouston.org/wp-content/uploads/2025/12/2026_0125-UH.png
GEO:29.7348777;-95.4989026
X-APPLE-STRUCTURED-LOCATION;VALUE=URI;X-ADDRESS=Unity of Houston – Sanctuary and Livestream 2929 Unity Drive Houston Texas 77057 United States;X-APPLE-RADIUS=500;X-TITLE=2929 Unity Drive:geo:-95.4989026,29.7348777
END:VEVENT
END:VCALENDAR