BEGIN:VCALENDAR
VERSION:2.0
PRODID:-//Unity of Houston - ECPv6.15.20//NONSGML v1.0//EN
CALSCALE:GREGORIAN
METHOD:PUBLISH
X-ORIGINAL-URL:https://unityhouston.org
X-WR-CALDESC:Events for Unity of Houston
REFRESH-INTERVAL;VALUE=DURATION:PT1H
X-Robots-Tag:noindex
X-PUBLISHED-TTL:PT1H
BEGIN:VTIMEZONE
TZID:America/Chicago
BEGIN:DAYLIGHT
TZOFFSETFROM:-0600
TZOFFSETTO:-0500
TZNAME:CDT
DTSTART:20240310T080000
END:DAYLIGHT
BEGIN:STANDARD
TZOFFSETFROM:-0500
TZOFFSETTO:-0600
TZNAME:CST
DTSTART:20241103T070000
END:STANDARD
BEGIN:DAYLIGHT
TZOFFSETFROM:-0600
TZOFFSETTO:-0500
TZNAME:CDT
DTSTART:20250309T080000
END:DAYLIGHT
BEGIN:STANDARD
TZOFFSETFROM:-0500
TZOFFSETTO:-0600
TZNAME:CST
DTSTART:20251102T070000
END:STANDARD
BEGIN:DAYLIGHT
TZOFFSETFROM:-0600
TZOFFSETTO:-0500
TZNAME:CDT
DTSTART:20260308T080000
END:DAYLIGHT
BEGIN:STANDARD
TZOFFSETFROM:-0500
TZOFFSETTO:-0600
TZNAME:CST
DTSTART:20261101T070000
END:STANDARD
END:VTIMEZONE
BEGIN:VEVENT
DTSTART;TZID=America/Chicago:20251207T110000
DTEND;TZID=America/Chicago:20251207T120000
DTSTAMP:20260422T131347
CREATED:20251117T164720Z
LAST-MODIFIED:20251120T175134Z
UID:10007401-1765105200-1765108800@unityhouston.org
SUMMARY:11 am | Sunday Morning Service | Rev. Michael Gott
DESCRIPTION:“A Light in the Darkness”\n\n\n\nRev. Michael Gott  \n\n\n\nWhen things are hard\, the brightness of the holiday season can be jarring. When we experience loss or illness\, all the admonitions to “get in the Christmas spirit” are not what we need. Here at Unity of Houston\, we have in recent years created a tradition we call “Blue Christmas.” It’s a way of honoring those that are going through difficulty during the holiday season.   If you are struggling\, we want you to know that this community is committed to being a place of love and healing\, and honors you exactly where you are.   \n\n\n\nParents: Please sign your kids in at their classrooms\, and then take them to Wallet Hall for Pre-session activities from 10:30 – 11:00. \n\n\n\n\n\n\n\nJoin us in person or watch our livestream on the Unity of Houston app or… \n\n\n\n\nUnity of Houston home page\n\n\n\nFacebook\n\n\n\nYouTube\n\n\n\n\nYou can also visit the Media Center section of our website for previous lessons and meditations. \n\n\n\n\n\n\n\nOur Sunday morning services are open for in-person attendance and they are livestreamed. They are our most well-attended services during the week. These services incorporate an uplifting music program\, guided meditation\, and a positive\, thought-provoking message delivered. Our Youth & Family Ministry is open\, currently for children 18 months and older. For more information\, visit https://unityhouston.org/family-children/youth/
URL:https://unityhouston.org/event/11-am-sunday-morning-service-rev-michael-gott-22/
LOCATION:Unity of Houston – Sanctuary and Livestream\, 2929 Unity Drive\, Houston\, Texas\, 77057\, United States
CATEGORIES:Master Calendar,Services,Sunday Service,Upcoming Events - On Home Page
ATTACH;FMTTYPE=image/jpeg:https://unityhouston.org/wp-content/uploads/2025/11/2025_1207-UH-IG.jpg
GEO:29.7348777;-95.4989026
X-APPLE-STRUCTURED-LOCATION;VALUE=URI;X-ADDRESS=Unity of Houston – Sanctuary and Livestream 2929 Unity Drive Houston Texas 77057 United States;X-APPLE-RADIUS=500;X-TITLE=2929 Unity Drive:geo:-95.4989026,29.7348777
END:VEVENT
BEGIN:VEVENT
DTSTART;TZID=America/Chicago:20251214T110000
DTEND;TZID=America/Chicago:20251214T120000
DTSTAMP:20260422T131347
CREATED:20251117T164844Z
LAST-MODIFIED:20251120T175247Z
UID:10007402-1765710000-1765713600@unityhouston.org
SUMMARY:11 am | Sunday Morning Service | Rev. Michael Gott
DESCRIPTION:“The Greatest Gift”\n\n\n\nRev. Michael Gott  \n\n\n\nSometimes the gift-giving tradition is a joyous way of showing love and appreciation. And sometimes it feels like obligation. What if we gave our presence as well as our presents?  In this time of increasing isolation and loneliness\, what if we turn the tide in our own lives? Emerson says\, “The only way to have a friend is to be a friend.”  \n\n\n\nParents: Please sign your kids in at their classrooms\, and then take them to Wallet Hall for Pre-session activities from 10:30 – 11:00. \n\n\n\n\n\n\n\nJoin us in person or watch our livestream on the Unity of Houston app or… \n\n\n\n\nUnity of Houston home page\n\n\n\nFacebook\n\n\n\nYouTube\n\n\n\n\nYou can also visit the Media Center section of our website for previous lessons and meditations. \n\n\n\n\n\n\n\nOur Sunday morning services are open for in-person attendance and they are livestreamed. They are our most well-attended services during the week. These services incorporate an uplifting music program\, guided meditation\, and a positive\, thought-provoking message delivered. Our Youth & Family Ministry is open\, currently for children 18 months and older. For more information\, visit https://unityhouston.org/family-children/youth/
URL:https://unityhouston.org/event/11-am-sunday-morning-service-rev-michael-gott-23/
LOCATION:Unity of Houston – Sanctuary and Livestream\, 2929 Unity Drive\, Houston\, Texas\, 77057\, United States
CATEGORIES:Master Calendar,Services,Sunday Service,Upcoming Events - On Home Page
ATTACH;FMTTYPE=image/jpeg:https://unityhouston.org/wp-content/uploads/2025/11/2025_1214-UH-IG.jpg
GEO:29.7348777;-95.4989026
X-APPLE-STRUCTURED-LOCATION;VALUE=URI;X-ADDRESS=Unity of Houston – Sanctuary and Livestream 2929 Unity Drive Houston Texas 77057 United States;X-APPLE-RADIUS=500;X-TITLE=2929 Unity Drive:geo:-95.4989026,29.7348777
END:VEVENT
BEGIN:VEVENT
DTSTART;TZID=America/Chicago:20251221T110000
DTEND;TZID=America/Chicago:20251221T120000
DTSTAMP:20260422T131347
CREATED:20251117T165508Z
LAST-MODIFIED:20251120T175403Z
UID:10007403-1766314800-1766318400@unityhouston.org
SUMMARY:11 am | Sunday Morning Service | Rev. Michael Gott
DESCRIPTION:“Turning Within”\n\n\n\nRev. Michael Gott  \n\n\n\nFor those of us in the northern hemisphere\, winter is the time of the greatest darkness\, a time of year when nights are long and cold. Nature knows how to use this time. Some animals hibernate through the cold months. Most trees enter a time of dormancy\, pulling in energy from the earth to prepare for spring. In our busy lives today\, couldn’t we all benefit from slowing down and turning within?  \n\n\n\nParents: Please sign your kids in at their classrooms\, and then take them to Wallet Hall for Pre-session activities from 10:30 – 11:00. \n\n\n\n\n\n\n\nJoin us in person or watch our livestream on the Unity of Houston app or… \n\n\n\n\nUnity of Houston home page\n\n\n\nFacebook\n\n\n\nYouTube\n\n\n\n\nYou can also visit the Media Center section of our website for previous lessons and meditations. \n\n\n\n\n\n\n\nOur Sunday morning services are open for in-person attendance and they are livestreamed. They are our most well-attended services during the week. These services incorporate an uplifting music program\, guided meditation\, and a positive\, thought-provoking message delivered. Our Youth & Family Ministry is open\, currently for children 18 months and older. For more information\, visit https://unityhouston.org/family-children/youth/
URL:https://unityhouston.org/event/11-am-sunday-morning-service-rev-michael-gott-24/
LOCATION:Unity of Houston – Sanctuary and Livestream\, 2929 Unity Drive\, Houston\, Texas\, 77057\, United States
CATEGORIES:Master Calendar,Services,Sunday Service,Upcoming Events - On Home Page
ATTACH;FMTTYPE=image/jpeg:https://unityhouston.org/wp-content/uploads/2025/11/2025_1221-UH-IG.jpg
GEO:29.7348777;-95.4989026
X-APPLE-STRUCTURED-LOCATION;VALUE=URI;X-ADDRESS=Unity of Houston – Sanctuary and Livestream 2929 Unity Drive Houston Texas 77057 United States;X-APPLE-RADIUS=500;X-TITLE=2929 Unity Drive:geo:-95.4989026,29.7348777
END:VEVENT
BEGIN:VEVENT
DTSTART;TZID=America/Chicago:20251224T170000
DTEND;TZID=America/Chicago:20251224T180000
DTSTAMP:20260422T131347
CREATED:20251113T183227Z
LAST-MODIFIED:20251223T212905Z
UID:10007399-1766595600-1766599200@unityhouston.org
SUMMARY:5 pm | Christmas Eve Candle Lighting Service | Rev. Michael Gott
DESCRIPTION:December 24: 5 & 7 pm“The Light Shines in Us”\nRev. Michael Gott \nServices at 5 pm and 7 pm* Childcare will be available for 8 and younger at the 5 pm service only. To ensure a spot for your child\, we request that you complete this CHILDCARE REQUEST FORM as soon as possible.* Livestream at 5 pm only* ASL at 5 pm only \n* Unity Bookstore open from 4:30 to 7:00 pm \nWhen we go through difficult times\, there can be a temptation to give up on faith. Jesus said\, “In this world you will have trouble. But fear not\, for I have overcome the world.” (John 16:33) The metaphysical meaning of this passage is that the Living Christ in us has never known harm\, and lives from the deep Truth of Spirit\, rather than the facts of our conditions. This Christmas Eve\, join us as we light our candles\, raise them in unison\, and remember who we are as the light of the world. Let this night be a lived experience of hope over despair\, of love over hate\, of light over darkness. \n\nJoin us in person or watch our livestream on the Unity of Houston app or… \n\nUnity of Houston home page\nFacebook\nYouTube\n\nYou can also visit the Media Center section of our website for previous lessons and meditations. \n\n 
URL:https://unityhouston.org/event/5-pm-christmas-eve-candle-lighting-service-rev-michael-gott-2/
LOCATION:Sanctuary & Livestream\, United States
CATEGORIES:Master Calendar,Services,Upcoming Events - On Home Page
ATTACH;FMTTYPE=image/png:https://unityhouston.org/wp-content/uploads/2025/11/App_Candle-Lighting-Services-1.png
GEO:37.09024;-95.712891
END:VEVENT
BEGIN:VEVENT
DTSTART;TZID=America/Chicago:20251224T190000
DTEND;TZID=America/Chicago:20251224T200000
DTSTAMP:20260422T131347
CREATED:20251113T183652Z
LAST-MODIFIED:20251223T212835Z
UID:10007400-1766602800-1766606400@unityhouston.org
SUMMARY:7 pm | Christmas Eve Candle Lighting Service | Rev. Michael Gott
DESCRIPTION:December 24: 5 & 7 pm“The Light Shines in Us”\nRev. Michael Gott \nServices at 5 pm and 7 pm* Childcare will be available for 8 and younger at the 5 pm service only. To ensure a spot for your child\, we request that you complete this CHILDCARE REQUEST FORM as soon as possible.* Livestream at 5 pm only* ASL at 5 pm only \n* Unity Bookstore open from 4:30 to 7:00 pm \nWhen we go through difficult times\, there can be a temptation to give up on faith. Jesus said\, “In this world you will have trouble. But fear not\, for I have overcome the world.” (John 16:33) The metaphysical meaning of this passage is that the Living Christ in us has never known harm\, and lives from the deep Truth of Spirit\, rather than the facts of our conditions. This Christmas Eve\, join us as we light our candles\, raise them in unison\, and remember who we are as the light of the world. Let this night be a lived experience of hope over despair\, of love over hate\, of light over darkness. \n\nJoin us in person or watch our livestream on the Unity of Houston app or… \n\nUnity of Houston home page\nFacebook\nYouTube\n\nYou can also visit the Media Center section of our website for previous lessons and meditations. \n\n 
URL:https://unityhouston.org/event/7-pm-christmas-eve-candle-lighting-service-rev-michael-gott-3/
LOCATION:Sanctuary & Livestream\, United States
CATEGORIES:Master Calendar,Services,Upcoming Events - On Home Page
ATTACH;FMTTYPE=image/png:https://unityhouston.org/wp-content/uploads/2025/11/App_Candle-Lighting-Services-1.png
GEO:37.09024;-95.712891
END:VEVENT
BEGIN:VEVENT
DTSTART;TZID=America/Chicago:20251228T110000
DTEND;TZID=America/Chicago:20251228T120000
DTSTAMP:20260422T131347
CREATED:20251202T191421Z
LAST-MODIFIED:20251202T191522Z
UID:10007474-1766919600-1766923200@unityhouston.org
SUMMARY:11 am | Sunday Morning Service | Debbie Mack
DESCRIPTION:“The Inner Engine of Divine Will”\n\n\n\nDebbie Mack \n\n\n\nWhat is it that moves us through life? Is it just our own physical power\, or are we willing to discover the infinite source of guidance and direction?   \n\n\n\n In our world\, humanity appears to move in individuality\, creating many differences and distinctions. This temporarily limits its opportunity to recognize what is actually foundational and true to life experience and expression.   \n\n\n\n This message is an invitation to recognize\, refine\, accept\, engage\, and align to the Spiritual Engine of Life\, Divine Will.   \n\n\n\n Join us as we move affirmatively to bring the Christ Vision to our world.   \n\n\n\nParents: Please sign your kids in at their classrooms\, and then take them to Wallet Hall for Pre-session activities from 10:30 – 11:00. \n\n\n\n\n\n\n\nJoin us in person or watch our livestream on the Unity of Houston app or… \n\n\n\n\nUnity of Houston home page\n\n\n\nFacebook\n\n\n\nYouTube\n\n\n\n\nYou can also visit the Media Center section of our website for previous lessons and meditations. \n\n\n\n\n\n\n\nOur Sunday morning services are open for in-person attendance and they are livestreamed. They are our most well-attended services during the week. These services incorporate an uplifting music program\, guided meditation\, and a positive\, thought-provoking message delivered. Our Youth & Family Ministry is open\, currently for children 18 months and older. For more information\, visit https://unityhouston.org/family-children/youth/
URL:https://unityhouston.org/event/11-am-sunday-morning-service-debbie-mack/
LOCATION:Unity of Houston – Sanctuary and Livestream\, 2929 Unity Drive\, Houston\, Texas\, 77057\, United States
CATEGORIES:Master Calendar,Services,Sunday Service,Upcoming Events - On Home Page
ATTACH;FMTTYPE=image/jpeg:https://unityhouston.org/wp-content/uploads/2025/12/kwirx_UOH_Sunday-Services-Debbie-Mack_1000x1000-1.jpg
GEO:29.7348777;-95.4989026
X-APPLE-STRUCTURED-LOCATION;VALUE=URI;X-ADDRESS=Unity of Houston – Sanctuary and Livestream 2929 Unity Drive Houston Texas 77057 United States;X-APPLE-RADIUS=500;X-TITLE=2929 Unity Drive:geo:-95.4989026,29.7348777
END:VEVENT
END:VCALENDAR