BEGIN:VCALENDAR
VERSION:2.0
PRODID:-//Unity of Houston - ECPv6.15.20//NONSGML v1.0//EN
CALSCALE:GREGORIAN
METHOD:PUBLISH
X-WR-CALNAME:Unity of Houston
X-ORIGINAL-URL:https://unityhouston.org
X-WR-CALDESC:Events for Unity of Houston
REFRESH-INTERVAL;VALUE=DURATION:PT1H
X-Robots-Tag:noindex
X-PUBLISHED-TTL:PT1H
BEGIN:VTIMEZONE
TZID:America/Chicago
BEGIN:DAYLIGHT
TZOFFSETFROM:-0600
TZOFFSETTO:-0500
TZNAME:CDT
DTSTART:20240310T080000
END:DAYLIGHT
BEGIN:STANDARD
TZOFFSETFROM:-0500
TZOFFSETTO:-0600
TZNAME:CST
DTSTART:20241103T070000
END:STANDARD
BEGIN:DAYLIGHT
TZOFFSETFROM:-0600
TZOFFSETTO:-0500
TZNAME:CDT
DTSTART:20250309T080000
END:DAYLIGHT
BEGIN:STANDARD
TZOFFSETFROM:-0500
TZOFFSETTO:-0600
TZNAME:CST
DTSTART:20251102T070000
END:STANDARD
BEGIN:DAYLIGHT
TZOFFSETFROM:-0600
TZOFFSETTO:-0500
TZNAME:CDT
DTSTART:20260308T080000
END:DAYLIGHT
BEGIN:STANDARD
TZOFFSETFROM:-0500
TZOFFSETTO:-0600
TZNAME:CST
DTSTART:20261101T070000
END:STANDARD
END:VTIMEZONE
BEGIN:VEVENT
DTSTART;TZID=America/Chicago:20251102T110000
DTEND;TZID=America/Chicago:20251102T120000
DTSTAMP:20260422T143000
CREATED:20250916T202036Z
LAST-MODIFIED:20250918T134841Z
UID:10007291-1762081200-1762084800@unityhouston.org
SUMMARY:11 am | Sunday Morning Service | Rev. Stacy Collins
DESCRIPTION:“The Sacred Return”\n\n\n\nRev. Stacy Collins \n\n\n\nAt a certain point in our spiritual journey\, we find ourselves back in familiar territory—yet something feels different. We’ve been deepened by our challenges and shaped by our insights. This week\, we explore what it means to live from that transformation. How do we embody what we now know to be true—and what becomes possible when we begin to see the sacred in the ordinary?  \n\n\n\nAffirmation: Today I live from my deepest truth. I honor all of creation\, including myself\, as living expressions of Divine Love.  \n\n\n\nParents: Please sign your kids in at their classrooms\, and then take them to Wallet Hall for Pre-session activities from 10:30 – 11:00. \n\n\n\n\n\n\n\nJoin us in person or watch our livestream on the Unity of Houston app or… \n\n\n\n\nUnity of Houston home page\n\n\n\nFacebook\n\n\n\nYouTube\n\n\n\n\nYou can also visit the Media Center section of our website for previous lessons and meditations. \n\n\n\n\n\n\n\nOur Sunday morning services are open for in-person attendance and they are livestreamed. They are our most well-attended services during the week. These services incorporate an uplifting music program\, guided meditation and a positive\, thought-provoking message delivered. Our Youth & Family Ministry is open\, currently for children 18 months and older. For more information\, visit https://unityhouston.org/family-children/youth/
URL:https://unityhouston.org/event/11-am-sunday-morning-service-rev-stacy-collins/
LOCATION:Unity of Houston – Sanctuary and Livestream\, 2929 Unity Drive\, Houston\, Texas\, 77057\, United States
CATEGORIES:Master Calendar,Services,Sunday Service,Upcoming Events - On Home Page
ATTACH;FMTTYPE=image/jpeg:https://unityhouston.org/wp-content/uploads/2025/09/2025_1102-UH-IG-1.jpg
GEO:29.7348777;-95.4989026
X-APPLE-STRUCTURED-LOCATION;VALUE=URI;X-ADDRESS=Unity of Houston – Sanctuary and Livestream 2929 Unity Drive Houston Texas 77057 United States;X-APPLE-RADIUS=500;X-TITLE=2929 Unity Drive:geo:-95.4989026,29.7348777
END:VEVENT
BEGIN:VEVENT
DTSTART;TZID=America/Chicago:20251109T110000
DTEND;TZID=America/Chicago:20251109T120000
DTSTAMP:20260422T143000
CREATED:20250916T202600Z
LAST-MODIFIED:20251029T185202Z
UID:10007292-1762686000-1762689600@unityhouston.org
SUMMARY:11 am | Sunday Morning Service | Revs. MichaelGott and Stacy Collins
DESCRIPTION:“The Freedom to Live”\n\n\n\nRevs. Michael Gott and Stacy Collins \n\n\n\nThe privilege of a lifetime is to become who you truly are.” — Carl Jung  \n\n\n\n “The Freedom to Live” is where our journey finds its culmination—a moment of integration that also marks the beginning of living with new eyes. Here\, freedom is revealed not as an escape\, but as the result of living in alignment with our true nature. Even amid the uncertainties and tensions we experience in the world and in our own lives\, our ever expanding sense of authenticity allows us to meet our lives with serenity\, compassion\, and joy.   \n\n\n\nAffirmation: I live in freedom\, rooted in love and aligned with my highest purpose.  \n\n\n\n\nCelebration Sunday\, November 9! \n\n\n\nJoin us for a joyful Celebration Sunday featuring an inspiring message\, special musical guest Gary Lynn Floyd\, and uplifting music from our choir. \n\n\n\n﻿After the service\, stay for food\, fun\, and activities for the whole family—plus live music and dancing! \n\n\n\nAs a special thank-you\, everyone who has completed a Pledge Form on or before November 9 will receive a special gift. Come celebrate with us! \n\n\n\n\nParents: Please sign your kids in at their classrooms\, and then take them to Wallet Hall for Pre-session activities from 10:30 – 11:00. \n\n\n\n\n\n\n\nJoin us in person or watch our livestream on the Unity of Houston app or… \n\n\n\n\nUnity of Houston home page\n\n\n\nFacebook\n\n\n\nYouTube\n\n\n\n\nYou can also visit the Media Center section of our website for previous lessons and meditations. \n\n\n\n\n\n\n\nOur Sunday morning services are open for in-person attendance and they are livestreamed. They are our most well-attended services during the week. These services incorporate an uplifting music program\, guided meditation and a positive\, thought-provoking message delivered. Our Youth & Family Ministry is open\, currently for children 18 months and older. For more information\, visit https://unityhouston.org/family-children/youth/
URL:https://unityhouston.org/event/11-am-sunday-morning-service-revs-michaelgott-and-stacy-collins/
LOCATION:Unity of Houston – Sanctuary and Livestream\, 2929 Unity Drive\, Houston\, Texas\, 77057\, United States
CATEGORIES:Master Calendar,Services,Sunday Service,Upcoming Events - On Home Page
ATTACH;FMTTYPE=image/jpeg:https://unityhouston.org/wp-content/uploads/2025/09/2025_1109-UH-IG-1.jpg
GEO:29.7348777;-95.4989026
X-APPLE-STRUCTURED-LOCATION;VALUE=URI;X-ADDRESS=Unity of Houston – Sanctuary and Livestream 2929 Unity Drive Houston Texas 77057 United States;X-APPLE-RADIUS=500;X-TITLE=2929 Unity Drive:geo:-95.4989026,29.7348777
END:VEVENT
BEGIN:VEVENT
DTSTART;TZID=America/Chicago:20251116T110000
DTEND;TZID=America/Chicago:20251116T120000
DTSTAMP:20260422T143000
CREATED:20251015T164833Z
LAST-MODIFIED:20251015T164834Z
UID:10007320-1763290800-1763294400@unityhouston.org
SUMMARY:11 am | Sunday Morning Service | Rev. Michael Gott
DESCRIPTION:“Love Your Neighbor as Yourself”\n\n\n\nRev. Michael Gott  \n\n\n\nWe live from our oneness with God and each other\, Experiencing abundance\, And connection with all life. -Unity of Houston Being Statement   \n\n\n\nOur deepest truth is Oneness. It’s a beautiful concept\, but often difficult to live in the human world. Jesus taught from a nondual perspective\, and his parable of the Good Samaritan is meant to be a mirror to us all. Who have we placed outside the circle of God’s love? Who is our neighbor?  \n\n\n\nParents: Please sign your kids in at their classrooms\, and then take them to Wallet Hall for Pre-session activities from 10:30 – 11:00. \n\n\n\n\n\n\n\nJoin us in person or watch our livestream on the Unity of Houston app or… \n\n\n\n\nUnity of Houston home page\n\n\n\nFacebook\n\n\n\nYouTube\n\n\n\n\nYou can also visit the Media Center section of our website for previous lessons and meditations. \n\n\n\n\n\n\n\nOur Sunday morning services are open for in-person attendance and they are livestreamed. They are our most well-attended services during the week. These services incorporate an uplifting music program\, guided meditation and a positive\, thought-provoking message delivered. Our Youth & Family Ministry is open\, currently for children 18 months and older. For more information\, visit https://unityhouston.org/family-children/youth/
URL:https://unityhouston.org/event/11-am-sunday-morning-service-rev-michael-gott-20/
LOCATION:Unity of Houston – Sanctuary and Livestream\, 2929 Unity Drive\, Houston\, Texas\, 77057\, United States
CATEGORIES:Master Calendar,Services,Sunday Service,Upcoming Events - On Home Page
ATTACH;FMTTYPE=image/jpeg:https://unityhouston.org/wp-content/uploads/2024/09/kwirx_UOH_Sunday-Services-Rev.-Michael-Gott_1000x1000-1.jpg
GEO:29.7348777;-95.4989026
X-APPLE-STRUCTURED-LOCATION;VALUE=URI;X-ADDRESS=Unity of Houston – Sanctuary and Livestream 2929 Unity Drive Houston Texas 77057 United States;X-APPLE-RADIUS=500;X-TITLE=2929 Unity Drive:geo:-95.4989026,29.7348777
END:VEVENT
BEGIN:VEVENT
DTSTART;TZID=America/Chicago:20251123T110000
DTEND;TZID=America/Chicago:20251123T120000
DTSTAMP:20260422T143000
CREATED:20251015T165408Z
LAST-MODIFIED:20251015T165409Z
UID:10007321-1763895600-1763899200@unityhouston.org
SUMMARY:11 am | Sunday Morning Service | Rev. Michael Gott
DESCRIPTION:“Giving Thanks”\n\n\n\nRev. Michael Gott  \n\n\n\nGratitude is more than a feeling. It’s a conscious choice. To give thanks means to look for the good in all situations\, to recognize that blessings are here\, even in the midst of our struggle. When we do this\, gratitude ceases to be a mere response to having things go our way and becomes a causative and creative force in our lives.   \n\n\n\nParents: Please sign your kids in at their classrooms\, and then take them to Wallet Hall for Pre-session activities from 10:30 – 11:00. \n\n\n\n\n\n\n\nJoin us in person or watch our livestream on the Unity of Houston app or… \n\n\n\n\nUnity of Houston home page\n\n\n\nFacebook\n\n\n\nYouTube\n\n\n\n\nYou can also visit the Media Center section of our website for previous lessons and meditations. \n\n\n\n\n\n\n\nOur Sunday morning services are open for in-person attendance and they are livestreamed. They are our most well-attended services during the week. These services incorporate an uplifting music program\, guided meditation\, and a positive\, thought-provoking message delivered. Our Youth & Family Ministry is open\, currently for children 18 months and older. For more information\, visit https://unityhouston.org/family-children/youth/
URL:https://unityhouston.org/event/11-am-sunday-morning-service-rev-michael-gott-21/
LOCATION:Unity of Houston – Sanctuary and Livestream\, 2929 Unity Drive\, Houston\, Texas\, 77057\, United States
CATEGORIES:Master Calendar,Services,Sunday Service,Upcoming Events - On Home Page
ATTACH;FMTTYPE=image/jpeg:https://unityhouston.org/wp-content/uploads/2024/09/kwirx_UOH_Sunday-Services-Rev.-Michael-Gott_1000x1000-1.jpg
GEO:29.7348777;-95.4989026
X-APPLE-STRUCTURED-LOCATION;VALUE=URI;X-ADDRESS=Unity of Houston – Sanctuary and Livestream 2929 Unity Drive Houston Texas 77057 United States;X-APPLE-RADIUS=500;X-TITLE=2929 Unity Drive:geo:-95.4989026,29.7348777
END:VEVENT
BEGIN:VEVENT
DTSTART;TZID=America/Chicago:20251130T110000
DTEND;TZID=America/Chicago:20251130T120000
DTSTAMP:20260422T143000
CREATED:20251015T165924Z
LAST-MODIFIED:20251015T165925Z
UID:10007322-1764500400-1764504000@unityhouston.org
SUMMARY:11 am | Sunday Morning Service | Rev. Stacy Collins
DESCRIPTION:“The Spaces in Between”\n\n\n\nRev. Stacy Collins  \n\n\n\n“There is a mysterious interplay between silence and time. Waiting in silence is the essential condition for experiencing the passage of time as gift\, not as threat.” — Thomas Merton  \n\n\n\nFor some\, the holiday season overflows with activity and expectation; for others\, it highlights absence and quiet. Both can be comforting\, and both can feel overwhelming. How we experience time — whether in busyness or in stillness — has the potential to create within us a sense of constriction or expansion.    In these contrasting experiences\, the spaces in between invite us to know the place within ourselves that is always luminous\, forever undiminishable\, and eternally revealing Divine perfection.   \n\n\n\nParents: Please sign your kids in at their classrooms\, and then take them to Wallet Hall for Pre-session activities from 10:30 – 11:00. \n\n\n\n\n\n\n\nJoin us in person or watch our livestream on the Unity of Houston app or… \n\n\n\n\nUnity of Houston home page\n\n\n\nFacebook\n\n\n\nYouTube\n\n\n\n\nYou can also visit the Media Center section of our website for previous lessons and meditations. \n\n\n\n\n\n\n\nOur Sunday morning services are open for in-person attendance and they are livestreamed. They are our most well-attended services during the week. These services incorporate an uplifting music program\, guided meditation\, and a positive\, thought-provoking message delivered. Our Youth & Family Ministry is open\, currently for children 18 months and older. For more information\, visit https://unityhouston.org/family-children/youth/
URL:https://unityhouston.org/event/11-am-sunday-morning-service-rev-stacy-collins-2/
LOCATION:Unity of Houston – Sanctuary and Livestream\, 2929 Unity Drive\, Houston\, Texas\, 77057\, United States
CATEGORIES:Master Calendar,Services,Sunday Service,Upcoming Events - On Home Page
ATTACH;FMTTYPE=image/jpeg:https://unityhouston.org/wp-content/uploads/2025/10/Kwirx_UOH_Stacey_Collins_Sunday_Services_1000x1000-2.jpg
GEO:29.7348777;-95.4989026
X-APPLE-STRUCTURED-LOCATION;VALUE=URI;X-ADDRESS=Unity of Houston – Sanctuary and Livestream 2929 Unity Drive Houston Texas 77057 United States;X-APPLE-RADIUS=500;X-TITLE=2929 Unity Drive:geo:-95.4989026,29.7348777
END:VEVENT
END:VCALENDAR