BEGIN:VCALENDAR
VERSION:2.0
PRODID:-//Unity of Houston - ECPv6.13.2.1//NONSGML v1.0//EN
CALSCALE:GREGORIAN
METHOD:PUBLISH
X-ORIGINAL-URL:https://unityhouston.org
X-WR-CALDESC:Events for Unity of Houston
REFRESH-INTERVAL;VALUE=DURATION:PT1H
X-Robots-Tag:noindex
X-PUBLISHED-TTL:PT1H
BEGIN:VTIMEZONE
TZID:America/Chicago
BEGIN:DAYLIGHT
TZOFFSETFROM:-0600
TZOFFSETTO:-0500
TZNAME:CDT
DTSTART:20260308T080000
END:DAYLIGHT
BEGIN:STANDARD
TZOFFSETFROM:-0500
TZOFFSETTO:-0600
TZNAME:CST
DTSTART:20261101T070000
END:STANDARD
END:VTIMEZONE
BEGIN:VEVENT
DTSTART;TZID=America/Chicago:20260927T103000
DTEND;TZID=America/Chicago:20260927T123000
DTSTAMP:20260421T145016
CREATED:20251208T165009Z
LAST-MODIFIED:20251208T165202Z
UID:10007487-1790505000-1790512200@unityhouston.org
SUMMARY:Pet Food & Supplies Donations
DESCRIPTION:On the last Sunday of the month\, we’ll collect donations for a pet food bank\, typically benefiting Interfaith Ministries for Greater Houston’s Animeals program. You can find the collection bin at our Sanctuary courtyard drive-thru. Please bring non-perishable dog & cat food items and supplies. Cash donations are also gratefully received. And if you need pet food\, please stop by.
URL:https://unityhouston.org/event/pet-food-supplies-donations-2/2026-09-27/
LOCATION:Unity of Houston – Sanctuary Drive-Through\, 2929 Unity Drive\, Houston\, TX\, 77057\, United States
CATEGORIES:Animal Kinship Ministry,Groups,Master Calendar,Upcoming Events - On Home Page
ATTACH;FMTTYPE=image/jpeg:https://unityhouston.org/wp-content/uploads/2021/03/kwirx_uoh-appimages-homescreen_animal_kinship_pet_food_donations_feb-2.jpg
GEO:29.7346733;-95.4991036
X-APPLE-STRUCTURED-LOCATION;VALUE=URI;X-ADDRESS=Unity of Houston – Sanctuary Drive-Through 2929 Unity Drive Houston TX 77057 United States;X-APPLE-RADIUS=500;X-TITLE=2929 Unity Drive:geo:-95.4991036,29.7346733
END:VEVENT
BEGIN:VEVENT
DTSTART;TZID=America/Chicago:20260927T123000
DTEND;TZID=America/Chicago:20260927T133000
DTSTAMP:20260421T145016
CREATED:20251110T210912Z
LAST-MODIFIED:20251110T211207Z
UID:10007384-1790512200-1790515800@unityhouston.org
SUMMARY:Men of Unity
DESCRIPTION:As children of God\, the men of Unity of Houston have experienced diverse\, challenging\, changing\, and valued journeys in life.  Our personal human journeys today require a conscientious focus on Being\, Becoming and Belonging in relationship with our families\, friends\, communities\, and our church.  To this end\, the Men of Unity ministry serves to enhance our awareness\, address our needs\, build our aspirations\, and solidify our spiritual life as true men of God and the universe. \nMen of Unity meets on the 4th Sunday of each month at 12:30 pm in the Unity Art Gallery. \nThis group is facilitated by Jaime de la Isla and Harold Auzenne.
URL:https://unityhouston.org/event/men-of-unity-2/2026-09-27/
LOCATION:Unity of Houston Art Gallery\, 2929 Unity Drive\, Houston\, 77057\, United States
CATEGORIES:Master Calendar,Men of Unity,Upcoming Events - On Home Page
GEO:29.7347952;-95.4988794
X-APPLE-STRUCTURED-LOCATION;VALUE=URI;X-ADDRESS=Unity of Houston Art Gallery 2929 Unity Drive Houston 77057 United States;X-APPLE-RADIUS=500;X-TITLE=2929 Unity Drive:geo:-95.4988794,29.7347952
END:VEVENT
END:VCALENDAR