BEGIN:VCALENDAR
VERSION:2.0
PRODID:-//Unity of Houston - ECPv6.13.2.1//NONSGML v1.0//EN
CALSCALE:GREGORIAN
METHOD:PUBLISH
X-ORIGINAL-URL:https://unityhouston.org
X-WR-CALDESC:Events for Unity of Houston
REFRESH-INTERVAL;VALUE=DURATION:PT1H
X-Robots-Tag:noindex
X-PUBLISHED-TTL:PT1H
BEGIN:VTIMEZONE
TZID:America/Chicago
BEGIN:DAYLIGHT
TZOFFSETFROM:-0600
TZOFFSETTO:-0500
TZNAME:CDT
DTSTART:20260308T080000
END:DAYLIGHT
BEGIN:STANDARD
TZOFFSETFROM:-0500
TZOFFSETTO:-0600
TZNAME:CST
DTSTART:20261101T070000
END:STANDARD
END:VTIMEZONE
BEGIN:VEVENT
DTSTART;TZID=America/Chicago:20260523T123000
DTEND;TZID=America/Chicago:20260523T150000
DTSTAMP:20260421T090258
CREATED:20260409T201312Z
LAST-MODIFIED:20260409T201430Z
UID:10007661-1779539400-1779548400@unityhouston.org
SUMMARY:Unity Women - Goddess Exchange
DESCRIPTION:Facilitated by Donalayah Fisher \n\n\n\nThis program\, facilitated by Jackie Price\, invites women into a powerful and honest return to themselves. Over time\, we all give pieces of ourselves away—through expectations\, roles\, relationships\, fear\, and the pace of life. We move forward\, but sometimes we leave parts of our power behind. In this session\, we’ll reflect on what it means to come back to yourself fully. Through the lens of the “museum of you\,” we’ll explore the experiences\, decisions\, and seasons that have shaped who you are today—acknowledging both the beautiful and the unfinished parts of your story. Together\, we will call back strength from your past\, wisdom from those who came before you\, clarity from the woman you are becoming\, and grounding from your faith. This is not about becoming someone new. It’s about returning to the power that has been within you all along. \n\n\n\nCost $10.00 \n\n\n\nRegister Here
URL:https://unityhouston.org/event/unity-women-goddess-exchange/
LOCATION:Unity of Houston – Pyramid\, 2929 Unity Drive\, Houston\, 77057\, United States
CATEGORIES:Groups,Master Calendar,Unity Women,Upcoming Events - On Home Page
ATTACH;FMTTYPE=image/jpeg:https://unityhouston.org/wp-content/uploads/2023/05/app_Unity-Women.jpg
GEO:29.7342875;-95.4990143
X-APPLE-STRUCTURED-LOCATION;VALUE=URI;X-ADDRESS=Unity of Houston – Pyramid 2929 Unity Drive Houston 77057 United States;X-APPLE-RADIUS=500;X-TITLE=2929 Unity Drive:geo:-95.4990143,29.7342875
END:VEVENT
BEGIN:VEVENT
DTSTART;TZID=America/Chicago:20260524T123000
DTEND;TZID=America/Chicago:20260524T133000
DTSTAMP:20260421T090258
CREATED:20251110T210912Z
LAST-MODIFIED:20251110T211207Z
UID:10007380-1779625800-1779629400@unityhouston.org
SUMMARY:Men of Unity
DESCRIPTION:As children of God\, the men of Unity of Houston have experienced diverse\, challenging\, changing\, and valued journeys in life.  Our personal human journeys today require a conscientious focus on Being\, Becoming and Belonging in relationship with our families\, friends\, communities\, and our church.  To this end\, the Men of Unity ministry serves to enhance our awareness\, address our needs\, build our aspirations\, and solidify our spiritual life as true men of God and the universe. \nMen of Unity meets on the 4th Sunday of each month at 12:30 pm in the Unity Art Gallery. \nThis group is facilitated by Jaime de la Isla and Harold Auzenne.
URL:https://unityhouston.org/event/men-of-unity-2/2026-05-24/
LOCATION:Unity of Houston Art Gallery\, 2929 Unity Drive\, Houston\, 77057\, United States
CATEGORIES:Master Calendar,Men of Unity,Upcoming Events - On Home Page
GEO:29.7347952;-95.4988794
X-APPLE-STRUCTURED-LOCATION;VALUE=URI;X-ADDRESS=Unity of Houston Art Gallery 2929 Unity Drive Houston 77057 United States;X-APPLE-RADIUS=500;X-TITLE=2929 Unity Drive:geo:-95.4988794,29.7347952
END:VEVENT
BEGIN:VEVENT
DTSTART;TZID=America/Chicago:20260531T103000
DTEND;TZID=America/Chicago:20260531T123000
DTSTAMP:20260421T090258
CREATED:20251208T165009Z
LAST-MODIFIED:20251208T165202Z
UID:10007483-1780223400-1780230600@unityhouston.org
SUMMARY:Pet Food & Supplies Donations
DESCRIPTION:On the last Sunday of the month\, we’ll collect donations for a pet food bank\, typically benefiting Interfaith Ministries for Greater Houston’s Animeals program. You can find the collection bin at our Sanctuary courtyard drive-thru. Please bring non-perishable dog & cat food items and supplies. Cash donations are also gratefully received. And if you need pet food\, please stop by.
URL:https://unityhouston.org/event/pet-food-supplies-donations-2/2026-05-31/
LOCATION:Unity of Houston – Sanctuary Drive-Through\, 2929 Unity Drive\, Houston\, TX\, 77057\, United States
CATEGORIES:Animal Kinship Ministry,Groups,Master Calendar,Upcoming Events - On Home Page
ATTACH;FMTTYPE=image/jpeg:https://unityhouston.org/wp-content/uploads/2021/03/kwirx_uoh-appimages-homescreen_animal_kinship_pet_food_donations_feb-2.jpg
GEO:29.7346733;-95.4991036
X-APPLE-STRUCTURED-LOCATION;VALUE=URI;X-ADDRESS=Unity of Houston – Sanctuary Drive-Through 2929 Unity Drive Houston TX 77057 United States;X-APPLE-RADIUS=500;X-TITLE=2929 Unity Drive:geo:-95.4991036,29.7346733
END:VEVENT
END:VCALENDAR