BEGIN:VCALENDAR
VERSION:2.0
PRODID:-//Unity of Houston - ECPv6.13.2.1//NONSGML v1.0//EN
CALSCALE:GREGORIAN
METHOD:PUBLISH
X-WR-CALNAME:Unity of Houston
X-ORIGINAL-URL:https://unityhouston.org
X-WR-CALDESC:Events for Unity of Houston
REFRESH-INTERVAL;VALUE=DURATION:PT1H
X-Robots-Tag:noindex
X-PUBLISHED-TTL:PT1H
BEGIN:VTIMEZONE
TZID:America/Chicago
BEGIN:DAYLIGHT
TZOFFSETFROM:-0600
TZOFFSETTO:-0500
TZNAME:CDT
DTSTART:20260308T080000
END:DAYLIGHT
BEGIN:STANDARD
TZOFFSETFROM:-0500
TZOFFSETTO:-0600
TZNAME:CST
DTSTART:20261101T070000
END:STANDARD
END:VTIMEZONE
BEGIN:VEVENT
DTSTART;TZID=America/Chicago:20260301T123000
DTEND;TZID=America/Chicago:20260301T133000
DTSTAMP:20260421T075417
CREATED:20260217T201116Z
LAST-MODIFIED:20260217T201117Z
UID:10007581-1772368200-1772371800@unityhouston.org
SUMMARY:NextGen: The Chosen: Watch and Discuss
DESCRIPTION:Facilitated by NextGen Team \n\n\n\nCome watch and discuss The Chosen’s Season One Episode Three “Jesus Loves the Little Children.” \n\n\n\nIf you have any questions\, and to RSVP email unitynextgeneration@gmail.com  \n\n\n\nChildcare will be available if you complete this CHILDCARE REQUEST FORM one week in advance. 
URL:https://unityhouston.org/event/nextgen-the-chosen-watch-and-discuss/
LOCATION:Unity of Houston Art Gallery\, 2929 Unity Drive\, Houston\, 77057\, United States
CATEGORIES:Groups,Master Calendar,NextGen,Upcoming Events - On Home Page
ATTACH;FMTTYPE=image/jpeg:https://unityhouston.org/wp-content/uploads/2025/02/kwirx_UOH_Unity-Next-Gen_1200x628_V1.jpg
GEO:29.7347952;-95.4988794
X-APPLE-STRUCTURED-LOCATION;VALUE=URI;X-ADDRESS=Unity of Houston Art Gallery 2929 Unity Drive Houston 77057 United States;X-APPLE-RADIUS=500;X-TITLE=2929 Unity Drive:geo:-95.4988794,29.7347952
END:VEVENT
BEGIN:VEVENT
DTSTART;TZID=America/Chicago:20260310T183000
DTEND;TZID=America/Chicago:20260310T203000
DTSTAMP:20260421T075417
CREATED:20260211T203602Z
LAST-MODIFIED:20260212T154148Z
UID:10007566-1773167400-1773174600@unityhouston.org
SUMMARY:Latinas Unidas en la Luz - 10 de marzo
DESCRIPTION:“La Mujer que se Permite Prosperar”\n\n\n\nFacilitado por Erika Duarte \n\n\n\n\n\nNuestras reuniones de Latinas Unidas en la Luz inician con un espacio de conexión y convivencia\, donde compartimos presencia y algunos bocadillos estilo “potluck”. Te invitamos a traer un platillo para compartir con las demás participantes y así enriquecer juntas este tiempo especial.  \n\n\n\nEste mes tendremos el tema: “La Mujer que se Permite Prosperar” La mujer que prospera no lo hace porque trabaja más o se esfuerza más\, sino porque deja de negarse a recibir. Cuando una mujer se permite próspera\, cambia su forma de verse\, de elegir y de habitar el dinero\, el tiempo y la vida.  \n\n\n\nProsperar importa porque expande opciones\, calma el cuerpo y devuelve dignidad al deseo. No se trata de tener más\, sino de ser la mujer que puede sostener más sin perderse a sí misma. \n\n\n\n\nBiografía de Erika Duarte: Erika Duarte\, es mentora en conciencia de energía y Trainer de PNL\, empodera a líderes a transformar creencias limitantes y tomar decisiones conscientes. Su enfoque fusiona espiritualidad y negocios\, impulsando el éxito empresarial alineado con un propósito más elevado. \n\n\n\n\n\n\n\n\nDonación amorosa. PayPal   \n\n\n\n\n\n\n\nPara más información contactar a Rev. Claudia Olmos enviando un email a colmos@unityhouston.org
URL:https://unityhouston.org/event/latinas-unidas-en-la-luz-10-de-marzo/
LOCATION:Unity of Houston – Wallet Hall\, 2929 Unity Drive\, Houston\, 77057\, United States
CATEGORIES:En Espanol,Latinas Unidas,Master Calendar,Upcoming Events - On Home Page
ATTACH;FMTTYPE=image/jpeg:https://unityhouston.org/wp-content/uploads/2024/06/UOH-Latinas-Unidas-en-la-Luz-1000x1000-1.jpg
GEO:29.7342875;-95.4990143
X-APPLE-STRUCTURED-LOCATION;VALUE=URI;X-ADDRESS=Unity of Houston – Wallet Hall 2929 Unity Drive Houston 77057 United States;X-APPLE-RADIUS=500;X-TITLE=2929 Unity Drive:geo:-95.4990143,29.7342875
END:VEVENT
BEGIN:VEVENT
DTSTART;TZID=America/Chicago:20260315T123000
DTEND;TZID=America/Chicago:20260315T133000
DTSTAMP:20260421T075417
CREATED:20260114T161626Z
LAST-MODIFIED:20260114T161627Z
UID:10007538-1773577800-1773581400@unityhouston.org
SUMMARY:Men Of Unity
DESCRIPTION:As children of God\, the men of Unity of Houston have experienced diverse\, challenging\, changing\, and valued journeys in life.  Our personal human journeys today require a conscientious focus on Being\, Becoming and Belonging in relationship with our families\, friends\, communities\, and our church.  To this end\, the Men of Unity ministry serves to enhance our awareness\, address our needs\, build our aspirations\, and solidify our spiritual life as true men of God and the universe. \n\n\n\nMen of Unity meets on the 4th Sunday of each month at 12:30 pm in the Unity Art Gallery. \n\n\n\nThis group is facilitated by Jaime de la Isla and Harold Auzenne.
URL:https://unityhouston.org/event/men-of-unity-4/
LOCATION:Unity of Houston Art Gallery\, 2929 Unity Drive\, Houston\, 77057\, United States
CATEGORIES:Groups,Master Calendar,Men of Unity,Upcoming Events - On Home Page
ATTACH;FMTTYPE=image/jpeg:https://unityhouston.org/wp-content/uploads/2024/06/UOH-Men-of-Unity-1000x1000-1.jpg
GEO:29.7347952;-95.4988794
X-APPLE-STRUCTURED-LOCATION;VALUE=URI;X-ADDRESS=Unity of Houston Art Gallery 2929 Unity Drive Houston 77057 United States;X-APPLE-RADIUS=500;X-TITLE=2929 Unity Drive:geo:-95.4988794,29.7347952
END:VEVENT
BEGIN:VEVENT
DTSTART;TZID=America/Chicago:20260321T130000
DTEND;TZID=America/Chicago:20260321T150000
DTSTAMP:20260421T075417
CREATED:20260202T171709Z
LAST-MODIFIED:20260224T172004Z
UID:10007559-1774098000-1774105200@unityhouston.org
SUMMARY:Unity Women - Exploring Life and Death!
DESCRIPTION:Facilitated by Sarah Gish \n\n\n\nJoin igniter\, connector\, teacher\, and artist Sarah Gish (www.IgniteYourOwnLife.com) as she encourages fun & creative explorations of our life and our death. This talk will be in the Art Gallery so that attendees can see her FotoFest (www.FotoFest.org) show\, IGNITE YOUR LIFE! Honoring the Deceased. We’ll talk about ways that people prepare for death\, as well as how we envision our own death. We’ll also chat about how we ignite our lives\, what we want to be remembered for\, what words describe us. It will be a joyful celebration of something we all do: LIVE and DIE! If you wish: please bring or wear something that connects you to an ancestor (i.e. mother’s scarf\, dad’s hat\, etc.) as well as photos of loved ones (humans and pets) who have passed\, which will be added to Sarah’s MEMENTO Photo-line that is part of her exhibition\, on view through May 3. \n\n\n\nRegister here.
URL:https://unityhouston.org/event/unity-women-exploring-life-and-death/
LOCATION:Unity of Houston Art Gallery\, 2929 Unity Drive\, Houston\, 77057\, United States
CATEGORIES:Master Calendar,Unity Women,Upcoming Events - On Home Page
GEO:29.7347952;-95.4988794
X-APPLE-STRUCTURED-LOCATION;VALUE=URI;X-ADDRESS=Unity of Houston Art Gallery 2929 Unity Drive Houston 77057 United States;X-APPLE-RADIUS=500;X-TITLE=2929 Unity Drive:geo:-95.4988794,29.7347952
END:VEVENT
BEGIN:VEVENT
DTSTART;TZID=America/Chicago:20260329T103000
DTEND;TZID=America/Chicago:20260329T123000
DTSTAMP:20260421T075417
CREATED:20251208T165009Z
LAST-MODIFIED:20251208T165202Z
UID:10007481-1774780200-1774787400@unityhouston.org
SUMMARY:Pet Food & Supplies Donations
DESCRIPTION:On the last Sunday of the month\, we’ll collect donations for a pet food bank\, typically benefiting Interfaith Ministries for Greater Houston’s Animeals program. You can find the collection bin at our Sanctuary courtyard drive-thru. Please bring non-perishable dog & cat food items and supplies. Cash donations are also gratefully received. And if you need pet food\, please stop by.
URL:https://unityhouston.org/event/pet-food-supplies-donations-2/2026-03-29/
LOCATION:Unity of Houston – Sanctuary Drive-Through\, 2929 Unity Drive\, Houston\, TX\, 77057\, United States
CATEGORIES:Animal Kinship Ministry,Groups,Master Calendar,Upcoming Events - On Home Page
ATTACH;FMTTYPE=image/jpeg:https://unityhouston.org/wp-content/uploads/2021/03/kwirx_uoh-appimages-homescreen_animal_kinship_pet_food_donations_feb-2.jpg
GEO:29.7346733;-95.4991036
X-APPLE-STRUCTURED-LOCATION;VALUE=URI;X-ADDRESS=Unity of Houston – Sanctuary Drive-Through 2929 Unity Drive Houston TX 77057 United States;X-APPLE-RADIUS=500;X-TITLE=2929 Unity Drive:geo:-95.4991036,29.7346733
END:VEVENT
END:VCALENDAR