BEGIN:VCALENDAR
VERSION:2.0
PRODID:-//Unity of Houston - ECPv6.13.2.1//NONSGML v1.0//EN
CALSCALE:GREGORIAN
METHOD:PUBLISH
X-WR-CALNAME:Unity of Houston
X-ORIGINAL-URL:https://unityhouston.org
X-WR-CALDESC:Events for Unity of Houston
REFRESH-INTERVAL;VALUE=DURATION:PT1H
X-Robots-Tag:noindex
X-PUBLISHED-TTL:PT1H
BEGIN:VTIMEZONE
TZID:America/Chicago
BEGIN:DAYLIGHT
TZOFFSETFROM:-0600
TZOFFSETTO:-0500
TZNAME:CDT
DTSTART:20260308T080000
END:DAYLIGHT
BEGIN:STANDARD
TZOFFSETFROM:-0500
TZOFFSETTO:-0600
TZNAME:CST
DTSTART:20261101T070000
END:STANDARD
END:VTIMEZONE
BEGIN:VEVENT
DTSTART;TZID=America/Chicago:20260104T123000
DTEND;TZID=America/Chicago:20260104T133000
DTSTAMP:20260421T102720
CREATED:20251211T193722Z
LAST-MODIFIED:20251211T193724Z
UID:10007507-1767529800-1767533400@unityhouston.org
SUMMARY:NextGen: Astrology Workshop
DESCRIPTION:Facilitated by NextGen Team \n\n\n\nCome learn how your birth chart impacts your personality\, profession\, and purpose. Led by NextGen’s own Samantha Jones! \n\n\n\nIf you have any questions\, and to RSVP email unitynextgeneration@gmail.com  \n\n\n\nChildcare will be available if you complete this CHILDCARE REQUEST FORM one week in advance. 
URL:https://unityhouston.org/event/nextgen-astrology-workshop/
LOCATION:Unity of Houston Art Gallery\, 2929 Unity Drive\, Houston\, 77057\, United States
CATEGORIES:Groups,Master Calendar,NextGen,Upcoming Events - On Home Page
ATTACH;FMTTYPE=image/jpeg:https://unityhouston.org/wp-content/uploads/2025/02/kwirx_UOH_Unity-Next-Gen_1200x628_V1.jpg
GEO:29.7347952;-95.4988794
X-APPLE-STRUCTURED-LOCATION;VALUE=URI;X-ADDRESS=Unity of Houston Art Gallery 2929 Unity Drive Houston 77057 United States;X-APPLE-RADIUS=500;X-TITLE=2929 Unity Drive:geo:-95.4988794,29.7347952
END:VEVENT
BEGIN:VEVENT
DTSTART;TZID=America/Chicago:20260113T183000
DTEND;TZID=America/Chicago:20260113T203000
DTSTAMP:20260421T102720
CREATED:20251010T164934Z
LAST-MODIFIED:20251010T164959Z
UID:10007318-1768329000-1768336200@unityhouston.org
SUMMARY:Latinas Unidas en la Luz - 13 de enero
DESCRIPTION:“La Gratitud como camino de Sanación y Resiliencia”\n\n\n\nFacilitado por Julieta Quijada \n\n\n\n\n\nNuestras reuniones de Latinas Unidas en la Luz inician con un espacio de conexión y convivencia\, donde compartimos presencia y algunos bocadillos estilo “potluck”. Te invitamos a traer un platillo para compartir con las demás participantes y así enriquecer juntas este tiempo especial.  \n\n\n\nEste mes tendremos el tema: “La Gratitud como camino de Sanación y Resiliencia” ¿Qué une una exitosa carrera de 41 años como ingeniera geóloga con la sabiduría de una terapeuta holística? La gratitud y la resiliencia. Mi vida ha sido un viaje de contrastes\, lleno de grandes éxitos y profundas pérdidas. He superado la muerte de mi madre a los 19 años\, sobreviví al cáncer de seno\, me reinventé después de 36 años de matrimonio y reconstruí mi vida en un nuevo país después de perder mi carrera en la industria petrolera.  \n\n\n\nLa pérdida de mi segundo esposo también marcó mi camino. Cada desafío me enseñó que la sanación no es la ausencia de dolor\, sino la capacidad de encontrar la luz y el aprendizaje en medio de la tormenta. Con el bendecido regalo de tres hijos y tres nietos\, y con la experiencia de haberme jubilado para abrir mi propia tienda de servicios holísticos\, descubrí mi verdadera misión: guiar a otros a través de sus propias transformaciones. En esta charla\, compartiré cómo mi perspectiva única\, que fusiona la ciencia y la espiritualidad\, me ha permitido entender que la energía sigue al pensamiento\, y que la paz interior es el regalo más grande de la aceptación. Únete a mí para descubrir cómo\, a través de la gratitud\, puedes convertir tus desafíos en una fuente inagotable de fortaleza\, sanar tus heridas y vivir una vida significativa\, plena y resiliente. \n\n\n\nDonación amorosa. PayPal   \n\n\n\n\nBiografía de Julieta Quijada: Julieta es una Sanadora de Energía Multidimensional con una práctica integral que combina diversas modalidades como Life Coaching\, PNL\, Meditación\, Reiki\, Cristales\, Terapia de Ángeles y Equilibrio de Chacras. Con 41 años de experiencia como Ingeniera Geóloga en la industria petrolera\, posee una comprensión profunda de la Tierra desde perspectivas científicas y espirituales. Desde su jubilación en 2019\, se ha dedicado a compartir su sabiduría en sanación física\, emocional y espiritual. Su enfoque se basa en el principio de que la energía sigue al pensamiento y en cultivar la resiliencia ante las pruebas de la vida. Julieta enseña que la paz interior se alcanza a través de la aceptación y el perdón. En sus sesiones\, guía a las personas a reconectarse con su propósito y equilibrio interior. Su misión es empoderar a otros a crear una vida plena y en armonía mediante prácticas energéticas conscientes. \n\n\n\n\n\n\n\n\nPara más información contactar a Rev. Claudia Olmos enviando un email a colmos@unityhouston.org
URL:https://unityhouston.org/event/latinas-unidas-en-la-luz-13-de-enero/
LOCATION:Unity of Houston – Wallet Hall\, 2929 Unity Drive\, Houston\, 77057\, United States
CATEGORIES:En Espanol,Latinas Unidas,Master Calendar,Upcoming Events - On Home Page
ATTACH;FMTTYPE=image/jpeg:https://unityhouston.org/wp-content/uploads/2024/06/UOH-Latinas-Unidas-en-la-Luz-1000x1000-1.jpg
GEO:29.7342875;-95.4990143
X-APPLE-STRUCTURED-LOCATION;VALUE=URI;X-ADDRESS=Unity of Houston – Wallet Hall 2929 Unity Drive Houston 77057 United States;X-APPLE-RADIUS=500;X-TITLE=2929 Unity Drive:geo:-95.4990143,29.7342875
END:VEVENT
BEGIN:VEVENT
DTSTART;TZID=America/Chicago:20260117T130000
DTEND;TZID=America/Chicago:20260117T150000
DTSTAMP:20260421T102720
CREATED:20251230T161739Z
LAST-MODIFIED:20260115T181543Z
UID:10007522-1768654800-1768662000@unityhouston.org
SUMMARY:Unity Women - Soul Collage for the New Year
DESCRIPTION:Facilitated by Mary Fehr and Donalayah Fisher  \n\n\n\nWe are going to welcome 2026 with our annual SoulCollage program facilitated by Mary Fehr. Join us to experience an intuitive process that leads you to create your unique soul collage card that provides you with an insightful\, meaningful message regarding who you are as a spiritual being. No artistic skills required. Anyone can engage in this process. Bring scissors and glue stick and we’ll have fun together on Saturday\, January 17\, 2026!! \n\n\n\nClick here to register
URL:https://unityhouston.org/event/unity-women-soul-collage-for-the-new-year/
LOCATION:Unity of Houston Art Gallery\, 2929 Unity Drive\, Houston\, 77057\, United States
CATEGORIES:Master Calendar,Unity Women,Upcoming Events - On Home Page
ATTACH;FMTTYPE=image/jpeg:https://unityhouston.org/wp-content/uploads/2023/05/app_Unity-Women.jpg
GEO:29.7347952;-95.4988794
X-APPLE-STRUCTURED-LOCATION;VALUE=URI;X-ADDRESS=Unity of Houston Art Gallery 2929 Unity Drive Houston 77057 United States;X-APPLE-RADIUS=500;X-TITLE=2929 Unity Drive:geo:-95.4988794,29.7347952
END:VEVENT
BEGIN:VEVENT
DTSTART;TZID=America/Chicago:20260118T123000
DTEND;TZID=America/Chicago:20260118T133000
DTSTAMP:20260421T102720
CREATED:20251208T194125Z
LAST-MODIFIED:20251208T194126Z
UID:10007505-1768739400-1768743000@unityhouston.org
SUMMARY:Men of Unity
DESCRIPTION:As children of God\, the men of Unity of Houston have experienced diverse\, challenging\, changing\, and valued journeys in life.  Our personal human journeys today require a conscientious focus on Being\, Becoming and Belonging in relationship with our families\, friends\, communities\, and our church.  To this end\, the Men of Unity ministry serves to enhance our awareness\, address our needs\, build our aspirations\, and solidify our spiritual life as true men of God and the universe. \n\n\n\nMen of Unity meets on the 4th Sunday of each month at 12:30 pm in the Unity Art Gallery. \n\n\n\nThis group is facilitated by Jaime de la Isla and Harold Auzenne.
URL:https://unityhouston.org/event/men-of-unity-3/
LOCATION:Unity of Houston Art Gallery\, 2929 Unity Drive\, Houston\, 77057\, United States
CATEGORIES:Groups,Master Calendar,Men of Unity,Upcoming Events - On Home Page
ATTACH;FMTTYPE=image/jpeg:https://unityhouston.org/wp-content/uploads/2024/06/UOH-Men-of-Unity-1000x1000-1.jpg
GEO:29.7347952;-95.4988794
X-APPLE-STRUCTURED-LOCATION;VALUE=URI;X-ADDRESS=Unity of Houston Art Gallery 2929 Unity Drive Houston 77057 United States;X-APPLE-RADIUS=500;X-TITLE=2929 Unity Drive:geo:-95.4988794,29.7347952
END:VEVENT
BEGIN:VEVENT
DTSTART;TZID=America/Chicago:20260125T103000
DTEND;TZID=America/Chicago:20260125T123000
DTSTAMP:20260421T102720
CREATED:20251208T165009Z
LAST-MODIFIED:20251208T165202Z
UID:10007479-1769337000-1769344200@unityhouston.org
SUMMARY:Pet Food & Supplies Donations
DESCRIPTION:On the last Sunday of the month\, we’ll collect donations for a pet food bank\, typically benefiting Interfaith Ministries for Greater Houston’s Animeals program. You can find the collection bin at our Sanctuary courtyard drive-thru. Please bring non-perishable dog & cat food items and supplies. Cash donations are also gratefully received. And if you need pet food\, please stop by.
URL:https://unityhouston.org/event/pet-food-supplies-donations-2/2026-01-25/
LOCATION:Unity of Houston – Sanctuary Drive-Through\, 2929 Unity Drive\, Houston\, TX\, 77057\, United States
CATEGORIES:Animal Kinship Ministry,Groups,Master Calendar,Upcoming Events - On Home Page
ATTACH;FMTTYPE=image/jpeg:https://unityhouston.org/wp-content/uploads/2021/03/kwirx_uoh-appimages-homescreen_animal_kinship_pet_food_donations_feb-2.jpg
GEO:29.7346733;-95.4991036
X-APPLE-STRUCTURED-LOCATION;VALUE=URI;X-ADDRESS=Unity of Houston – Sanctuary Drive-Through 2929 Unity Drive Houston TX 77057 United States;X-APPLE-RADIUS=500;X-TITLE=2929 Unity Drive:geo:-95.4991036,29.7346733
END:VEVENT
END:VCALENDAR