BEGIN:VCALENDAR
VERSION:2.0
PRODID:-//Unity of Houston - ECPv6.13.2.1//NONSGML v1.0//EN
CALSCALE:GREGORIAN
METHOD:PUBLISH
X-WR-CALNAME:Unity of Houston
X-ORIGINAL-URL:https://unityhouston.org
X-WR-CALDESC:Events for Unity of Houston
REFRESH-INTERVAL;VALUE=DURATION:PT1H
X-Robots-Tag:noindex
X-PUBLISHED-TTL:PT1H
BEGIN:VTIMEZONE
TZID:America/Chicago
BEGIN:DAYLIGHT
TZOFFSETFROM:-0600
TZOFFSETTO:-0500
TZNAME:CDT
DTSTART:20250309T080000
END:DAYLIGHT
BEGIN:STANDARD
TZOFFSETFROM:-0500
TZOFFSETTO:-0600
TZNAME:CST
DTSTART:20251102T070000
END:STANDARD
END:VTIMEZONE
BEGIN:VEVENT
DTSTART;TZID=America/Chicago:20251207T123000
DTEND;TZID=America/Chicago:20251207T133000
DTSTAMP:20260421T130002
CREATED:20251123T183400Z
LAST-MODIFIED:20251123T183401Z
UID:10007405-1765110600-1765114200@unityhouston.org
SUMMARY:NextGen: Gift and Treat Exchange
DESCRIPTION:Facilitated by NextGen Team \n\n\n\nCome celebrate the holidays with NextGen! Join us for a gift swap\, treats\, and bingo!To participate\, bring: A wrapped gift. $20 value – new (ex. gift card)\, gently used (ex. book) or homemade (ex. scarf). A favorite homemade/store-bought snack or drink. 6 to 10 servings. \n\n\n\nIf you have any questions\, and to RSVP email unitynextgeneration@gmail.com  \n\n\n\n\n\n\n\nChildcare will be available. To ensure a spot for your child\, please complete this CHILDCARE REQUEST FORM one week in advance. 
URL:https://unityhouston.org/event/nextgen-gift-and-treat-exchange/
LOCATION:Unity of Houston Art Gallery\, 2929 Unity Drive\, Houston\, 77057\, United States
CATEGORIES:Groups,Master Calendar,NextGen,Upcoming Events - On Home Page
ATTACH;FMTTYPE=image/jpeg:https://unityhouston.org/wp-content/uploads/2025/02/kwirx_UOH_Unity-Next-Gen_1200x628_V1.jpg
GEO:29.7347952;-95.4988794
X-APPLE-STRUCTURED-LOCATION;VALUE=URI;X-ADDRESS=Unity of Houston Art Gallery 2929 Unity Drive Houston 77057 United States;X-APPLE-RADIUS=500;X-TITLE=2929 Unity Drive:geo:-95.4988794,29.7347952
END:VEVENT
BEGIN:VEVENT
DTSTART;TZID=America/Chicago:20251209T183000
DTEND;TZID=America/Chicago:20251209T203000
DTSTAMP:20260421T130002
CREATED:20251202T204516Z
LAST-MODIFIED:20251202T204517Z
UID:10007476-1765305000-1765312200@unityhouston.org
SUMMARY:Latinas Unidas en la Luz - 9 de diciembre
DESCRIPTION:“Cerrando el año con amor”\n\n\n\nFacilitado por Rev. Claudia Olmos \n\n\n\n\n\nEn esta ocasión queremos invitarte a una celebración navideña muy especial donde cerraremos el año con un convivio lleno de amor y comunidad. Tendremos un panel con algunas de nuestras facilitadoras\, espacio para compartir experiencias y disfrutaremos juntos de los platillos que cada quien traerá con cariño. Por favor confirma tu asistencia y registra tu platillo con Rocio Rodriguez @ (713) 277-4772 \n\n\n\nDonación amorosa. PayPal   \n\n\n\n\n\n\n\nPara más información contactar a Rev. Claudia Olmos enviando un email a colmos@unityhouston.org
URL:https://unityhouston.org/event/latinas-unidas-en-la-luz-9-de-diciembre/
LOCATION:Unity of Houston – Wallet Hall\, 2929 Unity Drive\, Houston\, 77057\, United States
CATEGORIES:En Espanol,Latinas Unidas,Master Calendar,Upcoming Events - On Home Page
ATTACH;FMTTYPE=image/jpeg:https://unityhouston.org/wp-content/uploads/2024/06/UOH-Latinas-Unidas-en-la-Luz-1000x1000-1.jpg
GEO:29.7342875;-95.4990143
X-APPLE-STRUCTURED-LOCATION;VALUE=URI;X-ADDRESS=Unity of Houston – Wallet Hall 2929 Unity Drive Houston 77057 United States;X-APPLE-RADIUS=500;X-TITLE=2929 Unity Drive:geo:-95.4990143,29.7342875
END:VEVENT
BEGIN:VEVENT
DTSTART;TZID=America/Chicago:20251213T130000
DTEND;TZID=America/Chicago:20251213T150000
DTSTAMP:20260421T130002
CREATED:20250804T163736Z
LAST-MODIFIED:20250806T180434Z
UID:10007060-1765630800-1765638000@unityhouston.org
SUMMARY:Unity Women - Holiday Party
DESCRIPTION:Unity Women – Holiday Party\nFacilitated by Donalayah Fisher \n\nWomen of Unity you’re invited to our annual Unity Women’s Holiday party on Saturday afternoon\, December 13 from 1:00 to 3:00 pm in the Unity Bookstore. This is a time for fun and celebration of the Christmas season. There will be fun activities and time to visit with each other. You’re welcome to bring a snack to share or just come and enjoy. Mimosas\, coffee\, and tea will be available. There will be Christmas music and special discounts for holiday shopping! \nDonation \n\n\n\nPlease Register in advance.
URL:https://unityhouston.org/event/unity-women-holiday-party/
LOCATION:Unity of Houston – Bookstore\, 2929 Unity Drive\, Houston\, 77057\, United States
CATEGORIES:Master Calendar,Unity Women,Upcoming Events - On Home Page
ATTACH;FMTTYPE=image/jpeg:https://unityhouston.org/wp-content/uploads/2021/11/Holiday-Party.jpg
ORGANIZER;CN="Donalayah Fisher":MAILTO:dfisher@unityhouston.org
GEO:29.7342875;-95.4990143
X-APPLE-STRUCTURED-LOCATION;VALUE=URI;X-ADDRESS=Unity of Houston – Bookstore 2929 Unity Drive Houston 77057 United States;X-APPLE-RADIUS=500;X-TITLE=2929 Unity Drive:geo:-95.4990143,29.7342875
END:VEVENT
BEGIN:VEVENT
DTSTART;TZID=America/Chicago:20251228T103000
DTEND;TZID=America/Chicago:20251228T123000
DTSTAMP:20260421T130002
CREATED:20251208T165009Z
LAST-MODIFIED:20251208T165202Z
UID:10006214-1766917800-1766925000@unityhouston.org
SUMMARY:Pet Food & Supplies Donations
DESCRIPTION:On the last Sunday of the month\, we’ll collect donations for a pet food bank\, typically benefiting Interfaith Ministries for Greater Houston’s Animeals program. You can find the collection bin at our Sanctuary courtyard drive-thru. Please bring non-perishable dog & cat food items and supplies. Cash donations are also gratefully received. And if you need pet food\, please stop by.
URL:https://unityhouston.org/event/pet-food-supplies-donations-2/2025-12-28/
LOCATION:Unity of Houston – Sanctuary Drive-Through\, 2929 Unity Drive\, Houston\, TX\, 77057\, United States
CATEGORIES:Animal Kinship Ministry,Groups,Master Calendar,Upcoming Events - On Home Page
ATTACH;FMTTYPE=image/jpeg:https://unityhouston.org/wp-content/uploads/2021/03/kwirx_uoh-appimages-homescreen_animal_kinship_pet_food_donations_feb-2.jpg
GEO:29.7346733;-95.4991036
X-APPLE-STRUCTURED-LOCATION;VALUE=URI;X-ADDRESS=Unity of Houston – Sanctuary Drive-Through 2929 Unity Drive Houston TX 77057 United States;X-APPLE-RADIUS=500;X-TITLE=2929 Unity Drive:geo:-95.4991036,29.7346733
END:VEVENT
END:VCALENDAR