BEGIN:VCALENDAR
VERSION:2.0
PRODID:-//Unity of Houston - ECPv6.13.2.1//NONSGML v1.0//EN
CALSCALE:GREGORIAN
METHOD:PUBLISH
X-ORIGINAL-URL:https://unityhouston.org
X-WR-CALDESC:Events for Unity of Houston
REFRESH-INTERVAL;VALUE=DURATION:PT1H
X-Robots-Tag:noindex
X-PUBLISHED-TTL:PT1H
BEGIN:VTIMEZONE
TZID:America/Chicago
BEGIN:DAYLIGHT
TZOFFSETFROM:-0600
TZOFFSETTO:-0500
TZNAME:CDT
DTSTART:20250309T080000
END:DAYLIGHT
BEGIN:STANDARD
TZOFFSETFROM:-0500
TZOFFSETTO:-0600
TZNAME:CST
DTSTART:20251102T070000
END:STANDARD
END:VTIMEZONE
BEGIN:VEVENT
DTSTART;TZID=America/Chicago:20251004T100000
DTEND;TZID=America/Chicago:20251004T120000
DTSTAMP:20260421T142928
CREATED:20250905T134109Z
LAST-MODIFIED:20250905T134429Z
UID:10007263-1759572000-1759579200@unityhouston.org
SUMMARY:Annual Pet Blessing
DESCRIPTION:Facilitated by Rev. Cindy Cline\, ILLLI ordained \n\n\n\nJoin us for a joyful and heartwarming morning as we honor the sacred bond between humans and their animal companions. Whether your pet barks\, purrs\, chirps\, or slithers\, all are welcome to receive a special blessing from Revs. Cindy Cline\, Stacy Collins\, Claudia Olmos\, and Shirley Knight. \n\n\n\nHighlights Include \n\n\n\n\nPet blessings and prayers of gratitude\n\n\n\nBooths with pet first aid info\, local rescue groups\, and artists\n\n\n\nPet photography and treats\n\n\n\nCommunity connection with fellow animal lovers\n\n\n\n\nIf your pet prefers to stay home\, feel free to bring a photo for a remote blessing. This event is free and open to all—just bring your furry\, feathered\, or scaled friend on a leash or in a carrier. Let’s celebrate the unconditional love and joy our pets bring into our lives. We can’t wait to see you there!  Questions? Call 713-782-4050.
URL:https://unityhouston.org/event/annual-pet-blessing-2/
LOCATION:Unity of Houston – Sanctuary Courtyard\, 2929 Unity Drive\, Houston\, TX\, 77057\, United States
CATEGORIES:Animal Kinship Ministry,Groups,Master Calendar,Upcoming Events - On Home Page
ATTACH;FMTTYPE=image/jpeg:https://unityhouston.org/wp-content/uploads/2024/09/UOH-Pet-Blessings-600x600-1.jpg
GEO:29.7342875;-95.4990143
X-APPLE-STRUCTURED-LOCATION;VALUE=URI;X-ADDRESS=Unity of Houston – Sanctuary Courtyard 2929 Unity Drive Houston TX 77057 United States;X-APPLE-RADIUS=500;X-TITLE=2929 Unity Drive:geo:-95.4990143,29.7342875
END:VEVENT
BEGIN:VEVENT
DTSTART;TZID=America/Chicago:20251014T183000
DTEND;TZID=America/Chicago:20251014T203000
DTSTAMP:20260421T142928
CREATED:20250718T163900Z
LAST-MODIFIED:20250903T231704Z
UID:10006987-1760466600-1760473800@unityhouston.org
SUMMARY:Latinas Unidas en la Luz - 14 de octubre
DESCRIPTION:“Reconciliación: El Arte de Volver a Mí”\n\n\n\nFacilitado por Migdalia Fernández-León \n\n\n\n\n\nNuestras reuniones de Latinas Unidas en la Luz inician con un espacio de conexión y convivencia\, donde compartimos presencia y algunos bocadillos estilo “potluck”. Te invitamos a traer un platillo para compartir con las demás participantes y así enriquecer juntas este tiempo especial.  \n\n\n\nEste mes tendremos el tema: “Reconciliación: El Arte de Volver a Mí” Una historia de transformación\, verdad y renacimiento. En esta conversación íntima\, MigdaliaFernández-León comparte el camino que la llevó del dolor a la paz interior\, del silencio a la expresión auténtica. A través de su experiencia personal y espiritual\, nos invita a reconocer nuestras propias heridas\, nombrarlas con valentía y caminar hacia una vida de plenitud y propósito. Esta charla es una celebración del alma femenina\, de la resiliencia latina\, y del poder sanador de la verdad cuando se dice con amor. Una invitación a mirarte\, abrazarte… y volver a ti.  \n\n\n\nBiografía de Migdalia Fernández-León: Migdalia Fernández-León (@miggiecoach) es una mujer latina comprometida con el despertar espiritual y la sanación emocional. Es Life Coach certificada\, Especialista en Duelo\, cantautora de música con propósito y autora del libro Reconciliación: El Arte de Volver a Mí\, una obra donde entrelaza su historia personal con herramientas para sanar desde el alma. Su trabajo integra espiritualidad\, consciencia y música como caminos de transformación. Migdalia inspira desde la autenticidad\, guiando a otras mujeres a recordarse completas\, libres y suficientes. \n\n\n\n\n\n\n\nDonación amorosa. PayPal   \n\n\n\n\n\n\n\nPara más información contactar a Rev. Claudia Olmos enviando un email a colmos@unityhouston.org
URL:https://unityhouston.org/event/latinas-unidas-en-la-luz-14-de-octubre/
LOCATION:Unity of Houston – Wallet Hall\, 2929 Unity Drive\, Houston\, 77057\, United States
CATEGORIES:En Espanol,Latinas Unidas,Master Calendar,Upcoming Events - On Home Page
ATTACH;FMTTYPE=image/jpeg:https://unityhouston.org/wp-content/uploads/2024/06/UOH-Latinas-Unidas-en-la-Luz-1000x1000-1.jpg
GEO:29.7342875;-95.4990143
X-APPLE-STRUCTURED-LOCATION;VALUE=URI;X-ADDRESS=Unity of Houston – Wallet Hall 2929 Unity Drive Houston 77057 United States;X-APPLE-RADIUS=500;X-TITLE=2929 Unity Drive:geo:-95.4990143,29.7342875
END:VEVENT
BEGIN:VEVENT
DTSTART;TZID=America/Chicago:20251018T130000
DTEND;TZID=America/Chicago:20251018T150000
DTSTAMP:20260421T142928
CREATED:20250804T162224Z
LAST-MODIFIED:20251013T145656Z
UID:10007059-1760792400-1760799600@unityhouston.org
SUMMARY:Unity Women - BOOkmobile Service Project
DESCRIPTION:Unity Women – BOOkmobile Service Project\nFacilitated by Donalayah Fisher \n\nUnity Women are once again offering a BOOkmobile at our Trunk ‘n Treat event\, and we are collecting new and used children’s books for all ages\, Spanish and English. Our service project is focused on making sure every child goes home with a book. We can use your help as we expect approximately 500 children to attend Trunk ‘n Treat. Please drop off any books you can donate by Sunday\, October 12 in the Sanctuary lobby or in the bookstore. Join us on Saturday\, October 18\, from 1:00 to 3:00 pm to sort the books by English/Spanish and age categories. Sorting books will take place in the Sanctuary lobby. You can also join us on Saturday\, October 25 at 4:30 to hand out the books at the Trunk ‘n Treat event in the Sanctuary parking lot. \nDonation \n\n\n\nRegister to sort books on 10/18\n\n\n\n \n\n\n\nRegister to hand out books at Trunk & Treat on 10/25
URL:https://unityhouston.org/event/unity-women-bookmobile-service-project/
LOCATION:Unity of Houston – Office Classroom\, 2929 Unity Drive\, Houston\, TX\, 77057\, United States
CATEGORIES:Master Calendar,Unity Women,Upcoming Events - On Home Page
ATTACH;FMTTYPE=image/jpeg:https://unityhouston.org/wp-content/uploads/2023/05/app_Unity-Women.jpg
ORGANIZER;CN="Donalayah Fisher":MAILTO:dfisher@unityhouston.org
GEO:29.7342875;-95.4990143
X-APPLE-STRUCTURED-LOCATION;VALUE=URI;X-ADDRESS=Unity of Houston – Office Classroom 2929 Unity Drive Houston TX 77057 United States;X-APPLE-RADIUS=500;X-TITLE=2929 Unity Drive:geo:-95.4990143,29.7342875
END:VEVENT
BEGIN:VEVENT
DTSTART;TZID=America/Chicago:20251026T103000
DTEND;TZID=America/Chicago:20251026T123000
DTSTAMP:20260421T142928
CREATED:20250217T153521Z
LAST-MODIFIED:20250217T153522Z
UID:10006212-1761474600-1761481800@unityhouston.org
SUMMARY:Pet Food & Supplies Donations
DESCRIPTION:On the last Sunday of the month\, we’ll collect donations for a pet food bank\, typically benefiting Interfaith Ministries for Greater Houston’s Animeals program. You can find the collection bin at our Sanctuary courtyard drive-thru. Please bring non-perishable dog & cat food items and supplies. Cash donations are also gratefully received. And if you need pet food\, please stop by.
URL:https://unityhouston.org/event/pet-food-supplies-donations-4/2025-10-26/
LOCATION:Unity of Houston – Sanctuary Drive-Through\, 2929 Unity Drive\, Houston\, TX\, 77057\, United States
CATEGORIES:Animal Kinship Ministry,Groups,Master Calendar,Upcoming Events - On Home Page
ATTACH;FMTTYPE=image/jpeg:https://unityhouston.org/wp-content/uploads/2021/03/kwirx_uoh-appimages-homescreen_animal_kinship_pet_food_donations_feb-2.jpg
GEO:29.7346733;-95.4991036
X-APPLE-STRUCTURED-LOCATION;VALUE=URI;X-ADDRESS=Unity of Houston – Sanctuary Drive-Through 2929 Unity Drive Houston TX 77057 United States;X-APPLE-RADIUS=500;X-TITLE=2929 Unity Drive:geo:-95.4991036,29.7346733
END:VEVENT
BEGIN:VEVENT
DTSTART;TZID=America/Chicago:20251026T123000
DTEND;TZID=America/Chicago:20251026T133000
DTSTAMP:20260421T142928
CREATED:20231026T204213Z
LAST-MODIFIED:20241219T212830Z
UID:10005948-1761481800-1761485400@unityhouston.org
SUMMARY:Men of Unity
DESCRIPTION:As children of God\, the men of Unity of Houston have experienced diverse\, challenging\, changing\, and valued journeys in life.  Our personal human journeys today require a conscientious focus on Being\, Becoming and Belonging in relationship with our families\, friends\, communities\, and our church.  To this end\, the Men of Unity ministry serves to enhance our awareness\, address our needs\, build our aspirations\, and solidify our spiritual life as true men of God and the universe. \nMen of Unity meets on the 4th Sunday of each month at 12:30 pm in the Unity Art Gallery. \nThis group is facilitated by Jaime de la Isla and Harold Auzenne.
URL:https://unityhouston.org/event/men-of-unity-december-2024/2025-10-26/
LOCATION:Unity of Houston Art Gallery\, 2929 Unity Drive\, Houston\, 77057\, United States
CATEGORIES:Master Calendar,Men of Unity,Upcoming Events - On Home Page
GEO:29.7347952;-95.4988794
X-APPLE-STRUCTURED-LOCATION;VALUE=URI;X-ADDRESS=Unity of Houston Art Gallery 2929 Unity Drive Houston 77057 United States;X-APPLE-RADIUS=500;X-TITLE=2929 Unity Drive:geo:-95.4988794,29.7347952
END:VEVENT
BEGIN:VEVENT
DTSTART;TZID=America/Chicago:20251026T123000
DTEND;TZID=America/Chicago:20251026T143000
DTSTAMP:20260421T142928
CREATED:20250925T183835Z
LAST-MODIFIED:20251006T125827Z
UID:10007309-1761481800-1761489000@unityhouston.org
SUMMARY:Black Women's Circle at Unity: It's Healing Time
DESCRIPTION:Facilitated by the Black Women’s Circle at Unity’s Leadership Team \n\n\n\nThe Black Women’s Circle at Unity welcomes Rev. Ann Kathryn Bass-Lister for an inspiring gathering\, It’s Healing Time. Drawing from her life’s work\, Rev. Ann will share her experiences supporting women with “mother wounds” and guiding them toward healing\, growth\, and becoming their authentic selves. Together\, we’ll engage in reflective practices that reconnect us with our own healing nature and the wisdom of our ancestors. This gathering offers a sacred space for restoration\, reflection\, and shared healing—you won’t want to miss it. \n\n\n\nAbout Rev. Ann Kathryn Bass-Lister Rev. Ann Kathryn Bass-Lister is an ordained minister\, hospice chaplain\, author\, and spiritual mentor. After earning her BA from Spelman College and a Master of Divinity from Emory University’s Candler School of Theology\, she followed a nontraditional path to ministry\, serving in chaplaincy\, spiritual direction\, and community outreach. Her work has included supporting women in shelters\, addiction recovery programs\, and families impacted by incarceration. Ordained at The Hillside International Truth Center in 2019\, Rev. Ann is committed to helping women heal “mother wounds\,” reconnect with their ancestral wisdom\, and live authentically. She is the author of Lovespirations (2022) and sums up her calling this way: “Love is my religion and the World is my Church.” \n\n\n\nPlease RSVP via email to blackwomenscircleatunity@gmail.com \n\n\n\nChildcare will be available. To ensure a spot for your child\, please complete this CHILDCARE REQUEST FORM one week in advance. 
URL:https://unityhouston.org/event/black-womens-circle-at-unity-its-healing-time/
LOCATION:Unity of Houston – Chapel\, 2929 Unity Drive\, Houston\, TX\, 77057\, United States
CATEGORIES:Black Women's Circle,Groups,Master Calendar,Upcoming Events - On Home Page
ATTACH;FMTTYPE=image/jpeg:https://unityhouston.org/wp-content/uploads/2025/05/kwirx_UOH_Black-Womens-Circle-Logo_1000x1000-1.jpg
GEO:29.7342875;-95.4990143
X-APPLE-STRUCTURED-LOCATION;VALUE=URI;X-ADDRESS=Unity of Houston – Chapel 2929 Unity Drive Houston TX 77057 United States;X-APPLE-RADIUS=500;X-TITLE=2929 Unity Drive:geo:-95.4990143,29.7342875
END:VEVENT
END:VCALENDAR