BEGIN:VCALENDAR
VERSION:2.0
PRODID:-//Unity of Houston - ECPv6.13.2.1//NONSGML v1.0//EN
CALSCALE:GREGORIAN
METHOD:PUBLISH
X-ORIGINAL-URL:https://unityhouston.org
X-WR-CALDESC:Events for Unity of Houston
REFRESH-INTERVAL;VALUE=DURATION:PT1H
X-Robots-Tag:noindex
X-PUBLISHED-TTL:PT1H
BEGIN:VTIMEZONE
TZID:America/Chicago
BEGIN:DAYLIGHT
TZOFFSETFROM:-0600
TZOFFSETTO:-0500
TZNAME:CDT
DTSTART:20250309T080000
END:DAYLIGHT
BEGIN:STANDARD
TZOFFSETFROM:-0500
TZOFFSETTO:-0600
TZNAME:CST
DTSTART:20251102T070000
END:STANDARD
END:VTIMEZONE
BEGIN:VEVENT
DTSTART;TZID=America/Chicago:20250907T003000
DTEND;TZID=America/Chicago:20250907T133000
DTSTAMP:20260421T161119
CREATED:20250804T160730Z
LAST-MODIFIED:20250902T143313Z
UID:10007058-1757205000-1757251800@unityhouston.org
SUMMARY:NextGen: Improv Workshop
DESCRIPTION:Facilitated by NextGen Team \n\n\n\nAspiring Broadway star? First time on stage? No problem! Improv is for everyone. Come have a hilariously good time while honing useful life skills such as listening\, teamwork and being in the moment. \n\n\n\nRSVP to unitynextgeneration@gmail.com  \n\n\n\nChildcare will be available. To ensure a spot for your child\, please complete this CHILDCARE REQUEST FORM one week in advance. 
URL:https://unityhouston.org/event/nextgen-improv-workshop/
LOCATION:Unity of Houston Art Gallery\, 2929 Unity Drive\, Houston\, 77057\, United States
CATEGORIES:Groups,Master Calendar,NextGen,Upcoming Events - On Home Page
ATTACH;FMTTYPE=image/jpeg:https://unityhouston.org/wp-content/uploads/2025/02/kwirx_UOH_Unity-Next-Gen_1200x628_V1.jpg
GEO:29.7347952;-95.4988794
X-APPLE-STRUCTURED-LOCATION;VALUE=URI;X-ADDRESS=Unity of Houston Art Gallery 2929 Unity Drive Houston 77057 United States;X-APPLE-RADIUS=500;X-TITLE=2929 Unity Drive:geo:-95.4988794,29.7347952
END:VEVENT
BEGIN:VEVENT
DTSTART;TZID=America/Chicago:20250909T183000
DTEND;TZID=America/Chicago:20250909T203000
DTSTAMP:20260421T161119
CREATED:20250903T231515Z
LAST-MODIFIED:20250904T140650Z
UID:10007259-1757442600-1757449800@unityhouston.org
SUMMARY:Latinas Unidas en la Luz - 9 de septiembre
DESCRIPTION:“Mi cuerpo mi verdad mi poder”\n\n\n\nFacilitado por Claudia Somarriba \n\n\n\n\n\nNuestras reuniones de Latinas Unidas en la Luz inician con un espacio de conexión y convivencia\, donde compartimos presencia y algunos bocadillos estilo “potluck”. Te invitamos a traer un platillo para compartir con las demás participantes y así enriquecer juntas este tiempo especial. \n\n\n\nEl sobrepeso no es solo exceso de grasa: es un mensaje profundo del alma. Desde la descodificación biológica\, exploramos cómo el cuerpo grita lo que la boca calla: miedo\, carencias\, desvalorización\, necesidad de protección. Esta plática es una invitación a mirar el cuerpo como aliado\, y al síntoma como guía. A través de herramientas terapéuticas y simbólicas\, aprenderás a transformar el peso en poder\, la culpa en conciencia y la historia en libertad. Una experiencia íntima y reveladora para mujeres que desean soltar cargas y reconectar con su verdadera fuerza interior. \n\n\n\nBiografia de Claudia Somarriba: Fundadora de New Vision\, terapeuta en Hipnosis Clínica Psicosomática\, Descodificación Biológica y Constelaciones Familiares. Con más de 10 años de experiencia acompañando procesos de transformación emocional\, Claudia integra herramientas como hipnosis\, coaching integrativo y biología del cuerpo para sanar desde la raíz. Está certificada internacionalmente por el Noebo Institute en Barcelona\, la IAW de España y Hay House. Ha guiado talleres en EE.UU. y Latinoamérica\, y es reconocida por su calidez\, profundidad y enfoque simbólico. \n\n\n\nDonación amorosa. PayPal   \n\n\n\n\n\n\n\n\n\n\n\nPara más información contactar a Rev. Claudia Olmos enviando un email a colmos@unityhouston.org
URL:https://unityhouston.org/event/latinas-unidas-en-la-luz-9-se-septiembre/
LOCATION:Unity of Houston – Wallet Hall\, 2929 Unity Drive\, Houston\, 77057\, United States
CATEGORIES:En Espanol,Latinas Unidas,Master Calendar,Upcoming Events - On Home Page
ATTACH;FMTTYPE=image/jpeg:https://unityhouston.org/wp-content/uploads/2024/06/UOH-Latinas-Unidas-en-la-Luz-1000x1000-1.jpg
GEO:29.7342875;-95.4990143
X-APPLE-STRUCTURED-LOCATION;VALUE=URI;X-ADDRESS=Unity of Houston – Wallet Hall 2929 Unity Drive Houston 77057 United States;X-APPLE-RADIUS=500;X-TITLE=2929 Unity Drive:geo:-95.4990143,29.7342875
END:VEVENT
BEGIN:VEVENT
DTSTART;TZID=America/Chicago:20250911T163000
DTEND;TZID=America/Chicago:20250911T180000
DTSTAMP:20260421T161119
CREATED:20250904T153809Z
LAST-MODIFIED:20250904T170504Z
UID:10007260-1757608200-1757613600@unityhouston.org
SUMMARY:Spiritual Business Connections - September
DESCRIPTION:Facilitated by Sarah Gish \n\n\n\n“IGNITE YOUR LIFE! at Work and Play” Join us for our next Spiritual Business Connections gathering featuring Sarah Gish — artist\, writer\, connector\, and founder of Gish Creative. Sarah is known for igniting lives\, championing culture\, and creating meaningful connections through her many creative projects. \n\n\n\nHer signature work\, IGNITE YOUR LIFE!\, inspires people to discover their purpose\, focus their dreams\, and build resilience against anxiety\, addiction\, and isolation. With decades of experience as a cultural connector in Houston\, a certified labyrinth facilitator\, and even an award-winning art car creator\, Sarah brings energy and inspiration wherever she goes. \n\n\n\nDiscover how to bring more creativity\, connection\, and passion into both your professional and personal life. \n\n\n\n\n\n\n\nZoom Details\n\n\n\n\nRegister here: DreamsInBloomLLC@gmail.com\n\n\n\nThe Zoom link will be emailed to you\, and you will want to add it to your calendar.
URL:https://unityhouston.org/event/spiritual-business-connections-september/
LOCATION:Zoom\, TX\, United States
CATEGORIES:Groups,Master Calendar,Spiritual Business Connections,Upcoming Events - On Home Page
ATTACH;FMTTYPE=image/jpeg:https://unityhouston.org/wp-content/uploads/2024/08/UOH-Spiritual-Business-Connections-1000x1000-1.jpg
GEO:31.9685988;-99.9018131
END:VEVENT
BEGIN:VEVENT
DTSTART;TZID=America/Chicago:20250928T103000
DTEND;TZID=America/Chicago:20250928T123000
DTSTAMP:20260421T161119
CREATED:20250217T153521Z
LAST-MODIFIED:20250217T153522Z
UID:10006211-1759055400-1759062600@unityhouston.org
SUMMARY:Pet Food & Supplies Donations
DESCRIPTION:On the last Sunday of the month\, we’ll collect donations for a pet food bank\, typically benefiting Interfaith Ministries for Greater Houston’s Animeals program. You can find the collection bin at our Sanctuary courtyard drive-thru. Please bring non-perishable dog & cat food items and supplies. Cash donations are also gratefully received. And if you need pet food\, please stop by.
URL:https://unityhouston.org/event/pet-food-supplies-donations-4/2025-09-28/
LOCATION:Unity of Houston – Sanctuary Drive-Through\, 2929 Unity Drive\, Houston\, TX\, 77057\, United States
CATEGORIES:Animal Kinship Ministry,Groups,Master Calendar,Upcoming Events - On Home Page
ATTACH;FMTTYPE=image/jpeg:https://unityhouston.org/wp-content/uploads/2021/03/kwirx_uoh-appimages-homescreen_animal_kinship_pet_food_donations_feb-2.jpg
GEO:29.7346733;-95.4991036
X-APPLE-STRUCTURED-LOCATION;VALUE=URI;X-ADDRESS=Unity of Houston – Sanctuary Drive-Through 2929 Unity Drive Houston TX 77057 United States;X-APPLE-RADIUS=500;X-TITLE=2929 Unity Drive:geo:-95.4991036,29.7346733
END:VEVENT
BEGIN:VEVENT
DTSTART;TZID=America/Chicago:20250928T123000
DTEND;TZID=America/Chicago:20250928T133000
DTSTAMP:20260421T161119
CREATED:20231026T204213Z
LAST-MODIFIED:20241219T212830Z
UID:10005947-1759062600-1759066200@unityhouston.org
SUMMARY:Men of Unity
DESCRIPTION:As children of God\, the men of Unity of Houston have experienced diverse\, challenging\, changing\, and valued journeys in life.  Our personal human journeys today require a conscientious focus on Being\, Becoming and Belonging in relationship with our families\, friends\, communities\, and our church.  To this end\, the Men of Unity ministry serves to enhance our awareness\, address our needs\, build our aspirations\, and solidify our spiritual life as true men of God and the universe. \nMen of Unity meets on the 4th Sunday of each month at 12:30 pm in the Unity Art Gallery. \nThis group is facilitated by Jaime de la Isla and Harold Auzenne.
URL:https://unityhouston.org/event/men-of-unity-december-2024/2025-09-28/
LOCATION:Unity of Houston Art Gallery\, 2929 Unity Drive\, Houston\, 77057\, United States
CATEGORIES:Master Calendar,Men of Unity,Upcoming Events - On Home Page
GEO:29.7347952;-95.4988794
X-APPLE-STRUCTURED-LOCATION;VALUE=URI;X-ADDRESS=Unity of Houston Art Gallery 2929 Unity Drive Houston 77057 United States;X-APPLE-RADIUS=500;X-TITLE=2929 Unity Drive:geo:-95.4988794,29.7347952
END:VEVENT
END:VCALENDAR