BEGIN:VCALENDAR
VERSION:2.0
PRODID:-//Unity of Houston - ECPv6.13.2.1//NONSGML v1.0//EN
CALSCALE:GREGORIAN
METHOD:PUBLISH
X-ORIGINAL-URL:https://unityhouston.org
X-WR-CALDESC:Events for Unity of Houston
REFRESH-INTERVAL;VALUE=DURATION:PT1H
X-Robots-Tag:noindex
X-PUBLISHED-TTL:PT1H
BEGIN:VTIMEZONE
TZID:America/Chicago
BEGIN:DAYLIGHT
TZOFFSETFROM:-0600
TZOFFSETTO:-0500
TZNAME:CDT
DTSTART:20250309T080000
END:DAYLIGHT
BEGIN:STANDARD
TZOFFSETFROM:-0500
TZOFFSETTO:-0600
TZNAME:CST
DTSTART:20251102T070000
END:STANDARD
END:VTIMEZONE
BEGIN:VEVENT
DTSTART;TZID=America/Chicago:20250802T100000
DTEND;TZID=America/Chicago:20250802T140000
DTSTAMP:20260421T174420
CREATED:20250610T163434Z
LAST-MODIFIED:20250624T170648Z
UID:10006909-1754128800-1754143200@unityhouston.org
SUMMARY:Living From Your Love Language - A Couples Workshop
DESCRIPTION:Facilitated by Rev. Cindy Cline and Ed Green\,  LCSW\, LPHA \n\n\n\nA Guide to Living Your Language of Love is an interactive couple’s workshop designed to help you go beyond knowing your love language so you can truly live it daily. Why Attend?  *Learn how to truly live your love language with your partner  *Improve communication\, emotional intimacy\, and connection  *Strengthen your relationship with therapist-back techniques  *Walk away with actionable steps you can apply immediately. Led by Ed Green\, LCSW\, LPHA\, and Rev. Cindy Cline\, this workshop will give you practical tools\, expert guidance\, and engaging exercises to strengthen your relationship in a fun\, meaningful way.Lunch will be provided. \n\n\n\nEd Green. A Licensed Clinical Social Worker and Licensed Professional of the Healing Arts and co-creator and presenter of the Living Your Love Language workshops and retreats with Rev. Cindy Cline. He is also the author of Escape from Insanity Illusions and Lies\, a psychotherapist\, A Life Coach for Personal Growth and self-development\, and the creator and producer of a 7-part webinar series on his website about escaping Illusions\, called\, It’s a Trap. \n\n\n\nRev. Cindy Cline is an interfaith minister ordained through ILLI (Institute for Leadership and Lifelong Learning International). She is an associate minister at Unity of Houston and has served in numerous positions during her 38-year tenure: director of volunteers\, communications director\, media/pr director\, and 14 years as executive director. Cindy is a life mastery coach and consultant certified through the Brave Thinking Institute. She is a certified pet chaplain and cofounder of Unity’s Animal Kinship Ministry. She is a motivational/keynote speaker and the author of the book Always Hope\, which brought light to suicide prevention through TV and radio interviews. She has served on various boards advocating for persons with disabilities. Her passion is animals and helping people to live a life of purpose and joy. \n\n\n\nCost: $160 per couple. Register here.
URL:https://unityhouston.org/event/living-from-your-love-language-a-couples-workshop/
LOCATION:Unity of Houston – Pyramid\, 2929 Unity Drive\, Houston\, 77057\, United States
CATEGORIES:__More Classes,Couples,Master Calendar,Speakers & Special Events,Upcoming Events - On Home Page
ATTACH;FMTTYPE=image/jpeg:https://unityhouston.org/wp-content/uploads/2025/06/kwirx_UOH_Living-from-your-love-language-1000x1000-1.jpg
GEO:29.7342875;-95.4990143
X-APPLE-STRUCTURED-LOCATION;VALUE=URI;X-ADDRESS=Unity of Houston – Pyramid 2929 Unity Drive Houston 77057 United States;X-APPLE-RADIUS=500;X-TITLE=2929 Unity Drive:geo:-95.4990143,29.7342875
END:VEVENT
BEGIN:VEVENT
DTSTART;TZID=America/Chicago:20250803T121500
DTEND;TZID=America/Chicago:20250803T133000
DTSTAMP:20260421T174420
CREATED:20250703T173025Z
LAST-MODIFIED:20250703T173352Z
UID:10006973-1754223300-1754227800@unityhouston.org
SUMMARY:NextGen: Back to School Brunch
DESCRIPTION:Facilitated by NextGen Team \n\n\n\nJoin us as we celebrate the end of summer with brunch after church on Sun Aug 3rd. Connect with other NextGen members and enjoy delicious food! \n\n\n\nRSVP to unitynextgeneration@gmail.com
URL:https://unityhouston.org/event/nextgen-back-to-school-brunch/
LOCATION:The Toasted Yolk\, 5103 Bellaire Blvd\, 5103 Bellaire Blvd\, Houston\, 77401
CATEGORIES:Groups,Master Calendar,NextGen,Upcoming Events - On Home Page
ATTACH;FMTTYPE=image/jpeg:https://unityhouston.org/wp-content/uploads/2025/02/kwirx_UOH_Unity-Next-Gen_1200x628_V1.jpg
END:VEVENT
BEGIN:VEVENT
DTSTART;TZID=America/Chicago:20250812T180000
DTEND;TZID=America/Chicago:20250812T210000
DTSTAMP:20260421T174420
CREATED:20250723T174637Z
LAST-MODIFIED:20250807T160426Z
UID:10007056-1755021600-1755032400@unityhouston.org
SUMMARY:Latinas Unidas en la Luz - 12 de agosto
DESCRIPTION:Celebramos 14 Años de Luz\, con un “Círculo de Bendición y Gratitud” \n\n\n\nFacilitado por Claudia Olmos  \n\n\n\n\n\n¡Este año\, LATINAS UNIDAS EN LA LUZ celebra con gratitud su 14º aniversario\, y queremos honrar este momento de una manera especial y significativa. \n\n\n\nTe invitamos a ser parte de nuestro “Círculo de Bendición y Gratitud”\, un encuentro íntimo donde nos bendeciremos mutuamente y renovaremos juntas la intención que da vida a nuestra comunidad: caminar en conciencia\, luz y unidad. \n\n\n\nTe pedimos traer: \n\n\n\n\nVestimenta blanca (símbolo de pureza\, unidad y renovación)\n\n\n\nFlores frescas (para el altar colectivo)\n\n\n\nUn platillo para compartir \n\n\n\n\nEste será un momento para conectar desde el corazón\, agradecer el camino recorrido y sembrar juntas nuevas intenciones para lo que viene. \n\n\n\nGracias por ser parte de este círculo de amor\, consciencia y transformación. \n\n\n\nDonación amorosa. PayPal   \n\n\n\n\n\n\n\nPara más información contactar a Rev. Claudia Olmos enviando un email a colmos@unityhouston.org
URL:https://unityhouston.org/event/latinas-unidas-en-la-luz-12-de-agosto/
LOCATION:Unity of Houston – Wallet Hall\, 2929 Unity Drive\, Houston\, 77057\, United States
CATEGORIES:En Espanol,Latinas Unidas,Master Calendar,Upcoming Events - On Home Page
ATTACH;FMTTYPE=image/jpeg:https://unityhouston.org/wp-content/uploads/2025/07/circulo-de-bendicion-de-agradecimiento-1080-x-1080-px.jpg
GEO:29.7342875;-95.4990143
X-APPLE-STRUCTURED-LOCATION;VALUE=URI;X-ADDRESS=Unity of Houston – Wallet Hall 2929 Unity Drive Houston 77057 United States;X-APPLE-RADIUS=500;X-TITLE=2929 Unity Drive:geo:-95.4990143,29.7342875
END:VEVENT
BEGIN:VEVENT
DTSTART;TZID=America/Chicago:20250814T163000
DTEND;TZID=America/Chicago:20250814T180000
DTSTAMP:20260421T174420
CREATED:20250715T162805Z
LAST-MODIFIED:20250715T162805Z
UID:10006981-1755189000-1755194400@unityhouston.org
SUMMARY:Spiritual Business Connections - August
DESCRIPTION:Facilitated by Christina Conner \n\n\n\n“From  Shackles to Mountains.” If limiting beliefs have you feeling stuck\, Christina will show you how to trade those “shackles” for life‑affirming thoughts that propel you toward the “mountains” (your biggest goals). \n\n\n\nWhy join us? \n\n\n\n\nFresh insights you can apply right away—in life and business\n\n\n\nA supportive network that understands the power of mindset\n\n\n\nPractical tools for turning spiritual principles into everyday results\n\n\n\n\nReady to grow with us? Save the date\, bring a notebook\, and invite a friend who could use a boost. See you on Zoom! \n\n\n\n\n\n\n\nRSVP & Zoom Details\n\n\n\n\nRegister here: DreamsInBloomLLC@gmail.com\n\n\n\nThe Zoom link will be emailed to you\, and you will want to add it to your calendar.
URL:https://unityhouston.org/event/spiritual-business-connections-august/
CATEGORIES:Groups,Master Calendar,Spiritual Business Connections,Upcoming Events - On Home Page
ATTACH;FMTTYPE=image/jpeg:https://unityhouston.org/wp-content/uploads/2024/08/UOH-Spiritual-Business-Connections-1000x1000-1.jpg
END:VEVENT
BEGIN:VEVENT
DTSTART;TZID=America/Chicago:20250824T123000
DTEND;TZID=America/Chicago:20250824T133000
DTSTAMP:20260421T174420
CREATED:20231026T204213Z
LAST-MODIFIED:20241219T212830Z
UID:10005946-1756038600-1756042200@unityhouston.org
SUMMARY:Men of Unity
DESCRIPTION:As children of God\, the men of Unity of Houston have experienced diverse\, challenging\, changing\, and valued journeys in life.  Our personal human journeys today require a conscientious focus on Being\, Becoming and Belonging in relationship with our families\, friends\, communities\, and our church.  To this end\, the Men of Unity ministry serves to enhance our awareness\, address our needs\, build our aspirations\, and solidify our spiritual life as true men of God and the universe. \nMen of Unity meets on the 4th Sunday of each month at 12:30 pm in the Unity Art Gallery. \nThis group is facilitated by Jaime de la Isla and Harold Auzenne.
URL:https://unityhouston.org/event/men-of-unity-december-2024/2025-08-24/
LOCATION:Unity of Houston Art Gallery\, 2929 Unity Drive\, Houston\, 77057\, United States
CATEGORIES:Master Calendar,Men of Unity,Upcoming Events - On Home Page
GEO:29.7347952;-95.4988794
X-APPLE-STRUCTURED-LOCATION;VALUE=URI;X-ADDRESS=Unity of Houston Art Gallery 2929 Unity Drive Houston 77057 United States;X-APPLE-RADIUS=500;X-TITLE=2929 Unity Drive:geo:-95.4988794,29.7347952
END:VEVENT
BEGIN:VEVENT
DTSTART;TZID=America/Chicago:20250830T130000
DTEND;TZID=America/Chicago:20250830T150000
DTSTAMP:20260421T174420
CREATED:20250610T184027Z
LAST-MODIFIED:20250805T193805Z
UID:10006912-1756558800-1756566000@unityhouston.org
SUMMARY:Unity Women - Using Frequency to Manifest Faster
DESCRIPTION:Unity Women – Using Frequency to Manifest Faster\nFacilitated by  Sara Blumenfeld \n\nUsing Frequency to Manifest Faster Facilitated by Sara Blumenfeld\, Healing Arts Practitioner Everything vibrates at its own frequency. The predominant frequencies you engage will invite more matching frequencies. You can manifest what you choose more quickly and easily when you deliberately use these frequencies to create your experience. In this gathering\, we will explore the frequency of words\, numbers\, music\, colors\, crystals\, essential oils\, flower essences\, and more! \nSara Blumenfeld has been a personal development coach and teacher since 2005\, and a healing arts practitioner since 2011. She is certified in the Emotion Code\, the Body Code\, and the Belief Code through Discover Healing. Sara helps her clients identify and clear away the patterns and clutter picked up along life’s path so they can thrive and allow their greatness to shine. \nDonation \n\n\n\nPlease Register in advance
URL:https://unityhouston.org/event/unity-women-using-frequency-to-manifest-fasterunity-women/
LOCATION:Unity of Houston – Bookstore\, 2929 Unity Drive\, Houston\, 77057\, United States
CATEGORIES:Master Calendar,Unity Women,Upcoming Events - On Home Page
ATTACH;FMTTYPE=image/jpeg:https://unityhouston.org/wp-content/uploads/2023/05/app_Unity-Women.jpg
ORGANIZER;CN="Donalayah Fisher":MAILTO:dfisher@unityhouston.org
GEO:29.7342875;-95.4990143
X-APPLE-STRUCTURED-LOCATION;VALUE=URI;X-ADDRESS=Unity of Houston – Bookstore 2929 Unity Drive Houston 77057 United States;X-APPLE-RADIUS=500;X-TITLE=2929 Unity Drive:geo:-95.4990143,29.7342875
END:VEVENT
BEGIN:VEVENT
DTSTART;TZID=America/Chicago:20250831T103000
DTEND;TZID=America/Chicago:20250831T123000
DTSTAMP:20260421T174420
CREATED:20250217T153521Z
LAST-MODIFIED:20250217T153522Z
UID:10006210-1756636200-1756643400@unityhouston.org
SUMMARY:Pet Food & Supplies Donations
DESCRIPTION:On the last Sunday of the month\, we’ll collect donations for a pet food bank\, typically benefiting Interfaith Ministries for Greater Houston’s Animeals program. You can find the collection bin at our Sanctuary courtyard drive-thru. Please bring non-perishable dog & cat food items and supplies. Cash donations are also gratefully received. And if you need pet food\, please stop by.
URL:https://unityhouston.org/event/pet-food-supplies-donations-4/2025-08-31/
LOCATION:Unity of Houston – Sanctuary Drive-Through\, 2929 Unity Drive\, Houston\, TX\, 77057\, United States
CATEGORIES:Animal Kinship Ministry,Groups,Master Calendar,Upcoming Events - On Home Page
ATTACH;FMTTYPE=image/jpeg:https://unityhouston.org/wp-content/uploads/2021/03/kwirx_uoh-appimages-homescreen_animal_kinship_pet_food_donations_feb-2.jpg
GEO:29.7346733;-95.4991036
X-APPLE-STRUCTURED-LOCATION;VALUE=URI;X-ADDRESS=Unity of Houston – Sanctuary Drive-Through 2929 Unity Drive Houston TX 77057 United States;X-APPLE-RADIUS=500;X-TITLE=2929 Unity Drive:geo:-95.4991036,29.7346733
END:VEVENT
END:VCALENDAR