BEGIN:VCALENDAR
VERSION:2.0
PRODID:-//Unity of Houston - ECPv6.13.2.1//NONSGML v1.0//EN
CALSCALE:GREGORIAN
METHOD:PUBLISH
X-WR-CALNAME:Unity of Houston
X-ORIGINAL-URL:https://unityhouston.org
X-WR-CALDESC:Events for Unity of Houston
REFRESH-INTERVAL;VALUE=DURATION:PT1H
X-Robots-Tag:noindex
X-PUBLISHED-TTL:PT1H
BEGIN:VTIMEZONE
TZID:America/Chicago
BEGIN:DAYLIGHT
TZOFFSETFROM:-0600
TZOFFSETTO:-0500
TZNAME:CDT
DTSTART:20250309T080000
END:DAYLIGHT
BEGIN:STANDARD
TZOFFSETFROM:-0500
TZOFFSETTO:-0600
TZNAME:CST
DTSTART:20251102T070000
END:STANDARD
END:VTIMEZONE
BEGIN:VEVENT
DTSTART;TZID=America/Chicago:20250601T123000
DTEND;TZID=America/Chicago:20250601T133000
DTSTAMP:20260421T204355
CREATED:20250414T181437Z
LAST-MODIFIED:20250416T163711Z
UID:10006325-1748781000-1748784600@unityhouston.org
SUMMARY:NextGen: Book Swap & Board Games
DESCRIPTION:Facilitated by NextGen Team \n\n\n\nJoin NextGen on June 1st in the Art Gallery directly after service for a book swap followed by board games. Our monthly mingle… without the mingle. Perfect for introverts and new members! To participate\, bring 1 to 3 gently used books\, individually wrapped\, with a short genre description written on the outside (graphic novel\, fictional murder mystery\, spiritual self-help\, etc.). Books will be chosen similar to a “white elephant gift exchange.” Limited board games will be available. You’re encouraged to bring a personal favorite\, or two\, to share. Light refreshments and childcare will be provided. \n\n\n\nRSVP to unitynextgeneration@gmail.com with “June 1st” in the subject line.
URL:https://unityhouston.org/event/nextgen-book-swap-board-games/
LOCATION:Unity of Houston Art Gallery\, 2929 Unity Drive\, Houston\, 77057\, United States
CATEGORIES:Groups,Master Calendar,NextGen,Upcoming Events - On Home Page
ATTACH;FMTTYPE=image/jpeg:https://unityhouston.org/wp-content/uploads/2025/02/kwirx_UOH_Unity-Next-Gen_1200x628_V1.jpg
GEO:29.7347952;-95.4988794
X-APPLE-STRUCTURED-LOCATION;VALUE=URI;X-ADDRESS=Unity of Houston Art Gallery 2929 Unity Drive Houston 77057 United States;X-APPLE-RADIUS=500;X-TITLE=2929 Unity Drive:geo:-95.4988794,29.7347952
END:VEVENT
BEGIN:VEVENT
DTSTART;TZID=America/Chicago:20250610T183000
DTEND;TZID=America/Chicago:20250610T203000
DTSTAMP:20260421T204355
CREATED:20250516T170235Z
LAST-MODIFIED:20250528T141209Z
UID:10006364-1749580200-1749587400@unityhouston.org
SUMMARY:Latinas Unidas en la Luz - 10 de junio
DESCRIPTION:Mujeres encontrando un nuevo sentido\n\n\n\nFacilitado por Aliria Betancur \n\n\n\n\n\nNuestras reuniones de Latinas Unidas en la Luz comienzan con un espacio de conexión en el que compartimos presencia y algunos bocadillos tipo “potluck”. Te pedimos que\, si asistes\, traigas un platillo para compartir con las demás participantes.  \n\n\n\nEl tema de este mes es: “Mujeres reencontrando sentido” Facilitado por Aliria Betancur Este mes\, Aliria nos hablará sobre la fuerza de nuestro linaje femenino. “Mujeres reencontrando sentido” es un taller vivencial dirigido a mujeres que están transitando una nueva etapa en sus vidas\, especialmente aquellas para quienes la maternidad ha tomado una nueva forma\, y sienten el llamado a reconectarse con una identidad más profunda. Este espacio ofrece un proceso de reconexión interior desde una perspectiva espiritual y sanadora\, con el propósito de resignificar el sentido de vida\, cultivar la sabiduría interna y abrirse a una existencia con mayor libertad y plenitud.  \n\n\n\nA través de dinámicas de reflexión\, expresión corporal y emocional\, rituales simbólicos y diálogo grupal\, las participantes explorarán su camino como mujeres sabias\, libres y creativas\, integrando su historia\, sus dones y su visión del futuro. \n\n\n\nBiografía  \n\n\n\nAliria Betancur\, de nacionalidad colombiana y residente en Estados Unidos desde hace 15 años\, es autora de los libros “El Secreto de la Mujer Empoderada” y “Mujer Más Allá de tus Límites.” \n\n\n\nEs tallerista y conferencista apasionada por temas relacionados con el crecimiento personal\, la gestión emocional y el empoderamiento femenino. \n\n\n\nLicenciada en Pedagogía Reeducativa y Especialista en Farmacodependencia\, cuenta con formación en diversas técnicas de intervención terapéutica a nivel individual\, grupal y familiar. Es experta en Psicología Positiva e Inteligencia Emocional\, gestora de Círculos de Mujeres\, y facilitadora certificada en Access Consciousness Bars\, Constelaciones Familiares\, Biodescodificación Transgeneracional\, Rebirthing y Pedagogía Terapéutica. \n\n\n\nEn 2022\, fue reconocida como Embajadora para la Paz Universal y nombrada Embajadora de Buena Voluntad de América Latina y la Región del Caribe. Además\, ha participado activamente en diversos espacios radiales con el propósito de dejar un mensaje de impacto en la comunidad latina\, promoviendo la paz\, la sana convivencia y el liderazgo. \n\n\n\n\n\n\n\nAliria se define como una mujer alegre\, positiva y proactiva\, que ama la vida en todas sus manifestaciones y valora profundamente cada aprendizaje que le ha brindado cada etapa de su camino. \n\n\n\nDonación amorosa. PayPal   \n\n\n\n\n\n\n\nPara más información contactar a Rev. Claudia Olmos enviando un email a colmos@unityhouston.org
URL:https://unityhouston.org/event/latinas-unidas-en-la-luz-10-de-junio/
LOCATION:Unity of Houston – Wallet Hall\, 2929 Unity Drive\, Houston\, 77057\, United States
CATEGORIES:En Espanol,Latinas Unidas,Master Calendar,Upcoming Events - On Home Page
ATTACH;FMTTYPE=image/jpeg:https://unityhouston.org/wp-content/uploads/2024/06/UOH-Latinas-Unidas-en-la-Luz-1000x1000-1.jpg
GEO:29.7342875;-95.4990143
X-APPLE-STRUCTURED-LOCATION;VALUE=URI;X-ADDRESS=Unity of Houston – Wallet Hall 2929 Unity Drive Houston 77057 United States;X-APPLE-RADIUS=500;X-TITLE=2929 Unity Drive:geo:-95.4990143,29.7342875
END:VEVENT
BEGIN:VEVENT
DTSTART;TZID=America/Chicago:20250621T140000
DTEND;TZID=America/Chicago:20250621T160000
DTSTAMP:20260421T204355
CREATED:20250203T142321Z
LAST-MODIFIED:20250415T163142Z
UID:10006060-1750514400-1750521600@unityhouston.org
SUMMARY:Unity Women – Intimacy in Each Connection We Make
DESCRIPTION:Unity Women – Intimacy in Each Connection We Make\nFacilitated by Dr. Nancy Moonstar \n\nIntimacy in Each Connection We Make Facilitated by Dr. Nancy Moonstar Welcome to Learning More About Intimacy. Join Nancy to gain insight into what it’s like to have: * Intimacy with Your Self * Intimacy in Your Communication * Relationship Intimacy Finding your way through intimacy is intriguing and offers a “WOW” factor for living life. \nDonation \n\n\n\nPlease Register in advance \n\n\n\nNancy Moonstarr\, PhD\, is an interpersonal/relational specialist\, licensed psychologist\, and Licensed Professional Counselor. Jungian and Gestalt influences are blended into her cognitive behavioral therapy. Nancy’s experience covers many diverse populations\, age groups\, and life-styles in a unique psychological framework combining over 40 years of training\, education and practice.
URL:https://unityhouston.org/event/unity-women-intimacy-in-each-connection-we-make/
LOCATION:Unity of Houston – Bookstore\, 2929 Unity Drive\, Houston\, 77057\, United States
CATEGORIES:Master Calendar,Unity Women,Upcoming Events - On Home Page
ATTACH;FMTTYPE=image/jpeg:https://unityhouston.org/wp-content/uploads/2023/05/app_Unity-Women.jpg
ORGANIZER;CN="Donalayah Fisher":MAILTO:dfisher@unityhouston.org
GEO:29.7342875;-95.4990143
X-APPLE-STRUCTURED-LOCATION;VALUE=URI;X-ADDRESS=Unity of Houston – Bookstore 2929 Unity Drive Houston 77057 United States;X-APPLE-RADIUS=500;X-TITLE=2929 Unity Drive:geo:-95.4990143,29.7342875
END:VEVENT
BEGIN:VEVENT
DTSTART;TZID=America/Chicago:20250622T123000
DTEND;TZID=America/Chicago:20250622T133000
DTSTAMP:20260421T204355
CREATED:20231026T204213Z
LAST-MODIFIED:20241219T212830Z
UID:10005944-1750595400-1750599000@unityhouston.org
SUMMARY:Men of Unity
DESCRIPTION:As children of God\, the men of Unity of Houston have experienced diverse\, challenging\, changing\, and valued journeys in life.  Our personal human journeys today require a conscientious focus on Being\, Becoming and Belonging in relationship with our families\, friends\, communities\, and our church.  To this end\, the Men of Unity ministry serves to enhance our awareness\, address our needs\, build our aspirations\, and solidify our spiritual life as true men of God and the universe. \nMen of Unity meets on the 4th Sunday of each month at 12:30 pm in the Unity Art Gallery. \nThis group is facilitated by Jaime de la Isla and Harold Auzenne.
URL:https://unityhouston.org/event/men-of-unity-december-2024/2025-06-22/
LOCATION:Unity of Houston Art Gallery\, 2929 Unity Drive\, Houston\, 77057\, United States
CATEGORIES:Master Calendar,Men of Unity,Upcoming Events - On Home Page
GEO:29.7347952;-95.4988794
X-APPLE-STRUCTURED-LOCATION;VALUE=URI;X-ADDRESS=Unity of Houston Art Gallery 2929 Unity Drive Houston 77057 United States;X-APPLE-RADIUS=500;X-TITLE=2929 Unity Drive:geo:-95.4988794,29.7347952
END:VEVENT
BEGIN:VEVENT
DTSTART;TZID=America/Chicago:20250622T123000
DTEND;TZID=America/Chicago:20250622T143000
DTSTAMP:20260421T204355
CREATED:20250528T135850Z
LAST-MODIFIED:20250620T021400Z
UID:10006897-1750595400-1750602600@unityhouston.org
SUMMARY:Black Women's Circle at Unity: Freedom as Community
DESCRIPTION:Facilitated by the Black Women’s Circle at Unity’s Leadership Team \n\n\n\nBlack Women of Unity are invited to join us as we explore the theme: “Freedom as Community.” We’ll examine freedom—not only as an individual right\, but as a collective practice. We’ll honor the legacy of our foremother\, Harriet Tubman\, whose life stands as a testament to the struggle for freedom and the power of faith. Together\, through sacred rituals\, group conversation\, and deep reflection\, we will engage in a rich and meaningful dialogue about what it means to claim our freedom — personally and collectively. \n\n\n\nPlease RSVP via email to blackwomenscircleatunity@gmail.com \n\n\n\nChildcare will be available. To ensure a spot for your child\, please complete this CHILDCARE REQUEST FORM one week in advance. 
URL:https://unityhouston.org/event/black-womens-circle-at-unity-freedom-as-community/
LOCATION:Unity of Houston – Chapel\, 2929 Unity Drive\, Houston\, TX\, 77057\, United States
CATEGORIES:Black Women's Circle,Groups,Master Calendar,Upcoming Events - On Home Page
ATTACH;FMTTYPE=image/jpeg:https://unityhouston.org/wp-content/uploads/2025/05/kwirx_UOH_Black-Womens-Circle-Logo_1000x1000-1.jpg
GEO:29.7342875;-95.4990143
X-APPLE-STRUCTURED-LOCATION;VALUE=URI;X-ADDRESS=Unity of Houston – Chapel 2929 Unity Drive Houston TX 77057 United States;X-APPLE-RADIUS=500;X-TITLE=2929 Unity Drive:geo:-95.4990143,29.7342875
END:VEVENT
BEGIN:VEVENT
DTSTART;TZID=America/Chicago:20250629T103000
DTEND;TZID=America/Chicago:20250629T123000
DTSTAMP:20260421T204355
CREATED:20250217T153521Z
LAST-MODIFIED:20250217T153522Z
UID:10006208-1751193000-1751200200@unityhouston.org
SUMMARY:Pet Food & Supplies Donations
DESCRIPTION:On the last Sunday of the month\, we’ll collect donations for a pet food bank\, typically benefiting Interfaith Ministries for Greater Houston’s Animeals program. You can find the collection bin at our Sanctuary courtyard drive-thru. Please bring non-perishable dog & cat food items and supplies. Cash donations are also gratefully received. And if you need pet food\, please stop by.
URL:https://unityhouston.org/event/pet-food-supplies-donations-4/2025-06-29/
LOCATION:Unity of Houston – Sanctuary Drive-Through\, 2929 Unity Drive\, Houston\, TX\, 77057\, United States
CATEGORIES:Animal Kinship Ministry,Groups,Master Calendar,Upcoming Events - On Home Page
ATTACH;FMTTYPE=image/jpeg:https://unityhouston.org/wp-content/uploads/2021/03/kwirx_uoh-appimages-homescreen_animal_kinship_pet_food_donations_feb-2.jpg
GEO:29.7346733;-95.4991036
X-APPLE-STRUCTURED-LOCATION;VALUE=URI;X-ADDRESS=Unity of Houston – Sanctuary Drive-Through 2929 Unity Drive Houston TX 77057 United States;X-APPLE-RADIUS=500;X-TITLE=2929 Unity Drive:geo:-95.4991036,29.7346733
END:VEVENT
END:VCALENDAR