BEGIN:VCALENDAR
VERSION:2.0
PRODID:-//Unity of Houston - ECPv6.13.2.1//NONSGML v1.0//EN
CALSCALE:GREGORIAN
METHOD:PUBLISH
X-ORIGINAL-URL:https://unityhouston.org
X-WR-CALDESC:Events for Unity of Houston
REFRESH-INTERVAL;VALUE=DURATION:PT1H
X-Robots-Tag:noindex
X-PUBLISHED-TTL:PT1H
BEGIN:VTIMEZONE
TZID:America/Chicago
BEGIN:DAYLIGHT
TZOFFSETFROM:-0600
TZOFFSETTO:-0500
TZNAME:CDT
DTSTART:20260308T080000
END:DAYLIGHT
BEGIN:STANDARD
TZOFFSETFROM:-0500
TZOFFSETTO:-0600
TZNAME:CST
DTSTART:20261101T070000
END:STANDARD
END:VTIMEZONE
BEGIN:VEVENT
DTSTART;TZID=America/Chicago:20260315T094500
DTEND;TZID=America/Chicago:20260315T104500
DTSTAMP:20260421T045045
CREATED:20260302T170546Z
LAST-MODIFIED:20260302T170547Z
UID:10007587-1773567900-1773571500@unityhouston.org
SUMMARY:Servicio en Español - 15 de Marzo        
DESCRIPTION:“Cuando la brillantez femenina es liberada” \n\n\n\nRev. Claudia Olmos \n\n\n\nEn este tiempo de cuaresma nos invita a reflexionar sobre aquello que nos limita para entrar tu nuevo yo\, ademas este mes celebramos el mes de la Mujer. Este mensaje nos invita a reconocer y liberar la luz femenina que habita en cada ser. A través de una mirada espiritual y consciente\, exploramos cómo creencias limitantes\, patrones heredados y el miedo a mostrarnos pueden opacar nuestra expresión auténtica. \n\n\n\nAl permitirnos escuchar nuestra sabiduría interna\, honrar nuestros ritmos y expresar nuestra verdad con amor\, abrimos el camino a una vida más plena\, alineada y luminosa.  Cuando la brillantez femenina se libera\, no solo transformamos nuestra experiencia personal: contribuimos a elevar la conciencia colectiva.  \n\n\n\n\n\n\n\nEscuela dominical para niños (bilingüe)Donde tus niños también aprenderán enseñanzas positivas y practicas para la vida.Edificio de educación (edificio a la izquierda de la pirámide) \n\n\n\nEscuela dominical para niños de 9:45 am a 10:45 am para mas información envia un correo a skrugler@unityhouston.org \n\n\n\n\n\n\n\nPresencial y transmisión en vivo  https://www.facebook.com/UnityHoustonEnEspanol/
URL:https://unityhouston.org/event/servicio-en-espanol-15-de-marzo/
LOCATION:Unity of Houston – Pyramid\, 2929 Unity Drive\, Houston\, 77057\, United States
CATEGORIES:En Espanol,Master Calendar,Servicio,Upcoming Events - On Home Page
ATTACH;FMTTYPE=image/jpeg:https://unityhouston.org/wp-content/uploads/2026/03/2026_0315-UHE-IG.jpg
ORGANIZER;CN="Rev. Claudia Olmos":MAILTO:colmos@unityhouston.org
GEO:29.7342875;-95.4990143
X-APPLE-STRUCTURED-LOCATION;VALUE=URI;X-ADDRESS=Unity of Houston – Pyramid 2929 Unity Drive Houston 77057 United States;X-APPLE-RADIUS=500;X-TITLE=2929 Unity Drive:geo:-95.4990143,29.7342875
END:VEVENT
BEGIN:VEVENT
DTSTART;TZID=America/Chicago:20260322T094500
DTEND;TZID=America/Chicago:20260322T104500
DTSTAMP:20260421T045045
CREATED:20260302T171022Z
LAST-MODIFIED:20260320T230813Z
UID:10007588-1774172700-1774176300@unityhouston.org
SUMMARY:Servicio en Español - 22 de Marzo        
DESCRIPTION:“Cuando el miedo ya no gobierna” \n\n\n\nRev. Claudia Olmos \n\n\n\nAl prepararnos para la Resurrección\, que simboliza nueva vida y renovación\, aprender a soltar el miedo se convierte en un paso esencial. Nuestros temores pueden manifestarse de muchas maneras: desde la preocupación por lo que otros piensan hasta las creencias que nos limitan. Cuando aprendemos a liberarnos del miedo\, que es una ilusión de la mente humana\, abrimos espacio para que la Vida Divina y el Cristo interno se expresen plenamente en nosotros. \n\n\n\nSoltar el temor nos permite vivir con paz\, alegría y claridad\, nos ayuda a alinearnos con nuestra verdadera identidad espiritual y nos prepara para experimentar la transformación interior y la vida renovada que la Resurrección promete. Este es un tiempo para soltar lo viejo\, confiar en lo divino y dar la bienvenida a lo nuevo en nuestra conciencia y en nuestra vida. \n\n\n\n\n\n\n\nEscuela dominical para niños (bilingüe)Donde tus niños también aprenderán enseñanzas positivas y practicas para la vida.Edificio de educación (edificio a la izquierda de la pirámide) \n\n\n\nEscuela dominical para niños de 9:45 am a 10:45 am para mas información envia un correo a skrugler@unityhouston.org \n\n\n\n\n\n\n\nPresencial y transmisión en vivo  https://www.facebook.com/UnityHoustonEnEspanol/
URL:https://unityhouston.org/event/servicio-en-espanol-22-de-marzo/
LOCATION:Unity of Houston – Pyramid\, 2929 Unity Drive\, Houston\, 77057\, United States
CATEGORIES:En Espanol,Master Calendar,Servicio,Upcoming Events - On Home Page
ATTACH;FMTTYPE=image/jpeg:https://unityhouston.org/wp-content/uploads/2026/03/2026_0322-UHE-IG.jpg
ORGANIZER;CN="Rev. Claudia Olmos":MAILTO:colmos@unityhouston.org
GEO:29.7342875;-95.4990143
X-APPLE-STRUCTURED-LOCATION;VALUE=URI;X-ADDRESS=Unity of Houston – Pyramid 2929 Unity Drive Houston 77057 United States;X-APPLE-RADIUS=500;X-TITLE=2929 Unity Drive:geo:-95.4990143,29.7342875
END:VEVENT
BEGIN:VEVENT
DTSTART;TZID=America/Chicago:20260329T094500
DTEND;TZID=America/Chicago:20260329T104500
DTSTAMP:20260421T045045
CREATED:20260302T171548Z
LAST-MODIFIED:20260302T171549Z
UID:10007589-1774777500-1774781100@unityhouston.org
SUMMARY:Servicio en Español - 29 de Marzo        
DESCRIPTION:“El Cristo elige vivir a través de mi” \n\n\n\nGiovana Specht   \n\n\n\nEn este domingo de Ramos\, así como Jesús entra en Jerusalén\, celebramos la entrada del Cristo interno en nuestra conciencia y exploramos cómo elegir conscientemente la Vida plena. La entrada triunfal de Jesús nos recuerda que la verdadera paz\, alegría y claridad no dependen de lo que ocurre a nuestro alrededor\, sino de permitir que nuestra Presencia Crística interna guíe cada pensamiento\, palabra y acción.  \n\n\n\nCada día nos da la oportunidad de elegir una transformación consciente.   \n\n\n\nEste mensaje nos invita a abrirnos a la transformación interior\, a reconocer el liderazgo del Cristo interno en nuestra vida diaria y a preparar nuestro corazón para experimentar la renovación y la vida plena que se celebra en la Resurrección.  \n\n\n\n\n\n\n\nEscuela dominical para niños (bilingüe)Donde tus niños también aprenderán enseñanzas positivas y practicas para la vida.Edificio de educación (edificio a la izquierda de la pirámide) \n\n\n\nEscuela dominical para niños de 9:45 am a 10:45 am para mas información envia un correo a skrugler@unityhouston.org \n\n\n\n\n\n\n\nPresencial y transmisión en vivo  https://www.facebook.com/UnityHoustonEnEspanol/
URL:https://unityhouston.org/event/servicio-en-espanol-29-de-marzo/
LOCATION:Unity of Houston – Pyramid\, 2929 Unity Drive\, Houston\, 77057\, United States
CATEGORIES:En Espanol,Master Calendar,Servicio,Upcoming Events - On Home Page
ATTACH;FMTTYPE=image/jpeg:https://unityhouston.org/wp-content/uploads/2026/03/2026_0329-UHE-IG.jpg
ORGANIZER;CN="Rev. Claudia Olmos":MAILTO:colmos@unityhouston.org
GEO:29.7342875;-95.4990143
X-APPLE-STRUCTURED-LOCATION;VALUE=URI;X-ADDRESS=Unity of Houston – Pyramid 2929 Unity Drive Houston 77057 United States;X-APPLE-RADIUS=500;X-TITLE=2929 Unity Drive:geo:-95.4990143,29.7342875
END:VEVENT
BEGIN:VEVENT
DTSTART;TZID=America/Chicago:20260405T094500
DTEND;TZID=America/Chicago:20260405T104500
DTSTAMP:20260421T045045
CREATED:20260302T172020Z
LAST-MODIFIED:20260302T172021Z
UID:10007590-1775382300-1775385900@unityhouston.org
SUMMARY:Servicio en Español - 5 de abril         
DESCRIPTION:“Viviendo la Resurrección en mí” \n\n\n\nRev. Claudia Olmos \n\n\n\nEn este domingo celebramos la Vida renovada y la plenitud del Cristo interno en nuestra conciencia. La Resurrección no es solo un evento histórico\, sino una experiencia presente: un llamado a vivir con libertad\, paz y alegría\, permitiendo que la Vida Divina fluya en cada pensamiento\, palabra y acción.  \n\n\n\nDespués de haber aprendido a soltar el miedo y a elegir conscientemente la Vida\, hoy nos abrimos a experimentar la transformación interior completa\, reconociendo que la Resurrección es la expresión natural de nuestro Ser espiritual en plenitud. \n\n\n\n\n\n\n\nEscuela dominical para niños (bilingüe)Donde tus niños también aprenderán enseñanzas positivas y practicas para la vida.Edificio de educación (edificio a la izquierda de la pirámide) \n\n\n\nEscuela dominical para niños de 9:45 am a 10:45 am para mas información envia un correo a skrugler@unityhouston.org \n\n\n\n\n\n\n\nPresencial y transmisión en vivo  https://www.facebook.com/UnityHoustonEnEspanol/
URL:https://unityhouston.org/event/servicio-en-espanol-5-de-abril/
LOCATION:Unity of Houston – Pyramid\, 2929 Unity Drive\, Houston\, 77057\, United States
CATEGORIES:En Espanol,Master Calendar,Servicio,Upcoming Events - On Home Page
ATTACH;FMTTYPE=image/jpeg:https://unityhouston.org/wp-content/uploads/2026/03/2026_0405-UHE-IG.jpg
ORGANIZER;CN="Rev. Claudia Olmos":MAILTO:colmos@unityhouston.org
GEO:29.7342875;-95.4990143
X-APPLE-STRUCTURED-LOCATION;VALUE=URI;X-ADDRESS=Unity of Houston – Pyramid 2929 Unity Drive Houston 77057 United States;X-APPLE-RADIUS=500;X-TITLE=2929 Unity Drive:geo:-95.4990143,29.7342875
END:VEVENT
BEGIN:VEVENT
DTSTART;TZID=America/Chicago:20260412T094500
DTEND;TZID=America/Chicago:20260412T104500
DTSTAMP:20260421T045045
CREATED:20260331T170649Z
LAST-MODIFIED:20260331T170712Z
UID:10007649-1775987100-1775990700@unityhouston.org
SUMMARY:Servicio en Español - 12 de abril         
DESCRIPTION:“Cuando la vida pesa demasiado…Ven a mi” \n\n\n\nRev. Claudia Olmos \n\n\n\n“Vengan a mí todos ustedes que están cansados y cargan con pesadas cargas\, y yo les daré descanso. Tomen mi yugo sobre ustedes y aprendan de mí\, porque soy manso y humilde de corazón\, y encontrarán descanso para sus almas. Porque mi yugo es fácil y ligera mi carga.”   Mateo 11:28-30    \n\n\n\n¿Alguna vez te has sentido agobiado por la creencia de que hay una sola manera de hacerlo bien\, de que la vida es algo que hay que descifrar\, dominar y controlar? ¿Es de extrañar que a veces nos sintamos ansiosos y cansados? Hay otra manera de estar con lo que es\, una que no requiere una estrategia más sofisticada ni una gestión del tiempo más eficiente. Es una invitación a encontrarnos con la vida en términos amistosos\, con facilidad\, aceptación y gracia.   \n\n\n\nTe invitamos a nuestro servicio dominical\, un espacio para reconectar\, renovar tu espíritu y encontrar ese descanso profundo para tu alma.   \n\n\n\n\n\n\n\nEscuela dominical para niños (bilingüe)Donde tus niños también aprenderán enseñanzas positivas y practicas para la vida.Edificio de educación (edificio a la izquierda de la pirámide) \n\n\n\nEscuela dominical para niños de 9:45 am a 10:45 am para mas información envia un correo a skrugler@unityhouston.org \n\n\n\n\n\n\n\nPresencial y transmisión en vivo  https://www.facebook.com/UnityHoustonEnEspanol/
URL:https://unityhouston.org/event/servicio-en-espanol-12-de-abril/
LOCATION:Unity of Houston – Pyramid\, 2929 Unity Drive\, Houston\, 77057\, United States
CATEGORIES:En Espanol,Master Calendar,Servicio,Upcoming Events - On Home Page
ATTACH;FMTTYPE=image/jpeg:https://unityhouston.org/wp-content/uploads/2026/03/2026_0312-UHE-IG.jpg
ORGANIZER;CN="Rev. Claudia Olmos":MAILTO:colmos@unityhouston.org
GEO:29.7342875;-95.4990143
X-APPLE-STRUCTURED-LOCATION;VALUE=URI;X-ADDRESS=Unity of Houston – Pyramid 2929 Unity Drive Houston 77057 United States;X-APPLE-RADIUS=500;X-TITLE=2929 Unity Drive:geo:-95.4990143,29.7342875
END:VEVENT
BEGIN:VEVENT
DTSTART;TZID=America/Chicago:20260419T094500
DTEND;TZID=America/Chicago:20260419T104500
DTSTAMP:20260421T045045
CREATED:20260331T171220Z
LAST-MODIFIED:20260331T171221Z
UID:10007650-1776591900-1776595500@unityhouston.org
SUMMARY:Servicio en Español - 19 de abril         
DESCRIPTION:“El tesoro escondido” \n\n\n\nRev. Claudia Olmos \n\n\n\nEl conferencista motivacional Tony Robbins suele decir: “La vida no te está sucediendo a ti. Está sucediendo para ti.” Esta forma de pensar nos mueve de una mentalidad de víctima hacia una de empoderamiento.  \n\n\n\n¿Qué pasaría si las dificultades de tu vida no fueran solo problemas que hay que superar\, sino que contienen lecciones esenciales que necesitas aprender para convertirte en tu mejor versión?  \n\n\n\nEl obstáculo puede convertirse en tu peldaño.  Tu caos puede\, en verdad\, convertirse en tu mensaje.  \n\n\n\nTe invitamos a nuestro servicio dominical\, un espacio para reconectar\, y encontrar ese tesoro que renueva  tu alma.  \n\n\n\n\n\n\n\nEscuela dominical para niños (bilingüe)Donde tus niños también aprenderán enseñanzas positivas y practicas para la vida.Edificio de educación (edificio a la izquierda de la pirámide) \n\n\n\nEscuela dominical para niños de 9:45 am a 10:45 am para mas información envia un correo a skrugler@unityhouston.org \n\n\n\n\n\n\n\nPresencial y transmisión en vivo  https://www.facebook.com/UnityHoustonEnEspanol/
URL:https://unityhouston.org/event/servicio-en-espanol-19-de-abril/
LOCATION:Unity of Houston – Pyramid\, 2929 Unity Drive\, Houston\, 77057\, United States
CATEGORIES:En Espanol,Master Calendar,Servicio,Upcoming Events - On Home Page
ATTACH;FMTTYPE=image/jpeg:https://unityhouston.org/wp-content/uploads/2026/03/2026_0312-UHE-IG.jpg
ORGANIZER;CN="Rev. Claudia Olmos":MAILTO:colmos@unityhouston.org
GEO:29.7342875;-95.4990143
X-APPLE-STRUCTURED-LOCATION;VALUE=URI;X-ADDRESS=Unity of Houston – Pyramid 2929 Unity Drive Houston 77057 United States;X-APPLE-RADIUS=500;X-TITLE=2929 Unity Drive:geo:-95.4990143,29.7342875
END:VEVENT
BEGIN:VEVENT
DTSTART;TZID=America/Chicago:20260426T094500
DTEND;TZID=America/Chicago:20260426T104500
DTSTAMP:20260421T045045
CREATED:20260331T171727Z
LAST-MODIFIED:20260331T172012Z
UID:10007651-1777196700-1777200300@unityhouston.org
SUMMARY:Servicio en Español - 26 de abril         
DESCRIPTION:“Cuando Ganar no es lo importante” \n\n\n\nRicardo Portillo  \n\n\n\nGanar\, lograr y esforzarnos puede llevarnos lejos en la vida\, pero no es el objetivo final. Llega un momento en que el éxito\, tal como lo definíamos antes\, deja de brindarnos plenitud. Aquello que antes nos motivaba puede empezar a sentirse vacío\, dejándonos cansados\, desconectados o en búsqueda de algo más.  \n\n\n\nInspirado en las ideas de “De Fuerza a Fuerza” \, este mensaje nos invita a reconocer que la vida no se trata solo de rendimiento\, sino de transformación. La verdadera plenitud no se encuentra en estarnos probando constantemente\, sino en alinearnos con quienes fuimos creados para ser.  \n\n\n\nA veces\, soltar la necesidad de ganar no es una pérdida… sino el comienzo de descubrir lo que realmente importa.  \n\n\n\nTe invitamos a nuestro servicio dominical\, un espacio para reconectar con lo que es mas importante para tu alma  \n\n\n\n\n\n\n\nEscuela dominical para niños (bilingüe)Donde tus niños también aprenderán enseñanzas positivas y practicas para la vida.Edificio de educación (edificio a la izquierda de la pirámide) \n\n\n\nEscuela dominical para niños de 9:45 am a 10:45 am para mas información envia un correo a skrugler@unityhouston.org \n\n\n\n\n\n\n\nPresencial y transmisión en vivo  https://www.facebook.com/UnityHoustonEnEspanol/
URL:https://unityhouston.org/event/servicio-en-espanol-26-de-abril/
LOCATION:Unity of Houston – Pyramid\, 2929 Unity Drive\, Houston\, 77057\, United States
CATEGORIES:En Espanol,Master Calendar,Servicio,Upcoming Events - On Home Page
ATTACH;FMTTYPE=image/jpeg:https://unityhouston.org/wp-content/uploads/2026/03/2026_0326-UHE-IG.jpg
ORGANIZER;CN="Rev. Claudia Olmos":MAILTO:colmos@unityhouston.org
GEO:29.7342875;-95.4990143
X-APPLE-STRUCTURED-LOCATION;VALUE=URI;X-ADDRESS=Unity of Houston – Pyramid 2929 Unity Drive Houston 77057 United States;X-APPLE-RADIUS=500;X-TITLE=2929 Unity Drive:geo:-95.4990143,29.7342875
END:VEVENT
BEGIN:VEVENT
DTSTART;TZID=America/Chicago:20260503T094500
DTEND;TZID=America/Chicago:20260503T104500
DTSTAMP:20260421T045045
CREATED:20260414T195039Z
LAST-MODIFIED:20260414T195040Z
UID:10007663-1777801500-1777805100@unityhouston.org
SUMMARY:Servicio en Español - 3 de mayo       
DESCRIPTION:“Hay una sola vida expresándose” \n\n\n\nRev. Claudia Olmos \n\n\n\n“Nuestro trabajo espiritual es derribar la ilusión de que tenemos una vida aquí y que la vida de Dios está en otro lugar.” Michael Beckwith  \n\n\n\nEn esta serie\, hemos explorado cómo la conciencia con la que nos encontramos con la vida es fundamental. Cuando estamos dispuestos a presentarnos de manera auténtica\, con presencia y conciencia\, algo extraordinario sucede. La ilusión de separación comienza a disolverse\, y la Verdad que siempre ha estado aquí se revela: solo ha habido una sola Vida\, la Vida de Dios\, expresándose en\, a través de y como tú.  \n\n\n\n\n\n\n\nEscuela dominical para niños (bilingüe)Donde tus niños también aprenderán enseñanzas positivas y practicas para la vida.Edificio de educación (edificio a la izquierda de la pirámide) \n\n\n\nEscuela dominical para niños de 9:45 am a 10:45 am para mas información envia un correo a skrugler@unityhouston.org \n\n\n\n\n\n\n\nPresencial y transmisión en vivo  https://www.facebook.com/UnityHoustonEnEspanol/
URL:https://unityhouston.org/event/servicio-en-espanol-3-de-mayo/
LOCATION:Unity of Houston – Pyramid\, 2929 Unity Drive\, Houston\, 77057\, United States
CATEGORIES:En Espanol,Master Calendar,Servicio,Upcoming Events - On Home Page
ATTACH;FMTTYPE=image/png:https://unityhouston.org/wp-content/uploads/2026/04/2026_0503-UHE-IG.png
ORGANIZER;CN="Rev. Claudia Olmos":MAILTO:colmos@unityhouston.org
GEO:29.7342875;-95.4990143
X-APPLE-STRUCTURED-LOCATION;VALUE=URI;X-ADDRESS=Unity of Houston – Pyramid 2929 Unity Drive Houston 77057 United States;X-APPLE-RADIUS=500;X-TITLE=2929 Unity Drive:geo:-95.4990143,29.7342875
END:VEVENT
BEGIN:VEVENT
DTSTART;TZID=America/Chicago:20260514T190000
DTEND;TZID=America/Chicago:20260514T213000
DTSTAMP:20260421T045045
CREATED:20251212T173303Z
LAST-MODIFIED:20260126T232410Z
UID:10007508-1778785200-1778794200@unityhouston.org
SUMMARY:Inteligencia Espiritual en Tiempos de Incertidumbre
DESCRIPTION:Facilitado por Julio Bevione \n\n\n\nTe invitamos a ser parte de una experiencia profunda y transformadora con el reconocido autor y conferencista Julio Bevione\, quien presentará una charla sobre Inteligencia Espiritual en Tiempos de Incertidumbre. En esta conferencia\, exploraremos cómo la claridad interior\, la presencia y la conciencia plena pueden guiarnos en momentos de cambio\, inestabilidad y desafíos emocionales. Julio nos compartirá herramientas prácticas para cultivar una vida más consciente\, centrada y en paz\, aun en medio de lo impredecible. La conferencia también incluirá una meditación guiada y un espacio abierto de preguntas y respuestas. Te invitamos a adquirir tu entrada y abrirte a una oportunidad que puede iluminar tu camino y renovar tu visión espiritual. ¡No te lo pierdas! \n\n\n\nEntrada de Preventa $55 Entrada Regular $70 Entrada VIP – asientos preferenciales $85 \n\n\n\nHaga clic aquí para comprar entradas.\n\n\n\nOportunidades de patrocinio
URL:https://unityhouston.org/event/inteligencia-espiritual-en-tiempos-de-incertidumbre/
LOCATION:Unity of Houston – Sanctuary\, 2929 Unity Drive\, Houston\, 77057\, United States
CATEGORIES:En Espanol,Master Calendar,Speakers & Special Events,Upcoming Events - On Home Page
ATTACH;FMTTYPE=image/jpeg:https://unityhouston.org/wp-content/uploads/2025/12/2026_0514-BEVIONE-IG.jpg
GEO:29.7342875;-95.4990143
X-APPLE-STRUCTURED-LOCATION;VALUE=URI;X-ADDRESS=Unity of Houston – Sanctuary 2929 Unity Drive Houston 77057 United States;X-APPLE-RADIUS=500;X-TITLE=2929 Unity Drive:geo:-95.4990143,29.7342875
END:VEVENT
END:VCALENDAR