BEGIN:VCALENDAR
VERSION:2.0
PRODID:-//Unity of Houston - ECPv6.13.2.1//NONSGML v1.0//EN
CALSCALE:GREGORIAN
METHOD:PUBLISH
X-WR-CALNAME:Unity of Houston
X-ORIGINAL-URL:https://unityhouston.org
X-WR-CALDESC:Events for Unity of Houston
REFRESH-INTERVAL;VALUE=DURATION:PT1H
X-Robots-Tag:noindex
X-PUBLISHED-TTL:PT1H
BEGIN:VTIMEZONE
TZID:America/Chicago
BEGIN:DAYLIGHT
TZOFFSETFROM:-0600
TZOFFSETTO:-0500
TZNAME:CDT
DTSTART:20260308T080000
END:DAYLIGHT
BEGIN:STANDARD
TZOFFSETFROM:-0500
TZOFFSETTO:-0600
TZNAME:CST
DTSTART:20261101T070000
END:STANDARD
END:VTIMEZONE
BEGIN:VEVENT
DTSTART;TZID=America/Chicago:20260301T094500
DTEND;TZID=America/Chicago:20260301T104500
DTSTAMP:20260421T065044
CREATED:20260217T213632Z
LAST-MODIFIED:20260217T213633Z
UID:10007582-1772358300-1772361900@unityhouston.org
SUMMARY:Servicio en Español - 1 de Marzo        
DESCRIPTION:“Los juegos de la vida” \n\n\n\nLuis De Santis  \n\n\n\nCuando éramos pequeños\, nos gustaba imaginar que éramos otras personas y vivir historias distintas a la “realidad”. Esos juegos\, junto con muchas otras experiencias\, ayudaron a moldear a la persona que eres hoy.  \n\n\n\nPodemos aceptar la idea de que\, a medida que crecemos\, dejamos los juegos a un lado para ocuparnos de asuntos más serios. Pero ¿realmente has dejado de jugar o simplemente has cambiado el tipo de juego?  \n\n\n\nEsta pregunta puede parecer irrelevante; sin embargo\, ¿qué tal si tresponderla podría influir positivamente en la calidad de tu experiencia de vida? Te invitamos a que nos acompañes este domingo a reflexionar sobre esta y otras preguntas\, con la intención de generar conciencia sanadora a través de la integración de tu niño interior con tu yo adulto.  \n\n\n\n\n\n\n\nEscuela dominical para niños (bilingüe)Donde tus niños también aprenderán enseñanzas positivas y practicas para la vida.Edificio de educación (edificio a la izquierda de la pirámide) \n\n\n\nEscuela dominical para niños de 9:45 am a 10:45 am para mas información envia un correo a skrugler@unityhouston.org \n\n\n\n\n\n\n\nPresencial y transmisión en vivo  https://www.facebook.com/UnityHoustonEnEspanol/
URL:https://unityhouston.org/event/servicio-en-espanol-1-de-marzo/
LOCATION:Unity of Houston – Pyramid\, 2929 Unity Drive\, Houston\, 77057\, United States
CATEGORIES:En Espanol,Master Calendar,Servicio,Upcoming Events - On Home Page
ATTACH;FMTTYPE=image/jpeg:https://unityhouston.org/wp-content/uploads/2026/02/2026_0301-UHE-IG.jpg
ORGANIZER;CN="Rev. Claudia Olmos":MAILTO:colmos@unityhouston.org
GEO:29.7342875;-95.4990143
X-APPLE-STRUCTURED-LOCATION;VALUE=URI;X-ADDRESS=Unity of Houston – Pyramid 2929 Unity Drive Houston 77057 United States;X-APPLE-RADIUS=500;X-TITLE=2929 Unity Drive:geo:-95.4990143,29.7342875
END:VEVENT
BEGIN:VEVENT
DTSTART;TZID=America/Chicago:20260308T094500
DTEND;TZID=America/Chicago:20260308T104500
DTSTAMP:20260421T065044
CREATED:20260223T184814Z
LAST-MODIFIED:20260226T131650Z
UID:10007583-1772963100-1772966700@unityhouston.org
SUMMARY:Servicio en Español - 8 de Marzo        
DESCRIPTION:“Cuando la Vida nos llama” \n\n\n\nServicio del 8o Aniversario  \n\n\n\nRev. Claudia Olmos \n\n\n\n“Luego oí la voz del Señor\, que decía: ¿A quién enviaré\, y quién irá por nosotros? Entonces dije: ‘Heme aquí\, envíame a mí’.” — Isaías 6:8 \n\n\n\nEn su libro Callings\, Gregg Levoy nos recuerda que la vida no solo se vive\, la vida llama. Llama una y otra vez\, de muchas formas: a veces con entusiasmo\, otras con incomodidad\, otras incluso con crisis. Dios también nos habla de muchas maneras\, a través de nuestro corazón\, nuestras inquietudes y preguntas profundas. Este mensaje nos invita a reconocer ese llamado que nace en lo más profundo del alma\, a no confundir seguridad con plenitud\, y a descubrir que responder a la voz de la Vida es un camino hacia una fe más viva\, auténtica y llena de sentido.  \n\n\n\n\n\n\n\nEscuela dominical para niños (bilingüe)Donde tus niños también aprenderán enseñanzas positivas y practicas para la vida.Edificio de educación (edificio a la izquierda de la pirámide) \n\n\n\nEscuela dominical para niños de 9:45 am a 10:45 am para mas información envia un correo a skrugler@unityhouston.org \n\n\n\n\n\n\n\nPresencial y transmisión en vivo  https://www.facebook.com/UnityHoustonEnEspanol/
URL:https://unityhouston.org/event/servicio-en-espanol-8-de-marzo/
LOCATION:Unity of Houston – Pyramid\, 2929 Unity Drive\, Houston\, 77057\, United States
CATEGORIES:En Espanol,Master Calendar,Servicio,Upcoming Events - On Home Page
ATTACH;FMTTYPE=image/jpeg:https://unityhouston.org/wp-content/uploads/2026/02/2026_0308-UHE-IG.jpg
ORGANIZER;CN="Rev. Claudia Olmos":MAILTO:colmos@unityhouston.org
GEO:29.7342875;-95.4990143
X-APPLE-STRUCTURED-LOCATION;VALUE=URI;X-ADDRESS=Unity of Houston – Pyramid 2929 Unity Drive Houston 77057 United States;X-APPLE-RADIUS=500;X-TITLE=2929 Unity Drive:geo:-95.4990143,29.7342875
END:VEVENT
BEGIN:VEVENT
DTSTART;TZID=America/Chicago:20260308T113000
DTEND;TZID=America/Chicago:20260308T140000
DTSTAMP:20260421T065044
CREATED:20260129T173634Z
LAST-MODIFIED:20260129T173902Z
UID:10007555-1772969400-1772978400@unityhouston.org
SUMMARY:Metafísica II
DESCRIPTION:El material de Metafísica II se centra en las formas en que nosotros\, en Unity\, ponemos a trabajar nuestros elementos básicos de la Verdad espiritual en nuestra vida diaria. La aplicación práctica de los principios metafísicos es un aspecto necesario y gratificante de nuestro proceso de desarrollo espiritual. Nos concentraremos en las siguientes áreas de estudio: la comprensión de Unity sobre Jesucristo\, la base metafísica para la curación\, los doce poderes de la humanidad y los principios de prosperidad. \n\n\n\nEl material de Metafísica II se centra en las formas en que nosotros\, en Unity\, ponemos a trabajar nuestros elementos básicos de la Verdad espiritual en nuestra vida diaria. La aplicación práctica de los principios metafísicos es un aspecto necesario y gratificante de nuestro proceso de desarrollo espiritual. Nos concentraremos en las siguientes áreas de estudio: la comprensión de Unity sobre Jesucristo\, la base metafísica para la curación\, los doce poderes de la humanidad y los principios de prosperidad. \n\n\n\nClases el 8\, 15\, 22 y 29 de marzo \n\n\n\nHaz clic aquí para registrarte
URL:https://unityhouston.org/event/metafisica-ii/
LOCATION:Unity of Houston – Office Classroom\, 2929 Unity Drive\, Houston\, TX\, 77057\, United States
CATEGORIES:__More Classes,En Espanol,Master Calendar,Upcoming Events - On Home Page
ATTACH;FMTTYPE=image/jpeg:https://unityhouston.org/wp-content/uploads/2026/01/Metafisica-2-1800-x-1800-px.jpg
GEO:29.7342875;-95.4990143
X-APPLE-STRUCTURED-LOCATION;VALUE=URI;X-ADDRESS=Unity of Houston – Office Classroom 2929 Unity Drive Houston TX 77057 United States;X-APPLE-RADIUS=500;X-TITLE=2929 Unity Drive:geo:-95.4990143,29.7342875
END:VEVENT
BEGIN:VEVENT
DTSTART;TZID=America/Chicago:20260310T183000
DTEND;TZID=America/Chicago:20260310T203000
DTSTAMP:20260421T065044
CREATED:20260211T203602Z
LAST-MODIFIED:20260212T154148Z
UID:10007566-1773167400-1773174600@unityhouston.org
SUMMARY:Latinas Unidas en la Luz - 10 de marzo
DESCRIPTION:“La Mujer que se Permite Prosperar”\n\n\n\nFacilitado por Erika Duarte \n\n\n\n\n\nNuestras reuniones de Latinas Unidas en la Luz inician con un espacio de conexión y convivencia\, donde compartimos presencia y algunos bocadillos estilo “potluck”. Te invitamos a traer un platillo para compartir con las demás participantes y así enriquecer juntas este tiempo especial.  \n\n\n\nEste mes tendremos el tema: “La Mujer que se Permite Prosperar” La mujer que prospera no lo hace porque trabaja más o se esfuerza más\, sino porque deja de negarse a recibir. Cuando una mujer se permite próspera\, cambia su forma de verse\, de elegir y de habitar el dinero\, el tiempo y la vida.  \n\n\n\nProsperar importa porque expande opciones\, calma el cuerpo y devuelve dignidad al deseo. No se trata de tener más\, sino de ser la mujer que puede sostener más sin perderse a sí misma. \n\n\n\n\nBiografía de Erika Duarte: Erika Duarte\, es mentora en conciencia de energía y Trainer de PNL\, empodera a líderes a transformar creencias limitantes y tomar decisiones conscientes. Su enfoque fusiona espiritualidad y negocios\, impulsando el éxito empresarial alineado con un propósito más elevado. \n\n\n\n\n\n\n\n\nDonación amorosa. PayPal   \n\n\n\n\n\n\n\nPara más información contactar a Rev. Claudia Olmos enviando un email a colmos@unityhouston.org
URL:https://unityhouston.org/event/latinas-unidas-en-la-luz-10-de-marzo/
LOCATION:Unity of Houston – Wallet Hall\, 2929 Unity Drive\, Houston\, 77057\, United States
CATEGORIES:En Espanol,Latinas Unidas,Master Calendar,Upcoming Events - On Home Page
ATTACH;FMTTYPE=image/jpeg:https://unityhouston.org/wp-content/uploads/2024/06/UOH-Latinas-Unidas-en-la-Luz-1000x1000-1.jpg
GEO:29.7342875;-95.4990143
X-APPLE-STRUCTURED-LOCATION;VALUE=URI;X-ADDRESS=Unity of Houston – Wallet Hall 2929 Unity Drive Houston 77057 United States;X-APPLE-RADIUS=500;X-TITLE=2929 Unity Drive:geo:-95.4990143,29.7342875
END:VEVENT
BEGIN:VEVENT
DTSTART;TZID=America/Chicago:20260315T094500
DTEND;TZID=America/Chicago:20260315T104500
DTSTAMP:20260421T065044
CREATED:20260302T170546Z
LAST-MODIFIED:20260302T170547Z
UID:10007587-1773567900-1773571500@unityhouston.org
SUMMARY:Servicio en Español - 15 de Marzo        
DESCRIPTION:“Cuando la brillantez femenina es liberada” \n\n\n\nRev. Claudia Olmos \n\n\n\nEn este tiempo de cuaresma nos invita a reflexionar sobre aquello que nos limita para entrar tu nuevo yo\, ademas este mes celebramos el mes de la Mujer. Este mensaje nos invita a reconocer y liberar la luz femenina que habita en cada ser. A través de una mirada espiritual y consciente\, exploramos cómo creencias limitantes\, patrones heredados y el miedo a mostrarnos pueden opacar nuestra expresión auténtica. \n\n\n\nAl permitirnos escuchar nuestra sabiduría interna\, honrar nuestros ritmos y expresar nuestra verdad con amor\, abrimos el camino a una vida más plena\, alineada y luminosa.  Cuando la brillantez femenina se libera\, no solo transformamos nuestra experiencia personal: contribuimos a elevar la conciencia colectiva.  \n\n\n\n\n\n\n\nEscuela dominical para niños (bilingüe)Donde tus niños también aprenderán enseñanzas positivas y practicas para la vida.Edificio de educación (edificio a la izquierda de la pirámide) \n\n\n\nEscuela dominical para niños de 9:45 am a 10:45 am para mas información envia un correo a skrugler@unityhouston.org \n\n\n\n\n\n\n\nPresencial y transmisión en vivo  https://www.facebook.com/UnityHoustonEnEspanol/
URL:https://unityhouston.org/event/servicio-en-espanol-15-de-marzo/
LOCATION:Unity of Houston – Pyramid\, 2929 Unity Drive\, Houston\, 77057\, United States
CATEGORIES:En Espanol,Master Calendar,Servicio,Upcoming Events - On Home Page
ATTACH;FMTTYPE=image/jpeg:https://unityhouston.org/wp-content/uploads/2026/03/2026_0315-UHE-IG.jpg
ORGANIZER;CN="Rev. Claudia Olmos":MAILTO:colmos@unityhouston.org
GEO:29.7342875;-95.4990143
X-APPLE-STRUCTURED-LOCATION;VALUE=URI;X-ADDRESS=Unity of Houston – Pyramid 2929 Unity Drive Houston 77057 United States;X-APPLE-RADIUS=500;X-TITLE=2929 Unity Drive:geo:-95.4990143,29.7342875
END:VEVENT
BEGIN:VEVENT
DTSTART;TZID=America/Chicago:20260322T094500
DTEND;TZID=America/Chicago:20260322T104500
DTSTAMP:20260421T065044
CREATED:20260302T171022Z
LAST-MODIFIED:20260320T230813Z
UID:10007588-1774172700-1774176300@unityhouston.org
SUMMARY:Servicio en Español - 22 de Marzo        
DESCRIPTION:“Cuando el miedo ya no gobierna” \n\n\n\nRev. Claudia Olmos \n\n\n\nAl prepararnos para la Resurrección\, que simboliza nueva vida y renovación\, aprender a soltar el miedo se convierte en un paso esencial. Nuestros temores pueden manifestarse de muchas maneras: desde la preocupación por lo que otros piensan hasta las creencias que nos limitan. Cuando aprendemos a liberarnos del miedo\, que es una ilusión de la mente humana\, abrimos espacio para que la Vida Divina y el Cristo interno se expresen plenamente en nosotros. \n\n\n\nSoltar el temor nos permite vivir con paz\, alegría y claridad\, nos ayuda a alinearnos con nuestra verdadera identidad espiritual y nos prepara para experimentar la transformación interior y la vida renovada que la Resurrección promete. Este es un tiempo para soltar lo viejo\, confiar en lo divino y dar la bienvenida a lo nuevo en nuestra conciencia y en nuestra vida. \n\n\n\n\n\n\n\nEscuela dominical para niños (bilingüe)Donde tus niños también aprenderán enseñanzas positivas y practicas para la vida.Edificio de educación (edificio a la izquierda de la pirámide) \n\n\n\nEscuela dominical para niños de 9:45 am a 10:45 am para mas información envia un correo a skrugler@unityhouston.org \n\n\n\n\n\n\n\nPresencial y transmisión en vivo  https://www.facebook.com/UnityHoustonEnEspanol/
URL:https://unityhouston.org/event/servicio-en-espanol-22-de-marzo/
LOCATION:Unity of Houston – Pyramid\, 2929 Unity Drive\, Houston\, 77057\, United States
CATEGORIES:En Espanol,Master Calendar,Servicio,Upcoming Events - On Home Page
ATTACH;FMTTYPE=image/jpeg:https://unityhouston.org/wp-content/uploads/2026/03/2026_0322-UHE-IG.jpg
ORGANIZER;CN="Rev. Claudia Olmos":MAILTO:colmos@unityhouston.org
GEO:29.7342875;-95.4990143
X-APPLE-STRUCTURED-LOCATION;VALUE=URI;X-ADDRESS=Unity of Houston – Pyramid 2929 Unity Drive Houston 77057 United States;X-APPLE-RADIUS=500;X-TITLE=2929 Unity Drive:geo:-95.4990143,29.7342875
END:VEVENT
BEGIN:VEVENT
DTSTART;TZID=America/Chicago:20260329T094500
DTEND;TZID=America/Chicago:20260329T104500
DTSTAMP:20260421T065044
CREATED:20260302T171548Z
LAST-MODIFIED:20260302T171549Z
UID:10007589-1774777500-1774781100@unityhouston.org
SUMMARY:Servicio en Español - 29 de Marzo        
DESCRIPTION:“El Cristo elige vivir a través de mi” \n\n\n\nGiovana Specht   \n\n\n\nEn este domingo de Ramos\, así como Jesús entra en Jerusalén\, celebramos la entrada del Cristo interno en nuestra conciencia y exploramos cómo elegir conscientemente la Vida plena. La entrada triunfal de Jesús nos recuerda que la verdadera paz\, alegría y claridad no dependen de lo que ocurre a nuestro alrededor\, sino de permitir que nuestra Presencia Crística interna guíe cada pensamiento\, palabra y acción.  \n\n\n\nCada día nos da la oportunidad de elegir una transformación consciente.   \n\n\n\nEste mensaje nos invita a abrirnos a la transformación interior\, a reconocer el liderazgo del Cristo interno en nuestra vida diaria y a preparar nuestro corazón para experimentar la renovación y la vida plena que se celebra en la Resurrección.  \n\n\n\n\n\n\n\nEscuela dominical para niños (bilingüe)Donde tus niños también aprenderán enseñanzas positivas y practicas para la vida.Edificio de educación (edificio a la izquierda de la pirámide) \n\n\n\nEscuela dominical para niños de 9:45 am a 10:45 am para mas información envia un correo a skrugler@unityhouston.org \n\n\n\n\n\n\n\nPresencial y transmisión en vivo  https://www.facebook.com/UnityHoustonEnEspanol/
URL:https://unityhouston.org/event/servicio-en-espanol-29-de-marzo/
LOCATION:Unity of Houston – Pyramid\, 2929 Unity Drive\, Houston\, 77057\, United States
CATEGORIES:En Espanol,Master Calendar,Servicio,Upcoming Events - On Home Page
ATTACH;FMTTYPE=image/jpeg:https://unityhouston.org/wp-content/uploads/2026/03/2026_0329-UHE-IG.jpg
ORGANIZER;CN="Rev. Claudia Olmos":MAILTO:colmos@unityhouston.org
GEO:29.7342875;-95.4990143
X-APPLE-STRUCTURED-LOCATION;VALUE=URI;X-ADDRESS=Unity of Houston – Pyramid 2929 Unity Drive Houston 77057 United States;X-APPLE-RADIUS=500;X-TITLE=2929 Unity Drive:geo:-95.4990143,29.7342875
END:VEVENT
END:VCALENDAR