BEGIN:VCALENDAR
VERSION:2.0
PRODID:-//Unity of Houston - ECPv6.13.2.1//NONSGML v1.0//EN
CALSCALE:GREGORIAN
METHOD:PUBLISH
X-WR-CALNAME:Unity of Houston
X-ORIGINAL-URL:https://unityhouston.org
X-WR-CALDESC:Events for Unity of Houston
REFRESH-INTERVAL;VALUE=DURATION:PT1H
X-Robots-Tag:noindex
X-PUBLISHED-TTL:PT1H
BEGIN:VTIMEZONE
TZID:America/Chicago
BEGIN:DAYLIGHT
TZOFFSETFROM:-0600
TZOFFSETTO:-0500
TZNAME:CDT
DTSTART:20260308T080000
END:DAYLIGHT
BEGIN:STANDARD
TZOFFSETFROM:-0500
TZOFFSETTO:-0600
TZNAME:CST
DTSTART:20261101T070000
END:STANDARD
END:VTIMEZONE
BEGIN:VEVENT
DTSTART;TZID=America/Chicago:20260201T094500
DTEND;TZID=America/Chicago:20260201T104500
DTSTAMP:20260421T081144
CREATED:20260121T174822Z
LAST-MODIFIED:20260121T174912Z
UID:10007548-1769939100-1769942700@unityhouston.org
SUMMARY:Servicio en Español - 1 de febrero        
DESCRIPTION:“La Presencia en lo Cotidiano:  Confío\, Suelto y Recibo” \n\n\n\nRicardo Portillo  \n\n\n\nNo necesitas experiencias místicas extraordinarias para sentir a Dios: Su presencia se revela en lo cotidiano\, en cada respiración\, en cada paso\, en cada acto de confianza.  \n\n\n\nTe invitamos este domingo  a explorar juntos cómo\, al confiar y soltar\, abrimos espacio para recibir lo bueno que la Vida ya tiene para nosotros  \n\n\n\n\n\n\n\nEscuela dominical para niños (bilingüe)Donde tus niños también aprenderán enseñanzas positivas y practicas para la vida.Edificio de educación (edificio a la izquierda de la pirámide) \n\n\n\nEscuela dominical para niños de 9:45 am a 10:45 am para mas información envia un correo a skrugler@unityhouston.org \n\n\n\n\n\n\n\nPresencial y transmisión en vivo  https://www.facebook.com/UnityHoustonEnEspanol/
URL:https://unityhouston.org/event/servicio-en-espanol-1-de-febrero/
LOCATION:Unity of Houston – Pyramid\, 2929 Unity Drive\, Houston\, 77057\, United States
CATEGORIES:En Espanol,Master Calendar,Servicio,Upcoming Events - On Home Page
ATTACH;FMTTYPE=image/jpeg:https://unityhouston.org/wp-content/uploads/2026/01/2026_0201-UHE-IG.jpg
ORGANIZER;CN="Rev. Claudia Olmos":MAILTO:colmos@unityhouston.org
GEO:29.7342875;-95.4990143
X-APPLE-STRUCTURED-LOCATION;VALUE=URI;X-ADDRESS=Unity of Houston – Pyramid 2929 Unity Drive Houston 77057 United States;X-APPLE-RADIUS=500;X-TITLE=2929 Unity Drive:geo:-95.4990143,29.7342875
END:VEVENT
BEGIN:VEVENT
DTSTART;TZID=America/Chicago:20260208T094500
DTEND;TZID=America/Chicago:20260208T104500
DTSTAMP:20260421T081144
CREATED:20260129T002323Z
LAST-MODIFIED:20260129T002356Z
UID:10007554-1770543900-1770547500@unityhouston.org
SUMMARY:Servicio en Español - 8 de febrero        
DESCRIPTION:“La Fuerza de Amar” \n\n\n\nRev. Claudia Olmos \n\n\n\nAmar no es solo un sentimiento pasajero; es una fuerza espiritual poderosa que puede transformar nuestra conciencia\, nuestras relaciones y nuestra experiencia de vida. Esta fuerza divina actúa más allá de nuestras emociones humanas\, disolviendo el miedo\, suavizando el juicio y sanando las heridas internas que nos separan de los demás y de nuestra verdadera esencia. \n\n\n\nEn este mensaje exploraremos cómo vivir desde la fuerza del Amor nos conecta con Dios y con cada ser\, recordándonos que todos somos expresiones de la misma Vida y de la misma Presencia divina. Aprenderemos a responder a los desafíos con paz\, a ver más allá de las apariencias y a abrir nuestro corazón para recibir y dar Amor conscientemente. \n\n\n\nDescubre cómo aplicar esta fuerza en lo cotidiano para transformar tus relaciones\, tu entorno y tu percepción de la vida\, recordando que el verdadero poder no reside en controlar\, sino en elegir amar desde el centro de nuestra conciencia.  \n\n\n\n\n\n\n\nEscuela dominical para niños (bilingüe)Donde tus niños también aprenderán enseñanzas positivas y practicas para la vida.Edificio de educación (edificio a la izquierda de la pirámide) \n\n\n\nEscuela dominical para niños de 9:45 am a 10:45 am para mas información envia un correo a skrugler@unityhouston.org \n\n\n\n\n\n\n\nPresencial y transmisión en vivo  https://www.facebook.com/UnityHoustonEnEspanol/
URL:https://unityhouston.org/event/servicio-en-espanol-8-de-febrero-2/
LOCATION:Unity of Houston – Pyramid\, 2929 Unity Drive\, Houston\, 77057\, United States
CATEGORIES:En Espanol,Master Calendar,Servicio,Upcoming Events - On Home Page
ATTACH;FMTTYPE=image/jpeg:https://unityhouston.org/wp-content/uploads/2026/01/2026_0208-UHE-IG.jpg
ORGANIZER;CN="Rev. Claudia Olmos":MAILTO:colmos@unityhouston.org
GEO:29.7342875;-95.4990143
X-APPLE-STRUCTURED-LOCATION;VALUE=URI;X-ADDRESS=Unity of Houston – Pyramid 2929 Unity Drive Houston 77057 United States;X-APPLE-RADIUS=500;X-TITLE=2929 Unity Drive:geo:-95.4990143,29.7342875
END:VEVENT
BEGIN:VEVENT
DTSTART;TZID=America/Chicago:20260210T183000
DTEND;TZID=America/Chicago:20260210T203000
DTSTAMP:20260421T081144
CREATED:20260107T174503Z
LAST-MODIFIED:20260107T174638Z
UID:10007524-1770748200-1770755400@unityhouston.org
SUMMARY:Latinas Unidas en la Luz - 10 de febrero
DESCRIPTION:“Ho’oponopono: Un Camino Sencillo hacia la Sanación Interior”\n\n\n\nFacilitado por Martha Poa \n\n\n\n\n\nNuestras reuniones de Latinas Unidas en la Luz inician con un espacio de conexión y convivencia\, donde compartimos presencia y algunos bocadillos estilo “potluck”. Te invitamos a traer un platillo para compartir con las demás participantes y así enriquecer juntas este tiempo especial.  \n\n\n\nEste mes tendremos el tema: “Ho’oponopono: Un Camino Sencillo hacia la Sanación Interior” En este encuentro realizaremos diversos ejercicios que nos permitirán\, juntas\, elevar nuestra energía y comenzar a practicar conscientemente el principio de “Suelto y confío”\, aprendiendo a soltar el control y abrirnos a la guía divina. Desde este espacio\, podremos vibrar en la frecuencia del Amor y la Abundancia\, entendiendo que el amor y el dinero van de la mano cuando hay coherencia interior. Ho’oponopono es un camino simple\, amoroso y accesible hacia el campo de las infinitas posibilidades. No me creas… ven y practiquemos juntas.  \n\n\n\nDurante esta sesión también disfrutaremos de una meditación guiada para armonizar y elevar nuestra energía a la frecuencia del Amor y la Prosperidad\, soltando y confiando en que la Divinidad nos muestre cómo recibir. Además\, realizaremos un ejercicio de empoderamiento colectivo\, fortaleciendo nuestra energía femenina y recordándonos\, unas a otras\, que sí merecemos\, sí podemos y que somos 100% responsables de nuestra vida y nuestra abundancia. \n\n\n\n\nBiografía de Martha Poa: Martha Poa inicia su camino en el mundo holístico a través de la práctica del Reiki japonés\, alcanzando la Maestría y continuando su formación con distintos instructores y enfoques energéticos. En el año 2018 conoce la técnica de Ho’oponopono a través de Lorena Osorio\, profundizando posteriormente su práctica con Darwin Grajales. En 2020\, durante la pandemia\, conecta con Luis Martínez\, de Ho’oponopono Oficial en Facebook\, quien transmitía enseñanzas diarias durante la crisis de salud mundial. De estas experiencias nace en Martha el deseo profundo de compartir la maravilla de esta herramienta\, una forma sencilla y poderosa de borrar y reprogramar memorias que ya no nos apoyan\, especialmente en estos tiempos de cambios rápidos y constantes. \n\n\n\n\n\n\n\n\nDonación amorosa. PayPal   \n\n\n\n\n\n\n\nPara más información contactar a Rev. Claudia Olmos enviando un email a colmos@unityhouston.org
URL:https://unityhouston.org/event/latinas-unidas-en-la-luz-10-de-febrero/
LOCATION:Unity of Houston – Wallet Hall\, 2929 Unity Drive\, Houston\, 77057\, United States
CATEGORIES:En Espanol,Latinas Unidas,Master Calendar,Upcoming Events - On Home Page
ATTACH;FMTTYPE=image/jpeg:https://unityhouston.org/wp-content/uploads/2024/06/UOH-Latinas-Unidas-en-la-Luz-1000x1000-1.jpg
GEO:29.7342875;-95.4990143
X-APPLE-STRUCTURED-LOCATION;VALUE=URI;X-ADDRESS=Unity of Houston – Wallet Hall 2929 Unity Drive Houston 77057 United States;X-APPLE-RADIUS=500;X-TITLE=2929 Unity Drive:geo:-95.4990143,29.7342875
END:VEVENT
BEGIN:VEVENT
DTSTART;TZID=America/Chicago:20260214T100000
DTEND;TZID=America/Chicago:20260214T143000
DTSTAMP:20260421T081144
CREATED:20260116T205245Z
LAST-MODIFIED:20260116T205642Z
UID:10007542-1771063200-1771079400@unityhouston.org
SUMMARY:Bodas Gratis: En San Valentin 2026
DESCRIPTION:Reserva tu fecha de boda\n\n\n\nLas ceremonias de boda se realizan en inglés y en español. Se requiere registro previo para que podamos preparar su ceremonia y garantizar que haya un oficiante disponible. Es posible que no podamos atender a personas sin cita previa. \n\n\n\nRegístrate aquí\n\n\n\nTodas las parejas comprometidas están invitadas a celebrar su amor con una boda en Unity of Houston.En el Día de San Valentín\, ofrecemos bodas gratuitas como una expresión de nuestro compromiso con el amor\, la hospitalidad y la inclusión para las parejas de todo Houston. \n\n\n\n¿Qué incluye? \n\n\n\n● Una ceremonia de boda de 10–15 minutos● Un oficiante con licencia de Unity● Una hermosa experiencia ceremonial en nuestro santuario amplio y moderno● Un certificado conmemorativo de boda (no es la licencia legal de matrimonio)● Una foto rápida tomada con su teléfono inteligente o cámara (una o dos fotos — no es fotografía profesional) \n\n\n\n¿Qué necesitarán? \n\n\n\n● Una licencia de matrimonio válida del estado de Texas (requerida para una boda legal)● Anillos (opcional)● Votos personales (opcional)● No se requieren testigos según la ley de Texas \n\n\n\n¿Cómo funciona? \n\n\n\n\nEs necesario registrarse previamente. Reserve su horario de ceremonia de 15 minutos a continuación.\n\n\n\nRecibirá un correo electrónico de confirmación con instrucciones de llegada y detalles de estacionamiento.\n\n\n\nTraiga su licencia legal de matrimonio si realizará una ceremonia legal.\n\n\n\nDisfrute de su ceremonia de boda y de un breve momento para tomar una foto.\n\n\n\n\nPreguntas frecuentes \n\n\n\n¿Necesitamos una licencia de matrimonio?Sí\, si desean que su matrimonio sea legalmente reconocido. Por favor\, traigan su licencia de matrimonio válida del estado de Texas. \n\n\n\n¿Todas las parejas son bienvenidas?Absolutamente. Honramos y celebramos a todas las parejas comprometidas. \n\n\n\n¿Necesitamos ser miembros de Unity?No. Este día está abierto para todas las personas en Houston y de cualquier lugar. \n\n\n\n¿Cuánto dura la ceremonia?Cada boda dura aproximadamente entre 10 y 15 minutos. \n\n\n\n¿Podemos llevar invitados?Pueden traer un pequeño grupo de invitados (hasta 8 personas) para celebrar con ustedes. \n\n\n\n¿Por qué hay un límite de invitados?Debido a que las ceremonias se programan cada 15 minutos\, mantener los grupos pequeños nos ayuda a mantener un flujo ágil y garantizar una buena experiencia para todos. \n\n\n\n¿Ofrecen servicio de fotografía?Un miembro del equipo puede tomar una o dos fotos rápidas usando su teléfono inteligente o cámara. No ofrecemos fotografía profesional. \n\n\n\nSobre Unity of Houston \n\n\n\nUnity of Houston es una comunidad espiritual basada en el amor\, la inclusión y la espiritualidad práctica. Damos la bienvenida a personas de todos los orígenes y caminos espirituales. \n\n\n\n[Conozca más sobre Unity of Houston →] www.unityhouston.org/espanol \n\n\n\n¿Preguntas? Envíenos un correo electrónico o llámenos si tiene alguna pregunta. Con gusto le ayudaremos
URL:https://unityhouston.org/event/bodas-gratis-en-san-valentin-2026/
LOCATION:Unity of Houston – Sanctuary\, 2929 Unity Drive\, Houston\, 77057\, United States
CATEGORIES:En Espanol,Upcoming Events - On Home Page
ATTACH;FMTTYPE=image/png:https://unityhouston.org/wp-content/uploads/2026/01/BODAS-1800-x-1800-px.png
GEO:29.7342875;-95.4990143
X-APPLE-STRUCTURED-LOCATION;VALUE=URI;X-ADDRESS=Unity of Houston – Sanctuary 2929 Unity Drive Houston 77057 United States;X-APPLE-RADIUS=500;X-TITLE=2929 Unity Drive:geo:-95.4990143,29.7342875
END:VEVENT
BEGIN:VEVENT
DTSTART;TZID=America/Chicago:20260215T094500
DTEND;TZID=America/Chicago:20260215T104500
DTSTAMP:20260421T081144
CREATED:20260128T152623Z
LAST-MODIFIED:20260202T165855Z
UID:10007550-1771148700-1771152300@unityhouston.org
SUMMARY:Servicio en Español - 15 de febrero        
DESCRIPTION:“Relaciones que Revelan el Alma” \n\n\n\nRev. Claudia Olmos y Ricardo Portillo  \n\n\n\nEn este conversatorio especial\, exploramos el amor desde una perspectiva espiritual profunda y práctica a la vez. A través de un diálogo dinámico\, descubriremos cómo nuestras relaciones no llegan por casualidad\, sino como espejos que reflejan nuestra conciencia\, nuestras creencias y las partes de nosotros que están listas para sanar y crecer.  \n\n\n\nHablaremos sobre la diferencia entre amar desde el ego y amar desde nuestra conexión con Dios\, cómo las experiencias que nos activan pueden convertirse en puertas de transformación.  Un espacio cercano\, inspirador y lleno de corazón para aprender\, reír y recordar que cada relación es parte de nuestro viaje de regreso al Amor que realmente somos.  \n\n\n\n\n\n\n\nEscuela dominical para niños (bilingüe)Donde tus niños también aprenderán enseñanzas positivas y practicas para la vida.Edificio de educación (edificio a la izquierda de la pirámide) \n\n\n\nEscuela dominical para niños de 9:45 am a 10:45 am para mas información envia un correo a skrugler@unityhouston.org \n\n\n\n\n\n\n\nPresencial y transmisión en vivo  https://www.facebook.com/UnityHoustonEnEspanol/
URL:https://unityhouston.org/event/servicio-en-espanol-15-de-febrero/
LOCATION:Unity of Houston – Pyramid\, 2929 Unity Drive\, Houston\, 77057\, United States
CATEGORIES:En Espanol,Master Calendar,Servicio,Upcoming Events - On Home Page
ATTACH;FMTTYPE=image/png:https://unityhouston.org/wp-content/uploads/2026/01/2026_0215-UHE-IG.png
ORGANIZER;CN="Rev. Claudia Olmos":MAILTO:colmos@unityhouston.org
GEO:29.7342875;-95.4990143
X-APPLE-STRUCTURED-LOCATION;VALUE=URI;X-ADDRESS=Unity of Houston – Pyramid 2929 Unity Drive Houston 77057 United States;X-APPLE-RADIUS=500;X-TITLE=2929 Unity Drive:geo:-95.4990143,29.7342875
END:VEVENT
BEGIN:VEVENT
DTSTART;TZID=America/Chicago:20260222T094500
DTEND;TZID=America/Chicago:20260222T104500
DTSTAMP:20260421T081144
CREATED:20260128T152927Z
LAST-MODIFIED:20260128T152928Z
UID:10007551-1771753500-1771757100@unityhouston.org
SUMMARY:Servicio en Español - 22 de febrero        
DESCRIPTION:“Somos Uno” \n\n\n\nRev. Claudia Olmos \n\n\n\nAunque a veces parece que estamos separados por diferencias de opiniones\, culturas o experiencias\, la verdad espiritual es que todos compartimos la misma esencia divina. La separación es solo una percepción de la mente humana; en realidad\, somos expresiones de la misma Vida y del mismo Amor divino. \n\n\n\nEn este mensaje exploraremos cómo recordar que somos Uno transforma nuestra percepción\, disuelve el miedo\, suaviza el juicio y nos conecta con la paz y la compasión. Aprenderemos a ver más allá de las apariencias\, reconocer la chispa divina en cada persona y vivir desde un lugar de unidad consciente. \n\n\n\nDescubre cómo vivir desde la unidad no solo transforma tus relaciones\, sino que también te permite experimentar la vida con armonía\, plenitud y un sentido más profundo de conexión con Dios y con todos los seres. \n\n\n\n\n\n\n\nEscuela dominical para niños (bilingüe)Donde tus niños también aprenderán enseñanzas positivas y practicas para la vida.Edificio de educación (edificio a la izquierda de la pirámide) \n\n\n\nEscuela dominical para niños de 9:45 am a 10:45 am para mas información envia un correo a skrugler@unityhouston.org \n\n\n\n\n\n\n\nPresencial y transmisión en vivo  https://www.facebook.com/UnityHoustonEnEspanol/
URL:https://unityhouston.org/event/servicio-en-espanol-22-de-febrero/
LOCATION:Unity of Houston – Pyramid\, 2929 Unity Drive\, Houston\, 77057\, United States
CATEGORIES:En Espanol,Master Calendar,Servicio,Upcoming Events - On Home Page
ATTACH;FMTTYPE=image/jpeg:https://unityhouston.org/wp-content/uploads/2026/01/2026_0222-UHE-IG.jpg
ORGANIZER;CN="Rev. Claudia Olmos":MAILTO:colmos@unityhouston.org
GEO:29.7342875;-95.4990143
X-APPLE-STRUCTURED-LOCATION;VALUE=URI;X-ADDRESS=Unity of Houston – Pyramid 2929 Unity Drive Houston 77057 United States;X-APPLE-RADIUS=500;X-TITLE=2929 Unity Drive:geo:-95.4990143,29.7342875
END:VEVENT
END:VCALENDAR