BEGIN:VCALENDAR
VERSION:2.0
PRODID:-//Unity of Houston - ECPv6.13.2.1//NONSGML v1.0//EN
CALSCALE:GREGORIAN
METHOD:PUBLISH
X-ORIGINAL-URL:https://unityhouston.org
X-WR-CALDESC:Events for Unity of Houston
REFRESH-INTERVAL;VALUE=DURATION:PT1H
X-Robots-Tag:noindex
X-PUBLISHED-TTL:PT1H
BEGIN:VTIMEZONE
TZID:America/Chicago
BEGIN:DAYLIGHT
TZOFFSETFROM:-0600
TZOFFSETTO:-0500
TZNAME:CDT
DTSTART:20260308T080000
END:DAYLIGHT
BEGIN:STANDARD
TZOFFSETFROM:-0500
TZOFFSETTO:-0600
TZNAME:CST
DTSTART:20261101T070000
END:STANDARD
END:VTIMEZONE
BEGIN:VEVENT
DTSTART;TZID=America/Chicago:20260104T094500
DTEND;TZID=America/Chicago:20260104T104500
DTSTAMP:20260421T093221
CREATED:20251218T220944Z
LAST-MODIFIED:20251218T221204Z
UID:10007516-1767519900-1767523500@unityhouston.org
SUMMARY:Servicio en Español - 4 de enero           
DESCRIPTION: “Hay Solo Uno” \n\n\n\nRev. Claudia Olmos \n\n\n\nPrincipio Uno Dios es la fuente y el creador: “Hay una sola Presencia y un solo Poder (Dios)\, activoentodas partes\, y Dios es bueno.”  \n\n\n\nPrincipio Dos Somos inherentemente divinos: “Los sereshumanossomosseresespirituales\, creados a imagen de Dios\, con elespíritu de Dios dentro de nosotros\, lo quenoshaceinherentemente buenos.”  \n\n\n\nEstos dos primeros principios apuntan a nuestra comprensión teológica y filosófica más importante: la Unidad (Oneness). Nuestra visión no dual del mundo significa que Unity ocupa un lugar único dentro del cristianismo. Esta forma de entender la realidad suele asociarse con las tradiciones orientales del budismo y el hinduismo. Gran parte de las enseñanzas de Jesús se alinean con esta perspectiva: “No soy yo quien hace las obras\, sino el Padre que mora en mí” y “El reino de Dios está dentro de ustedes.”  \n\n\n\nCuando vivimos estos principios\, sabemos que somos infinitamente amados y sostenidos por el Espíritu. Y comenzamos a ver a los demás de manera diferente. En verdad\, ya no son “otros”. Reflejan para nosotros el rostro de Dios.  \n\n\n\n\n\n\n\nEscuela dominical para niños (bilingüe)Donde tus niños también aprenderán enseñanzas positivas y practicas para la vida.Edificio de educación (edificio a la izquierda de la pirámide) \n\n\n\nEscuela dominical para niños de 9:45 am a 10:45 am para mas información envia un correo a skrugler@unityhouston.org \n\n\n\n\n\n\n\nPresencial y transmisión en vivo  https://www.facebook.com/UnityHoustonEnEspanol/
URL:https://unityhouston.org/event/servicio-en-espanol-4-de-enero/
LOCATION:Unity of Houston – Pyramid\, 2929 Unity Drive\, Houston\, 77057\, United States
CATEGORIES:En Espanol,Master Calendar,Servicio,Upcoming Events - On Home Page
ATTACH;FMTTYPE=image/png:https://unityhouston.org/wp-content/uploads/2025/12/2026_0104-UHE-IG.png
ORGANIZER;CN="Rev. Claudia Olmos":MAILTO:colmos@unityhouston.org
GEO:29.7342875;-95.4990143
X-APPLE-STRUCTURED-LOCATION;VALUE=URI;X-ADDRESS=Unity of Houston – Pyramid 2929 Unity Drive Houston 77057 United States;X-APPLE-RADIUS=500;X-TITLE=2929 Unity Drive:geo:-95.4990143,29.7342875
END:VEVENT
BEGIN:VEVENT
DTSTART;TZID=America/Chicago:20260111T094500
DTEND;TZID=America/Chicago:20260111T104500
DTSTAMP:20260421T093221
CREATED:20251218T221420Z
LAST-MODIFIED:20251218T221421Z
UID:10007517-1768124700-1768128300@unityhouston.org
SUMMARY:Servicio en Español - 11 de enero           
DESCRIPTION: “Cambia tu Forma de Pensar\, Cambia tu Vida” \n\n\n\nRev. Claudia Olmos \n\n\n\nPrincipio Tres Los pensamientos crean la realidad: Creamos nuestras experiencias de vida y atraemos nuestras realidades a través de nuestros pensamientos\, creencias y sentimientos.  \n\n\n\nPara comprender y trabajar con este principio\, debemos estar dispuestos a mirarnos a nosotros mismos y a nuestras vidas con honestidad. Debemos estar dispuestos a soltar nuestras historias de victimización y nuestras excusas. Necesitamos dejar de culpar a nuestros padres o al mundo y asumir la responsabilidad de nuestra propia experiencia. Cuando logramos hacer esto\, sostenemos en nuestras manos la clave para crear una vida de libertad y plenitud\, alineada con nuestras esperanzas más profundas y nuestros sueños más elevados. Este es el gran trabajo de nuestras vidas.  \n\n\n\n\n\n\n\nEscuela dominical para niños (bilingüe)Donde tus niños también aprenderán enseñanzas positivas y practicas para la vida.Edificio de educación (edificio a la izquierda de la pirámide) \n\n\n\nEscuela dominical para niños de 9:45 am a 10:45 am para mas información envia un correo a skrugler@unityhouston.org \n\n\n\n\n\n\n\nPresencial y transmisión en vivo  https://www.facebook.com/UnityHoustonEnEspanol/
URL:https://unityhouston.org/event/servicio-en-espanol-11-de-enero/
LOCATION:Unity of Houston – Pyramid\, 2929 Unity Drive\, Houston\, 77057\, United States
CATEGORIES:En Espanol,Master Calendar,Servicio,Upcoming Events - On Home Page
ATTACH;FMTTYPE=image/png:https://unityhouston.org/wp-content/uploads/2025/12/2026_0111-UHE-IG.png
ORGANIZER;CN="Rev. Claudia Olmos":MAILTO:colmos@unityhouston.org
GEO:29.7342875;-95.4990143
X-APPLE-STRUCTURED-LOCATION;VALUE=URI;X-ADDRESS=Unity of Houston – Pyramid 2929 Unity Drive Houston 77057 United States;X-APPLE-RADIUS=500;X-TITLE=2929 Unity Drive:geo:-95.4990143,29.7342875
END:VEVENT
BEGIN:VEVENT
DTSTART;TZID=America/Chicago:20260113T183000
DTEND;TZID=America/Chicago:20260113T203000
DTSTAMP:20260421T093221
CREATED:20251010T164934Z
LAST-MODIFIED:20251010T164959Z
UID:10007318-1768329000-1768336200@unityhouston.org
SUMMARY:Latinas Unidas en la Luz - 13 de enero
DESCRIPTION:“La Gratitud como camino de Sanación y Resiliencia”\n\n\n\nFacilitado por Julieta Quijada \n\n\n\n\n\nNuestras reuniones de Latinas Unidas en la Luz inician con un espacio de conexión y convivencia\, donde compartimos presencia y algunos bocadillos estilo “potluck”. Te invitamos a traer un platillo para compartir con las demás participantes y así enriquecer juntas este tiempo especial.  \n\n\n\nEste mes tendremos el tema: “La Gratitud como camino de Sanación y Resiliencia” ¿Qué une una exitosa carrera de 41 años como ingeniera geóloga con la sabiduría de una terapeuta holística? La gratitud y la resiliencia. Mi vida ha sido un viaje de contrastes\, lleno de grandes éxitos y profundas pérdidas. He superado la muerte de mi madre a los 19 años\, sobreviví al cáncer de seno\, me reinventé después de 36 años de matrimonio y reconstruí mi vida en un nuevo país después de perder mi carrera en la industria petrolera.  \n\n\n\nLa pérdida de mi segundo esposo también marcó mi camino. Cada desafío me enseñó que la sanación no es la ausencia de dolor\, sino la capacidad de encontrar la luz y el aprendizaje en medio de la tormenta. Con el bendecido regalo de tres hijos y tres nietos\, y con la experiencia de haberme jubilado para abrir mi propia tienda de servicios holísticos\, descubrí mi verdadera misión: guiar a otros a través de sus propias transformaciones. En esta charla\, compartiré cómo mi perspectiva única\, que fusiona la ciencia y la espiritualidad\, me ha permitido entender que la energía sigue al pensamiento\, y que la paz interior es el regalo más grande de la aceptación. Únete a mí para descubrir cómo\, a través de la gratitud\, puedes convertir tus desafíos en una fuente inagotable de fortaleza\, sanar tus heridas y vivir una vida significativa\, plena y resiliente. \n\n\n\nDonación amorosa. PayPal   \n\n\n\n\nBiografía de Julieta Quijada: Julieta es una Sanadora de Energía Multidimensional con una práctica integral que combina diversas modalidades como Life Coaching\, PNL\, Meditación\, Reiki\, Cristales\, Terapia de Ángeles y Equilibrio de Chacras. Con 41 años de experiencia como Ingeniera Geóloga en la industria petrolera\, posee una comprensión profunda de la Tierra desde perspectivas científicas y espirituales. Desde su jubilación en 2019\, se ha dedicado a compartir su sabiduría en sanación física\, emocional y espiritual. Su enfoque se basa en el principio de que la energía sigue al pensamiento y en cultivar la resiliencia ante las pruebas de la vida. Julieta enseña que la paz interior se alcanza a través de la aceptación y el perdón. En sus sesiones\, guía a las personas a reconectarse con su propósito y equilibrio interior. Su misión es empoderar a otros a crear una vida plena y en armonía mediante prácticas energéticas conscientes. \n\n\n\n\n\n\n\n\nPara más información contactar a Rev. Claudia Olmos enviando un email a colmos@unityhouston.org
URL:https://unityhouston.org/event/latinas-unidas-en-la-luz-13-de-enero/
LOCATION:Unity of Houston – Wallet Hall\, 2929 Unity Drive\, Houston\, 77057\, United States
CATEGORIES:En Espanol,Latinas Unidas,Master Calendar,Upcoming Events - On Home Page
ATTACH;FMTTYPE=image/jpeg:https://unityhouston.org/wp-content/uploads/2024/06/UOH-Latinas-Unidas-en-la-Luz-1000x1000-1.jpg
GEO:29.7342875;-95.4990143
X-APPLE-STRUCTURED-LOCATION;VALUE=URI;X-ADDRESS=Unity of Houston – Wallet Hall 2929 Unity Drive Houston 77057 United States;X-APPLE-RADIUS=500;X-TITLE=2929 Unity Drive:geo:-95.4990143,29.7342875
END:VEVENT
BEGIN:VEVENT
DTSTART;TZID=America/Chicago:20260118T094500
DTEND;TZID=America/Chicago:20260118T104500
DTSTAMP:20260421T093221
CREATED:20251218T221629Z
LAST-MODIFIED:20251218T221630Z
UID:10007518-1768729500-1768733100@unityhouston.org
SUMMARY:Servicio en Español - 18 de enero           
DESCRIPTION: “Disolviendo las barreras ” \n\n\n\nGiovana Specht  \n\n\n\nPrincipio Cuatro La oración nos conecta con Dios: “La oración afirmativa y la meditación alinean nuestra mente con Dios\, dando lugar a sabiduría\, sanación y bien.”  \n\n\n\nA veces nuestros desafíos\, problemas —e incluso nuestras metas y aspiraciones— ocupan tanto espacio que perdemos de vista la realidad más amplia que nos sostiene. Cuando sentimos que todo se nos viene encima\, podemos experimentar ansiedad y desconexión. La oración y la meditación nos ofrecen una manera de cambiar nuestra conciencia: no para escapar de lo que está sucediendo\, sino para reconectarnos con la Presencia más profunda que lo contiene todo.  \n\n\n\nEste domingo exploraremos estas prácticas como caminos de regreso a nuestro centro y hacia la conciencia de lo Divino dentro y a nuestro alrededor. En ese espacio sagrado\, el muro invisible que imaginamos entre nosotros y Dios se disuelve\, y la unidad se hace evidente.  \n\n\n\n\n\n\n\nEscuela dominical para niños (bilingüe)Donde tus niños también aprenderán enseñanzas positivas y practicas para la vida.Edificio de educación (edificio a la izquierda de la pirámide) \n\n\n\nEscuela dominical para niños de 9:45 am a 10:45 am para mas información envia un correo a skrugler@unityhouston.org \n\n\n\n\n\n\n\nPresencial y transmisión en vivo  https://www.facebook.com/UnityHoustonEnEspanol/
URL:https://unityhouston.org/event/servicio-en-espanol-18-de-enero/
LOCATION:Unity of Houston – Pyramid\, 2929 Unity Drive\, Houston\, 77057\, United States
CATEGORIES:En Espanol,Master Calendar,Servicio,Upcoming Events - On Home Page
ATTACH;FMTTYPE=image/png:https://unityhouston.org/wp-content/uploads/2025/12/2026_0118-UHE-IG.png
ORGANIZER;CN="Rev. Claudia Olmos":MAILTO:colmos@unityhouston.org
GEO:29.7342875;-95.4990143
X-APPLE-STRUCTURED-LOCATION;VALUE=URI;X-ADDRESS=Unity of Houston – Pyramid 2929 Unity Drive Houston 77057 United States;X-APPLE-RADIUS=500;X-TITLE=2929 Unity Drive:geo:-95.4990143,29.7342875
END:VEVENT
BEGIN:VEVENT
DTSTART;TZID=America/Chicago:20260125T094500
DTEND;TZID=America/Chicago:20260125T104500
DTSTAMP:20260421T093221
CREATED:20251218T222145Z
LAST-MODIFIED:20251218T222229Z
UID:10007520-1769334300-1769337900@unityhouston.org
SUMMARY:Servicio en Español - 25 de enero           
DESCRIPTION: “Viviendo  la Verdad” \n\n\n\nRev. Claudia Olmos \n\n\n\nPrincipio Cinco Vivir la Verdad: Comprender no es suficiente; debemos aplicar estos principios espirituales en nuestra vida diaria a través de nuestros pensamientos\, palabras y acciones.  \n\n\n\nEl Quinto Principio nos recuerda que la verdad espiritual no es algo que conocemos solo porque estamos de acuerdo con ella. Podemos sentir afinidad con una idea\, pero a menos que permitamos que moldee nuestras decisiones\, nuestras relaciones y la forma en que enfrentamos la vida\, no la conocemos en el nivel que verdaderamente nos transforma. La comprensión se convierte en sabiduría solo cuando se practica.  \n\n\n\nEste principio pone a los demás en acción. La unidad\, nuestra naturaleza divina\, el poder creativo del pensamiento y la práctica de la oración adquieren un significado real cuando se viven —cuando dan forma a cómo nos presentamos y transitamos nuestros días.  \n\n\n\n\n\n\n\nEscuela dominical para niños (bilingüe)Donde tus niños también aprenderán enseñanzas positivas y practicas para la vida.Edificio de educación (edificio a la izquierda de la pirámide) \n\n\n\nEscuela dominical para niños de 9:45 am a 10:45 am para mas información envia un correo a skrugler@unityhouston.org \n\n\n\n\n\n\n\nPresencial y transmisión en vivo  https://www.facebook.com/UnityHoustonEnEspanol/
URL:https://unityhouston.org/event/servicio-en-espanol-25-de-enero/
LOCATION:Unity of Houston – Pyramid\, 2929 Unity Drive\, Houston\, 77057\, United States
CATEGORIES:En Espanol,Master Calendar,Servicio,Upcoming Events - On Home Page
ATTACH;FMTTYPE=image/png:https://unityhouston.org/wp-content/uploads/2025/12/2026_0125-UHE-IG.png
ORGANIZER;CN="Rev. Claudia Olmos":MAILTO:colmos@unityhouston.org
GEO:29.7342875;-95.4990143
X-APPLE-STRUCTURED-LOCATION;VALUE=URI;X-ADDRESS=Unity of Houston – Pyramid 2929 Unity Drive Houston 77057 United States;X-APPLE-RADIUS=500;X-TITLE=2929 Unity Drive:geo:-95.4990143,29.7342875
END:VEVENT
END:VCALENDAR