BEGIN:VCALENDAR
VERSION:2.0
PRODID:-//Unity of Houston - ECPv6.13.2.1//NONSGML v1.0//EN
CALSCALE:GREGORIAN
METHOD:PUBLISH
X-ORIGINAL-URL:https://unityhouston.org
X-WR-CALDESC:Events for Unity of Houston
REFRESH-INTERVAL;VALUE=DURATION:PT1H
X-Robots-Tag:noindex
X-PUBLISHED-TTL:PT1H
BEGIN:VTIMEZONE
TZID:America/Chicago
BEGIN:DAYLIGHT
TZOFFSETFROM:-0600
TZOFFSETTO:-0500
TZNAME:CDT
DTSTART:20250309T080000
END:DAYLIGHT
BEGIN:STANDARD
TZOFFSETFROM:-0500
TZOFFSETTO:-0600
TZNAME:CST
DTSTART:20251102T070000
END:STANDARD
END:VTIMEZONE
BEGIN:VEVENT
DTSTART;TZID=America/Chicago:20251207T094500
DTEND;TZID=America/Chicago:20251207T104500
DTSTAMP:20260421T110810
CREATED:20251120T210233Z
LAST-MODIFIED:20251120T210234Z
UID:10007407-1765100700-1765104300@unityhouston.org
SUMMARY:Servicio en Español - 7 de diciembre          
DESCRIPTION: “El Poder Transformador del Adviento”\n\n\n\nRev. Claudia Olmos \n\n\n\nHoy nos reunimos para reflexionar sobre el poder transformador del Adviento\, un tiempo sagrado que nos invita a mirar hacia adentro y abrirnos a la luz de la esperanza\, la renovación y el cambio. Más allá de la preparación externa para la temporada festiva\, el Adviento es una llamada espiritual: nos invita a despertar la chispa de la luz Crística dentro de nosotros\, a liberar lo que ya no nos sirve\, y a recibir la nueva conciencia que busca nacer en nuestra vida.  \n\n\n\nEs un tiempo para reconocer que la verdadera transformación ocurre en nuestro interior\, y que cada acto de fe\, cada momento de gratitud\, y cada decisión de amor nos acerca a vivir con más plenitud la presencia divina en nuestra vida cotidiana. Hoy exploraremos juntos cómo este período de espera y preparación puede convertirse en un camino de renovación profunda y en un espacio donde la esperanza se manifiesta en nuestra vida de manera tangible.  \n\n\n\n¡Te invitamos a unirte este domingo!  \n\n\n\n\n\n\n\nEscuela dominical para niños (bilingüe)Donde tus niños también aprenderán enseñanzas positivas y practicas para la vida.Edificio de educación (edificio a la izquierda de la pirámide) \n\n\n\nEscuela dominical para niños de 9:45 am a 10:45 am para mas información envia un correo a skrugler@unityhouston.org \n\n\n\n\n\n\n\nPresencial y transmisión en vivo  https://www.facebook.com/UnityHoustonEnEspanol/
URL:https://unityhouston.org/event/servicio-en-espanol-7-de-diciembre/
LOCATION:Unity of Houston – Pyramid\, 2929 Unity Drive\, Houston\, 77057\, United States
CATEGORIES:En Espanol,Master Calendar,Servicio,Upcoming Events - On Home Page
ATTACH;FMTTYPE=image/jpeg:https://unityhouston.org/wp-content/uploads/2025/11/2025_1207-UHE-IG.jpg
ORGANIZER;CN="Rev. Claudia Olmos":MAILTO:colmos@unityhouston.org
GEO:29.7342875;-95.4990143
X-APPLE-STRUCTURED-LOCATION;VALUE=URI;X-ADDRESS=Unity of Houston – Pyramid 2929 Unity Drive Houston 77057 United States;X-APPLE-RADIUS=500;X-TITLE=2929 Unity Drive:geo:-95.4990143,29.7342875
END:VEVENT
BEGIN:VEVENT
DTSTART;TZID=America/Chicago:20251209T183000
DTEND;TZID=America/Chicago:20251209T203000
DTSTAMP:20260421T110810
CREATED:20251202T204516Z
LAST-MODIFIED:20251202T204517Z
UID:10007476-1765305000-1765312200@unityhouston.org
SUMMARY:Latinas Unidas en la Luz - 9 de diciembre
DESCRIPTION:“Cerrando el año con amor”\n\n\n\nFacilitado por Rev. Claudia Olmos \n\n\n\n\n\nEn esta ocasión queremos invitarte a una celebración navideña muy especial donde cerraremos el año con un convivio lleno de amor y comunidad. Tendremos un panel con algunas de nuestras facilitadoras\, espacio para compartir experiencias y disfrutaremos juntos de los platillos que cada quien traerá con cariño. Por favor confirma tu asistencia y registra tu platillo con Rocio Rodriguez @ (713) 277-4772 \n\n\n\nDonación amorosa. PayPal   \n\n\n\n\n\n\n\nPara más información contactar a Rev. Claudia Olmos enviando un email a colmos@unityhouston.org
URL:https://unityhouston.org/event/latinas-unidas-en-la-luz-9-de-diciembre/
LOCATION:Unity of Houston – Wallet Hall\, 2929 Unity Drive\, Houston\, 77057\, United States
CATEGORIES:En Espanol,Latinas Unidas,Master Calendar,Upcoming Events - On Home Page
ATTACH;FMTTYPE=image/jpeg:https://unityhouston.org/wp-content/uploads/2024/06/UOH-Latinas-Unidas-en-la-Luz-1000x1000-1.jpg
GEO:29.7342875;-95.4990143
X-APPLE-STRUCTURED-LOCATION;VALUE=URI;X-ADDRESS=Unity of Houston – Wallet Hall 2929 Unity Drive Houston 77057 United States;X-APPLE-RADIUS=500;X-TITLE=2929 Unity Drive:geo:-95.4990143,29.7342875
END:VEVENT
BEGIN:VEVENT
DTSTART;TZID=America/Chicago:20251214T094500
DTEND;TZID=America/Chicago:20251214T104500
DTSTAMP:20260421T110810
CREATED:20251120T214743Z
LAST-MODIFIED:20251120T214744Z
UID:10007408-1765705500-1765709100@unityhouston.org
SUMMARY:Servicio en Español - 14 de diciembre          
DESCRIPTION: “Doce Luces\, Un Corazón: Honrando la Conciencia Crística”\n\n\n\nRev. Claudia Olmos \n\n\n\nEn esta temporada de preparación para la Navidad\, celebramos nuestra tradición anual con la Ceremonia de las 12 Luces\, donde cada vela simboliza uno de los 12 poderes espirituales que reflejan la plenitud de nuestro Ser Verdadero y nos ayudan a desarrollar la Conciencia Crística que habita en nosotros.  \n\n\n\nÚnete a nosotros en un espacio comunitario y sagrado\, donde compartiremos luz\, intención y transformación\, y profundizaremos juntos en estos poderes esenciales que nos guían hacia la paz\, el amor y la verdadera plenitud.  \n\n\n\nTe invitamos a acompañarnos y ser parte de esta celebración de luz y conciencia. ¡Tu presencia hará que esta ceremonia sea aún más especial!  \n\n\n\n\n\n\n\nEscuela dominical para niños (bilingüe)Donde tus niños también aprenderán enseñanzas positivas y practicas para la vida.Edificio de educación (edificio a la izquierda de la pirámide) \n\n\n\nEscuela dominical para niños de 9:45 am a 10:45 am para mas información envia un correo a skrugler@unityhouston.org \n\n\n\n\n\n\n\nPresencial y transmisión en vivo  https://www.facebook.com/UnityHoustonEnEspanol/
URL:https://unityhouston.org/event/servicio-en-espanol-14-de-diciembre/
LOCATION:Unity of Houston – Pyramid\, 2929 Unity Drive\, Houston\, 77057\, United States
CATEGORIES:En Espanol,Master Calendar,Servicio,Upcoming Events - On Home Page
ATTACH;FMTTYPE=image/jpeg:https://unityhouston.org/wp-content/uploads/2025/11/2025_1214-UHE-IG.jpg
ORGANIZER;CN="Rev. Claudia Olmos":MAILTO:colmos@unityhouston.org
GEO:29.7342875;-95.4990143
X-APPLE-STRUCTURED-LOCATION;VALUE=URI;X-ADDRESS=Unity of Houston – Pyramid 2929 Unity Drive Houston 77057 United States;X-APPLE-RADIUS=500;X-TITLE=2929 Unity Drive:geo:-95.4990143,29.7342875
END:VEVENT
BEGIN:VEVENT
DTSTART;TZID=America/Chicago:20251221T130000
DTEND;TZID=America/Chicago:20251221T140000
DTSTAMP:20260421T110810
CREATED:20251120T215456Z
LAST-MODIFIED:20251120T215547Z
UID:10007409-1766322000-1766325600@unityhouston.org
SUMMARY:Servicio en Español - 21 de diciembre          
DESCRIPTION: “La Luz de Cristo que Despierta en Nosotros”\n\n\n\nRev. Claudia Olmos \n\n\n\nEn esta temporada sagrada\, recordamos que la Navidad no es solo un acontecimiento bíblico\, sino un despertar continuo en el corazón de cada ser. La Luz de Cristo —esa presencia divina\, sabia y amorosa— ya habita en nosotros y espera ser reconocida\, encendida y expresada en nuestra vida diaria.  \n\n\n\nEn este mensaje exploraremos cómo esa Luz interior disipa nuestras sombras de temor\, duda o separación\, guiándonos hacia una conciencia más profunda de paz\, compasión y propósito.   \n\n\n\nEste será nuestro servicio de encendido de velas\, como recordatorio de que la Luz ya está aquí… y está despertando en ti.  \n\n\n\nTe invitamos a acompañarnos este domingo para abrir juntos el corazón\, celebrar la verdad espiritual de nuestro Ser y permitir que la Luz de Cristo ilumine nuestro camino individual y colectivo.  \n\n\n\nAdemás de que tendremos un compartir Navideño al final del servicio\, puedes traer un platillo para compartir.  \n\n\n\nTe esperamos en este servicio especial.  \n\n\n\n\n\n\n\nEscuela dominical para niños (bilingüe)Donde tus niños también aprenderán enseñanzas positivas y practicas para la vida.Edificio de educación (edificio a la izquierda de la pirámide) \n\n\n\nEscuela dominical para niños de 9:45 am a 10:45 am para mas información envia un correo a skrugler@unityhouston.org \n\n\n\n\n\n\n\nPresencial y transmisión en vivo  https://www.facebook.com/UnityHoustonEnEspanol/
URL:https://unityhouston.org/event/servicio-en-espanol-21-de-diciembre/
LOCATION:Unity of Houston – Pyramid\, 2929 Unity Drive\, Houston\, 77057\, United States
CATEGORIES:En Espanol,Master Calendar,Servicio,Upcoming Events - On Home Page
ATTACH;FMTTYPE=image/jpeg:https://unityhouston.org/wp-content/uploads/2025/11/2025_1221-UHE-IG.jpg
ORGANIZER;CN="Rev. Claudia Olmos":MAILTO:colmos@unityhouston.org
GEO:29.7342875;-95.4990143
X-APPLE-STRUCTURED-LOCATION;VALUE=URI;X-ADDRESS=Unity of Houston – Pyramid 2929 Unity Drive Houston 77057 United States;X-APPLE-RADIUS=500;X-TITLE=2929 Unity Drive:geo:-95.4990143,29.7342875
END:VEVENT
BEGIN:VEVENT
DTSTART;TZID=America/Chicago:20251228T094500
DTEND;TZID=America/Chicago:20251228T104500
DTSTAMP:20260421T110810
CREATED:20251120T215859Z
LAST-MODIFIED:20251210T155605Z
UID:10007410-1766915100-1766918700@unityhouston.org
SUMMARY:Servicio en Español - 28 de diciembre          
DESCRIPTION: “Liberándo el Pasado\, Recibiendo lo nuevo” \n\n\n\n(Ceremonias del tazón ardiente y la piedra blanca)  \n\n\n\nRev. Claudia Olmos \n\n\n\nEn la Ceremonia del Tazón Ardiente\, después de una meditación reflexiva\, liberaremos todo aquello que ya no nos sirve\, entregándolo al fuego de la transformación y la purificación para dar inicio a un nuevo año con energía renovada.  \n\n\n\nLuego pasaremos a la Ceremonia de la Piedra Blanca\, un momento sagrado en el que descubrirás tu intención para el Año Nuevo. A través de una meditación profunda\, recibirás una palabra que escribirás en una piedra blanca de Jerusalén. Esta palabra representará un mensaje especial que guiará tu propósito e intención para este nuevo comienzo.  \n\n\n\n¡Te invitamos a unirte este domingo!  \n\n\n\n\n\n\n\nEscuela dominical para niños (bilingüe)Donde tus niños también aprenderán enseñanzas positivas y practicas para la vida.Edificio de educación (edificio a la izquierda de la pirámide) \n\n\n\nEscuela dominical para niños de 9:45 am a 10:45 am para mas información envia un correo a skrugler@unityhouston.org \n\n\n\n\n\n\n\nPresencial y transmisión en vivo  https://www.facebook.com/UnityHoustonEnEspanol/
URL:https://unityhouston.org/event/servicio-en-espanol-28-de-diciembre/
LOCATION:Unity of Houston – Pyramid\, 2929 Unity Drive\, Houston\, 77057\, United States
CATEGORIES:En Espanol,Master Calendar,Servicio,Upcoming Events - On Home Page
ATTACH;FMTTYPE=image/jpeg:https://unityhouston.org/wp-content/uploads/2025/11/2025_1228-UHE-IG-R.jpg
ORGANIZER;CN="Rev. Claudia Olmos":MAILTO:colmos@unityhouston.org
GEO:29.7342875;-95.4990143
X-APPLE-STRUCTURED-LOCATION;VALUE=URI;X-ADDRESS=Unity of Houston – Pyramid 2929 Unity Drive Houston 77057 United States;X-APPLE-RADIUS=500;X-TITLE=2929 Unity Drive:geo:-95.4990143,29.7342875
END:VEVENT
END:VCALENDAR