BEGIN:VCALENDAR
VERSION:2.0
PRODID:-//Unity of Houston - ECPv6.13.2.1//NONSGML v1.0//EN
CALSCALE:GREGORIAN
METHOD:PUBLISH
X-ORIGINAL-URL:https://unityhouston.org
X-WR-CALDESC:Events for Unity of Houston
REFRESH-INTERVAL;VALUE=DURATION:PT1H
X-Robots-Tag:noindex
X-PUBLISHED-TTL:PT1H
BEGIN:VTIMEZONE
TZID:America/Chicago
BEGIN:DAYLIGHT
TZOFFSETFROM:-0600
TZOFFSETTO:-0500
TZNAME:CDT
DTSTART:20250309T080000
END:DAYLIGHT
BEGIN:STANDARD
TZOFFSETFROM:-0500
TZOFFSETTO:-0600
TZNAME:CST
DTSTART:20251102T070000
END:STANDARD
END:VTIMEZONE
BEGIN:VEVENT
DTSTART;TZID=America/Chicago:20250907T094500
DTEND;TZID=America/Chicago:20250907T104500
DTSTAMP:20260421T152926
CREATED:20250825T124629Z
LAST-MODIFIED:20250825T164905Z
UID:10007251-1757238300-1757241900@unityhouston.org
SUMMARY:Servicio en Español - 7 de septiembre      
DESCRIPTION:“Sanación espiritual: La búsqueda de la totalidad interior”\n\n\n\nRev. Claudia Olmos  \n\n\n\nEn su libro The Quest for Wholeness\, Robert Brumet nos recuerda que somos seres espirituales viviendo una experiencia humana. Muchas veces nos limitamos por el dolor\, los errores o las dificultades\, sin darnos cuenta de que nuestra verdadera esencia es la vida divina que fluye dentro de nosotros.  \n\n\n\nLa sanación espiritual comienza cuando aceptamos quienes somos en este momento y nos conectamos con la fuente de amor y luz que nos habita. Al hacerlo\, podemos liberarnos de viejas limitaciones\, abrirnos a la transformación profunda y vivir desde nuestra plenitud interior.  \n\n\n\nTe invitamos a explorar tu verdadero ser\, conectarte con tu espíritu y permitir que tu luz interior brille en cada aspecto de tu vida.  \n\n\n\nSe requieren máscaras para sentarse en el balcón. \n\n\n\n\n\n\n\nPresencial y transmisión en vivo  https://www.facebook.com/UnityHoustonEnEspanol/
URL:https://unityhouston.org/event/servicio-en-espanol-7-de-septiembre/
LOCATION:Unity of Houston – Pyramid\, 2929 Unity Drive\, Houston\, 77057\, United States
CATEGORIES:En Espanol,Master Calendar,Servicio,Upcoming Events - On Home Page
ATTACH;FMTTYPE=image/jpeg:https://unityhouston.org/wp-content/uploads/2025/08/2025_0907-UHE-IG.jpg
ORGANIZER;CN="Rev. Claudia Olmos":MAILTO:colmos@unityhouston.org
GEO:29.7342875;-95.4990143
X-APPLE-STRUCTURED-LOCATION;VALUE=URI;X-ADDRESS=Unity of Houston – Pyramid 2929 Unity Drive Houston 77057 United States;X-APPLE-RADIUS=500;X-TITLE=2929 Unity Drive:geo:-95.4990143,29.7342875
END:VEVENT
BEGIN:VEVENT
DTSTART;TZID=America/Chicago:20250909T183000
DTEND;TZID=America/Chicago:20250909T203000
DTSTAMP:20260421T152926
CREATED:20250903T231515Z
LAST-MODIFIED:20250904T140650Z
UID:10007259-1757442600-1757449800@unityhouston.org
SUMMARY:Latinas Unidas en la Luz - 9 de septiembre
DESCRIPTION:“Mi cuerpo mi verdad mi poder”\n\n\n\nFacilitado por Claudia Somarriba \n\n\n\n\n\nNuestras reuniones de Latinas Unidas en la Luz inician con un espacio de conexión y convivencia\, donde compartimos presencia y algunos bocadillos estilo “potluck”. Te invitamos a traer un platillo para compartir con las demás participantes y así enriquecer juntas este tiempo especial. \n\n\n\nEl sobrepeso no es solo exceso de grasa: es un mensaje profundo del alma. Desde la descodificación biológica\, exploramos cómo el cuerpo grita lo que la boca calla: miedo\, carencias\, desvalorización\, necesidad de protección. Esta plática es una invitación a mirar el cuerpo como aliado\, y al síntoma como guía. A través de herramientas terapéuticas y simbólicas\, aprenderás a transformar el peso en poder\, la culpa en conciencia y la historia en libertad. Una experiencia íntima y reveladora para mujeres que desean soltar cargas y reconectar con su verdadera fuerza interior. \n\n\n\nBiografia de Claudia Somarriba: Fundadora de New Vision\, terapeuta en Hipnosis Clínica Psicosomática\, Descodificación Biológica y Constelaciones Familiares. Con más de 10 años de experiencia acompañando procesos de transformación emocional\, Claudia integra herramientas como hipnosis\, coaching integrativo y biología del cuerpo para sanar desde la raíz. Está certificada internacionalmente por el Noebo Institute en Barcelona\, la IAW de España y Hay House. Ha guiado talleres en EE.UU. y Latinoamérica\, y es reconocida por su calidez\, profundidad y enfoque simbólico. \n\n\n\nDonación amorosa. PayPal   \n\n\n\n\n\n\n\n\n\n\n\nPara más información contactar a Rev. Claudia Olmos enviando un email a colmos@unityhouston.org
URL:https://unityhouston.org/event/latinas-unidas-en-la-luz-9-se-septiembre/
LOCATION:Unity of Houston – Wallet Hall\, 2929 Unity Drive\, Houston\, 77057\, United States
CATEGORIES:En Espanol,Latinas Unidas,Master Calendar,Upcoming Events - On Home Page
ATTACH;FMTTYPE=image/jpeg:https://unityhouston.org/wp-content/uploads/2024/06/UOH-Latinas-Unidas-en-la-Luz-1000x1000-1.jpg
GEO:29.7342875;-95.4990143
X-APPLE-STRUCTURED-LOCATION;VALUE=URI;X-ADDRESS=Unity of Houston – Wallet Hall 2929 Unity Drive Houston 77057 United States;X-APPLE-RADIUS=500;X-TITLE=2929 Unity Drive:geo:-95.4990143,29.7342875
END:VEVENT
BEGIN:VEVENT
DTSTART;TZID=America/Chicago:20250911T193000
DTEND;TZID=America/Chicago:20250911T203000
DTSTAMP:20260421T152926
CREATED:20250903T180844Z
LAST-MODIFIED:20250909T155906Z
UID:10007257-1757619000-1757622600@unityhouston.org
SUMMARY:Día de Oración Mundial 
DESCRIPTION:Con mucho cariño te invitamos a unirte a nuestro círculo de oración y meditación guiada\, este jueves 11 de septiembre\, en honor al Día Mundial de Oración. Estaremos juntos a través de Zoom. \n\n\n\n“Cuando oramos unidos\, encendemos una luz que ilumina al mundo entero.”  \n\n\n\nEnvía tu petición de oración aquí \n\n\n\nHaga clic aquí para ingresar a la reunión de Zoom.
URL:https://unityhouston.org/event/dia-de-oracion-mundial/
LOCATION:Zoom\, TX\, United States
CATEGORIES:__More Classes,En Espanol,Upcoming Events - On Home Page
ATTACH;FMTTYPE=image/jpeg:https://unityhouston.org/wp-content/uploads/2025/09/WDP-2025-Spanish.jpg
GEO:31.9685988;-99.9018131
END:VEVENT
BEGIN:VEVENT
DTSTART;TZID=America/Chicago:20250914T094500
DTEND;TZID=America/Chicago:20250914T104500
DTSTAMP:20260421T152926
CREATED:20250825T124902Z
LAST-MODIFIED:20250904T174836Z
UID:10007252-1757843100-1757846700@unityhouston.org
SUMMARY:Servicio en Español - 14 de septiembre      
DESCRIPTION:“La Plenitud: El Viaje y el Destino”\n\n\n\nRev. Claudia Olmos  \n\n\n\nEste domingo exploraremos la plenitud como un viaje dinámico\, no como un estado fijo. La verdadera plenitud surge al abrazar todos los aspectos de nosotros mismos—físico\, mental y espiritual—y armonizarlos en un todo integrado.  \n\n\n\nRobert Brumet nos recuerda que este camino requiere autoconciencia\, responsabilidad personal y aceptación de nuestras imperfecciones\, transformando nuestras limitaciones en oportunidades de crecimiento y autoconocimiento.  \n\n\n\nAl conectarnos con nuestra esencia espiritual\, podemos experimentar paz interior\, transformación y una conexión más profunda con lo divino. La plenitud es tanto el destino que buscamos como el camino que recorremos cada día.  \n\n\n\nTe invitamos a acompañarnos este domingo para explorar juntos este camino hacia la plenitud y descubrir nuevas formas de vivir en armonía con nuestra esencia espiritual.  \n\n\n\nSe requieren máscaras para sentarse en el balcón. \n\n\n\n\n\n\n\nPresencial y transmisión en vivo  https://www.facebook.com/UnityHoustonEnEspanol/
URL:https://unityhouston.org/event/servicio-en-espanol-14-de-septiembre/
LOCATION:Unity of Houston – Pyramid\, 2929 Unity Drive\, Houston\, 77057\, United States
CATEGORIES:En Espanol,Master Calendar,Servicio,Upcoming Events - On Home Page
ATTACH;FMTTYPE=image/jpeg:https://unityhouston.org/wp-content/uploads/2025/08/2025_0914-UHE-IG.jpg
ORGANIZER;CN="Rev. Claudia Olmos":MAILTO:colmos@unityhouston.org
GEO:29.7342875;-95.4990143
X-APPLE-STRUCTURED-LOCATION;VALUE=URI;X-ADDRESS=Unity of Houston – Pyramid 2929 Unity Drive Houston 77057 United States;X-APPLE-RADIUS=500;X-TITLE=2929 Unity Drive:geo:-95.4990143,29.7342875
END:VEVENT
BEGIN:VEVENT
DTSTART;TZID=America/Chicago:20250921T094500
DTEND;TZID=America/Chicago:20250921T104500
DTSTAMP:20260421T152926
CREATED:20250825T125244Z
LAST-MODIFIED:20250918T180808Z
UID:10007253-1758447900-1758451500@unityhouston.org
SUMMARY:Servicio en Español - 21 de septiembre      
DESCRIPTION:Celebrando la Herencia\, el Espíritu y la Unidad \n\n\n\nRev. Claudia Olmos  \n\n\n\nEste domingo\, en el marco del Mes de la Herencia Hispana\, celebramos la riqueza\, la resiliencia y la fe de las comunidades hispanas. Nuestras tradiciones\, historias\, música y valores no son solo un tesoro cultural\, sino también un regalo espiritual que refleja la luz divina que habita en nosotros.  \n\n\n\nPodemos inspirarnos en la historia de Pentecostés (Hechos 2:1-12). En ese día\, el Espíritu Santo permitió que los discípulos hablaran en muchos idiomas\, para que personas de todas las naciones pudieran escuchar y comprender el mensaje del amor de Dios. Así como el Espíritu celebró la diversidad y la unidad\, nuestra herencia cultural nos recuerda que nuestras diferencias enriquecen el cuerpo de Cristo y nos acercan como comunidad espiritual.  \n\n\n\nQue este mes nos inspire a abrazar nuestra herencia con orgullo\, compartir nuestros dones libremente y celebrar el Espíritu actuando a través de nosotros y de nuestras comunidades. Al honrar nuestras raíces y alzar nuestras voces juntos\, reflejamos la belleza del amor de Dios en cada idioma\, cada tradición y cada corazón. \n\n\n\nTe invitamos a acompañarnos este domingo para reflexionar juntos sobre la herencia\, la unidad y la acción del Espíritu en nuestras vidas. Además\, te animamos a venir vestido con un traje típico de tu país para participar en el servicio bilingüe de las 11:00 a.m.\, donde celebraremos nuestra unidad en Unity.  \n\n\n\n Al salir tendremos la presencia del Ballet Folklorico del Consulado Mexicano de Houston\, en el patio.  \n\n\n\n\n\n\n\nEscuela dominical para niños (bilingüe)Donde tus niños también aprenderán enseñanzas positivas y practicas para la vida.Edificio de educación (edificio a la izquierda de la pirámide) \n\n\n\nEscuela dominical para niños de 9:45 am a 10:45 am para mas información envia un correo a skrugler@unityhouston.org \n\n\n\n\n\n\n\nPresencial y transmisión en vivo  https://www.facebook.com/UnityHoustonEnEspanol/
URL:https://unityhouston.org/event/servicio-en-espanol-21-de-septiembre/
LOCATION:Unity of Houston – Pyramid\, 2929 Unity Drive\, Houston\, 77057\, United States
CATEGORIES:En Espanol,Master Calendar,Servicio,Upcoming Events - On Home Page
ATTACH;FMTTYPE=image/jpeg:https://unityhouston.org/wp-content/uploads/2025/08/2025_0914-UHE-IG.jpg
ORGANIZER;CN="Rev. Claudia Olmos":MAILTO:colmos@unityhouston.org
GEO:29.7342875;-95.4990143
X-APPLE-STRUCTURED-LOCATION;VALUE=URI;X-ADDRESS=Unity of Houston – Pyramid 2929 Unity Drive Houston 77057 United States;X-APPLE-RADIUS=500;X-TITLE=2929 Unity Drive:geo:-95.4990143,29.7342875
END:VEVENT
BEGIN:VEVENT
DTSTART;TZID=America/Chicago:20250928T094500
DTEND;TZID=America/Chicago:20250928T104500
DTSTAMP:20260421T152926
CREATED:20250916T182224Z
LAST-MODIFIED:20250918T181241Z
UID:10007285-1759052700-1759056300@unityhouston.org
SUMMARY:Servicio en Español - 28 de septiembre      
DESCRIPTION:“El Poder de la Oración Afirmativa” \n\n\n\nRicardo Villamar  \n\n\n\n¿Es la respuesta a nuestras oraciones simple coincidencia? ¿Por qué algunas parecen no tener efecto? En este mensaje exploraremos qué es verdaderamente la oración\, cómo actúa en nuestra mente y en nuestra vida\, y de qué manera se convierte en una fuerza creadora ilimitada.   \n\n\n\nTe invitamos a que que nos acompañes este domingo y así descubrir la profundidad y el alcance del poder transformador de la oración afirmativa\, juntos.  \n\n\n\n\n\n\n\nEscuela dominical para niños (bilingüe)Donde tus niños también aprenderán enseñanzas positivas y practicas para la vida.Edificio de educación (edificio a la izquierda de la pirámide) \n\n\n\nEscuela dominical para niños de 9:45 am a 10:45 am para mas información envia un correo a skrugler@unityhouston.org \n\n\n\n\n\n\n\nPresencial y transmisión en vivo  https://www.facebook.com/UnityHoustonEnEspanol/
URL:https://unityhouston.org/event/servicio-en-espanol-28-de-septiembre/
LOCATION:Unity of Houston – Pyramid\, 2929 Unity Drive\, Houston\, 77057\, United States
CATEGORIES:En Espanol,Master Calendar,Servicio,Upcoming Events - On Home Page
ATTACH;FMTTYPE=image/jpeg:https://unityhouston.org/wp-content/uploads/2025/09/2025_0928-UHE-IG-1.jpg
ORGANIZER;CN="Rev. Claudia Olmos":MAILTO:colmos@unityhouston.org
GEO:29.7342875;-95.4990143
X-APPLE-STRUCTURED-LOCATION;VALUE=URI;X-ADDRESS=Unity of Houston – Pyramid 2929 Unity Drive Houston 77057 United States;X-APPLE-RADIUS=500;X-TITLE=2929 Unity Drive:geo:-95.4990143,29.7342875
END:VEVENT
END:VCALENDAR